| Back to Multiple platform build/check report for BioC 3.14 |
|
This page was generated on 2022-04-13 12:06:38 -0400 (Wed, 13 Apr 2022).
| Hostname | OS | Arch (*) | R version | Installed pkgs |
|---|---|---|---|---|
| nebbiolo2 | Linux (Ubuntu 20.04.4 LTS) | x86_64 | 4.1.3 (2022-03-10) -- "One Push-Up" | 4324 |
| tokay2 | Windows Server 2012 R2 Standard | x64 | 4.1.3 (2022-03-10) -- "One Push-Up" | 4077 |
| machv2 | macOS 10.14.6 Mojave | x86_64 | 4.1.3 (2022-03-10) -- "One Push-Up" | 4137 |
| Click on any hostname to see more info about the system (e.g. compilers) (*) as reported by 'uname -p', except on Windows and Mac OS X | ||||
|
To the developers/maintainers of the ggcyto package: - Please allow up to 24 hours (and sometimes 48 hours) for your latest push to git@git.bioconductor.org:packages/ggcyto.git to reflect on this report. See How and When does the builder pull? When will my changes propagate? for more information. - Make sure to use the following settings in order to reproduce any error or warning you see on this page. |
| Package 776/2083 | Hostname | OS / Arch | INSTALL | BUILD | CHECK | BUILD BIN | ||||||||
| ggcyto 1.22.0 (landing page) Mike Jiang
| nebbiolo2 | Linux (Ubuntu 20.04.4 LTS) / x86_64 | OK | OK | OK | |||||||||
| tokay2 | Windows Server 2012 R2 Standard / x64 | OK | OK | OK | OK | |||||||||
| machv2 | macOS 10.14.6 Mojave / x86_64 | OK | OK | OK | OK | |||||||||
| Package: ggcyto |
| Version: 1.22.0 |
| Command: rm -rf ggcyto.buildbin-libdir && mkdir ggcyto.buildbin-libdir && C:\Users\biocbuild\bbs-3.14-bioc\R\bin\R.exe CMD INSTALL --merge-multiarch --build --library=ggcyto.buildbin-libdir ggcyto_1.22.0.tar.gz |
| StartedAt: 2022-04-13 06:20:07 -0400 (Wed, 13 Apr 2022) |
| EndedAt: 2022-04-13 06:21:02 -0400 (Wed, 13 Apr 2022) |
| EllapsedTime: 54.9 seconds |
| RetCode: 0 |
| Status: OK |
| PackageFile: ggcyto_1.22.0.zip |
| PackageFileSize: 2.459 MiB |
##############################################################################
##############################################################################
###
### Running command:
###
### rm -rf ggcyto.buildbin-libdir && mkdir ggcyto.buildbin-libdir && C:\Users\biocbuild\bbs-3.14-bioc\R\bin\R.exe CMD INSTALL --merge-multiarch --build --library=ggcyto.buildbin-libdir ggcyto_1.22.0.tar.gz
###
##############################################################################
##############################################################################
install for i386
* installing *source* package 'ggcyto' ...
** using staged installation
** R
** inst
** byte-compile and prepare package for lazy loading
** help
*** installing help indices
converting help for package 'ggcyto'
finding HTML links ... done
as.ggplot html
autoplot html
finding level-2 HTML links ... done
axis_x_inverse_trans html
compute_stats html
flowCore_asinht_trans html
fortify.ellipsoidGate html
fortify.filterList html
fortify.flowSet html
fortify.polygonGate html
fortify.rectangleGate html
fortify_fs html
gate_null html
geom_gate html
geom_hvline html
geom_overlay html
geom_stats html
getFlowFrame html
ggcyto html
ggcyto_add html
ggcyto_arrange html
ggcyto_par_default html
ggcyto_par_set html
is.ggcyto html
is.ggcyto_flowSet html
is.ggcyto_par html
labs_cyto html
marginalFilter html
merge.quad.gates html
print.ggcyto html
print.ggcyto_GatingLayout html
replace_data html
scale_x_flowCore_fasinh html
scale_x_logicle html
scales_flowjo_biexp html
REDIRECT:topic Previous alias or file overwritten by alias: C:/Users/biocbuild/bbs-3.14-bioc/meat/ggcyto.buildbin-libdir/00LOCK-ggcyto/00new/ggcyto/help/scale_x_flowJo_biexp.html
REDIRECT:topic Previous alias or file overwritten by alias: C:/Users/biocbuild/bbs-3.14-bioc/meat/ggcyto.buildbin-libdir/00LOCK-ggcyto/00new/ggcyto/help/scale_y_flowJo_biexp.html
scales_flowjo_fasinh html
REDIRECT:topic Previous alias or file overwritten by alias: C:/Users/biocbuild/bbs-3.14-bioc/meat/ggcyto.buildbin-libdir/00LOCK-ggcyto/00new/ggcyto/help/scale_x_flowJo_fasinh.html
REDIRECT:topic Previous alias or file overwritten by alias: C:/Users/biocbuild/bbs-3.14-bioc/meat/ggcyto.buildbin-libdir/00LOCK-ggcyto/00new/ggcyto/help/scale_y_flowJo_fasinh.html
stat_position html
stats_null html
transform-gate html
*** copying figures
** building package indices
** installing vignettes
** testing if installed package can be loaded from temporary location
** testing if installed package can be loaded from final location
** testing if installed package keeps a record of temporary installation path
install for x64
* installing *source* package 'ggcyto' ...
** testing if installed package can be loaded
* MD5 sums
packaged installation of 'ggcyto' as ggcyto_1.22.0.zip
* DONE (ggcyto)