| Back to Multiple platform build/check report for BioC 3.14 |
|
This page was generated on 2022-04-13 12:06:37 -0400 (Wed, 13 Apr 2022).
| Hostname | OS | Arch (*) | R version | Installed pkgs |
|---|---|---|---|---|
| nebbiolo2 | Linux (Ubuntu 20.04.4 LTS) | x86_64 | 4.1.3 (2022-03-10) -- "One Push-Up" | 4324 |
| tokay2 | Windows Server 2012 R2 Standard | x64 | 4.1.3 (2022-03-10) -- "One Push-Up" | 4077 |
| machv2 | macOS 10.14.6 Mojave | x86_64 | 4.1.3 (2022-03-10) -- "One Push-Up" | 4137 |
| Click on any hostname to see more info about the system (e.g. compilers) (*) as reported by 'uname -p', except on Windows and Mac OS X | ||||
|
To the developers/maintainers of the genphen package: - Please allow up to 24 hours (and sometimes 48 hours) for your latest push to git@git.bioconductor.org:packages/genphen.git to reflect on this report. See How and When does the builder pull? When will my changes propagate? for more information. - Make sure to use the following settings in order to reproduce any error or warning you see on this page. |
| Package 761/2083 | Hostname | OS / Arch | INSTALL | BUILD | CHECK | BUILD BIN | ||||||||
| genphen 1.22.0 (landing page) Simo Kitanovski
| nebbiolo2 | Linux (Ubuntu 20.04.4 LTS) / x86_64 | OK | OK | OK | |||||||||
| tokay2 | Windows Server 2012 R2 Standard / x64 | OK | ERROR | skipped | skipped | |||||||||
| machv2 | macOS 10.14.6 Mojave / x86_64 | OK | OK | OK | OK | |||||||||
| Package: genphen |
| Version: 1.22.0 |
| Command: C:\cygwin\bin\curl.exe -O http://155.52.207.166/BBS/3.14/bioc/src/contrib/genphen_1.22.0.tar.gz && rm -rf genphen.buildbin-libdir && mkdir genphen.buildbin-libdir && C:\Users\biocbuild\bbs-3.14-bioc\R\bin\R.exe CMD INSTALL --merge-multiarch --build --library=genphen.buildbin-libdir genphen_1.22.0.tar.gz && C:\Users\biocbuild\bbs-3.14-bioc\R\bin\R.exe CMD INSTALL genphen_1.22.0.zip && rm genphen_1.22.0.tar.gz genphen_1.22.0.zip |
| StartedAt: 2022-04-12 04:53:31 -0400 (Tue, 12 Apr 2022) |
| EndedAt: 2022-04-12 04:55:08 -0400 (Tue, 12 Apr 2022) |
| EllapsedTime: 97.4 seconds |
| RetCode: 0 |
| Status: OK |
##############################################################################
##############################################################################
###
### Running command:
###
### C:\cygwin\bin\curl.exe -O http://155.52.207.166/BBS/3.14/bioc/src/contrib/genphen_1.22.0.tar.gz && rm -rf genphen.buildbin-libdir && mkdir genphen.buildbin-libdir && C:\Users\biocbuild\bbs-3.14-bioc\R\bin\R.exe CMD INSTALL --merge-multiarch --build --library=genphen.buildbin-libdir genphen_1.22.0.tar.gz && C:\Users\biocbuild\bbs-3.14-bioc\R\bin\R.exe CMD INSTALL genphen_1.22.0.zip && rm genphen_1.22.0.tar.gz genphen_1.22.0.zip
###
##############################################################################
##############################################################################
% Total % Received % Xferd Average Speed Time Time Time Current
Dload Upload Total Spent Left Speed
0 0 0 0 0 0 0 0 --:--:-- --:--:-- --:--:-- 0
19 54500 19 10685 0 0 79970 0 --:--:-- --:--:-- --:--:-- 79738
100 54500 100 54500 0 0 110k 0 --:--:-- --:--:-- --:--:-- 110k
install for i386
* installing *source* package 'genphen' ...
** using staged installation
** R
** data
** inst
** byte-compile and prepare package for lazy loading
** help
*** installing help indices
converting help for package 'genphen'
finding HTML links ... done
dichotomous.phenotype.saap html
genotype.saap html
genotype.saap.msa html
genotype.snp html
genotype.snp.msa html
phenotype.saap html
phenotype.snp html
runDiagnostics html
runGenphen html
runPhyloBiasCheck html
** building package indices
** installing vignettes
** testing if installed package can be loaded from temporary location
** testing if installed package can be loaded from final location
** testing if installed package keeps a record of temporary installation path
install for x64
* installing *source* package 'genphen' ...
** testing if installed package can be loaded
* MD5 sums
packaged installation of 'genphen' as genphen_1.22.0.zip
* DONE (genphen)
* installing to library 'C:/Users/biocbuild/bbs-3.14-bioc/R/library'
package 'genphen' successfully unpacked and MD5 sums checked