| Back to Multiple platform build/check report for BioC 3.14 |
|
This page was generated on 2022-04-13 12:06:37 -0400 (Wed, 13 Apr 2022).
| Hostname | OS | Arch (*) | R version | Installed pkgs |
|---|---|---|---|---|
| nebbiolo2 | Linux (Ubuntu 20.04.4 LTS) | x86_64 | 4.1.3 (2022-03-10) -- "One Push-Up" | 4324 |
| tokay2 | Windows Server 2012 R2 Standard | x64 | 4.1.3 (2022-03-10) -- "One Push-Up" | 4077 |
| machv2 | macOS 10.14.6 Mojave | x86_64 | 4.1.3 (2022-03-10) -- "One Push-Up" | 4137 |
| Click on any hostname to see more info about the system (e.g. compilers) (*) as reported by 'uname -p', except on Windows and Mac OS X | ||||
|
To the developers/maintainers of the genomeIntervals package: - Please allow up to 24 hours (and sometimes 48 hours) for your latest push to git@git.bioconductor.org:packages/genomeIntervals.git to reflect on this report. See How and When does the builder pull? When will my changes propagate? for more information. - Make sure to use the following settings in order to reproduce any error or warning you see on this page. |
| Package 746/2083 | Hostname | OS / Arch | INSTALL | BUILD | CHECK | BUILD BIN | ||||||||
| genomeIntervals 1.50.0 (landing page) Julien Gagneur
| nebbiolo2 | Linux (Ubuntu 20.04.4 LTS) / x86_64 | OK | OK | OK | |||||||||
| tokay2 | Windows Server 2012 R2 Standard / x64 | OK | OK | OK | OK | |||||||||
| machv2 | macOS 10.14.6 Mojave / x86_64 | OK | OK | OK | OK | |||||||||
| Package: genomeIntervals |
| Version: 1.50.0 |
| Command: C:\cygwin\bin\curl.exe -O http://155.52.207.166/BBS/3.14/bioc/src/contrib/genomeIntervals_1.50.0.tar.gz && rm -rf genomeIntervals.buildbin-libdir && mkdir genomeIntervals.buildbin-libdir && C:\Users\biocbuild\bbs-3.14-bioc\R\bin\R.exe CMD INSTALL --merge-multiarch --build --library=genomeIntervals.buildbin-libdir genomeIntervals_1.50.0.tar.gz && C:\Users\biocbuild\bbs-3.14-bioc\R\bin\R.exe CMD INSTALL genomeIntervals_1.50.0.zip && rm genomeIntervals_1.50.0.tar.gz genomeIntervals_1.50.0.zip |
| StartedAt: 2022-04-12 05:01:55 -0400 (Tue, 12 Apr 2022) |
| EndedAt: 2022-04-12 05:04:03 -0400 (Tue, 12 Apr 2022) |
| EllapsedTime: 128.3 seconds |
| RetCode: 0 |
| Status: OK |
##############################################################################
##############################################################################
###
### Running command:
###
### C:\cygwin\bin\curl.exe -O http://155.52.207.166/BBS/3.14/bioc/src/contrib/genomeIntervals_1.50.0.tar.gz && rm -rf genomeIntervals.buildbin-libdir && mkdir genomeIntervals.buildbin-libdir && C:\Users\biocbuild\bbs-3.14-bioc\R\bin\R.exe CMD INSTALL --merge-multiarch --build --library=genomeIntervals.buildbin-libdir genomeIntervals_1.50.0.tar.gz && C:\Users\biocbuild\bbs-3.14-bioc\R\bin\R.exe CMD INSTALL genomeIntervals_1.50.0.zip && rm genomeIntervals_1.50.0.tar.gz genomeIntervals_1.50.0.zip
###
##############################################################################
##############################################################################
% Total % Received % Xferd Average Speed Time Time Time Current
Dload Upload Total Spent Left Speed
0 0 0 0 0 0 0 0 --:--:-- --:--:-- --:--:-- 0
41 38804 41 15991 0 0 130k 0 --:--:-- --:--:-- --:--:-- 131k
100 38804 100 38804 0 0 316k 0 --:--:-- --:--:-- --:--:-- 315k
install for i386
* installing *source* package 'genomeIntervals' ...
** using staged installation
** R
** data
** inst
** byte-compile and prepare package for lazy loading
** help
*** installing help indices
converting help for package 'genomeIntervals'
finding HTML links ... done
GenomeIntervals-constructor html
Genome_intervals-class html
finding level-2 HTML links ... done
Genome_intervals-coercion-methods html
Genome_intervals-deprecated html
Genome_intervals-ordering html
Genome_intervals_stranded-class html
c.Genome_intervals html
core_annotated html
distance_to_nearest-methods html
gen_ints html
genomeIntervals-package html
REDIRECT:topic Previous alias or file overwritten by alias: C:/Users/biocbuild/bbs-3.14-bioc/meat/genomeIntervals.buildbin-libdir/00LOCK-genomeIntervals/00new/genomeIntervals/help/genomeIntervals.html
genomeIntervals-readGff3 html
getGffAttribute html
interval_overlap-methods html
interval_set_operations-methods html
parseGffAttributes html
** building package indices
** installing vignettes
** testing if installed package can be loaded from temporary location
** testing if installed package can be loaded from final location
** testing if installed package keeps a record of temporary installation path
install for x64
* installing *source* package 'genomeIntervals' ...
** testing if installed package can be loaded
* MD5 sums
packaged installation of 'genomeIntervals' as genomeIntervals_1.50.0.zip
* DONE (genomeIntervals)
* installing to library 'C:/Users/biocbuild/bbs-3.14-bioc/R/library'
package 'genomeIntervals' successfully unpacked and MD5 sums checked