| Back to Multiple platform build/check report for BioC 3.14 |
|
This page was generated on 2022-04-13 12:08:03 -0400 (Wed, 13 Apr 2022).
| Hostname | OS | Arch (*) | R version | Installed pkgs |
|---|---|---|---|---|
| nebbiolo2 | Linux (Ubuntu 20.04.4 LTS) | x86_64 | 4.1.3 (2022-03-10) -- "One Push-Up" | 4324 |
| tokay2 | Windows Server 2012 R2 Standard | x64 | 4.1.3 (2022-03-10) -- "One Push-Up" | 4077 |
| machv2 | macOS 10.14.6 Mojave | x86_64 | 4.1.3 (2022-03-10) -- "One Push-Up" | 4137 |
| Click on any hostname to see more info about the system (e.g. compilers) (*) as reported by 'uname -p', except on Windows and Mac OS X | ||||
|
To the developers/maintainers of the genefu package: - Please allow up to 24 hours (and sometimes 48 hours) for your latest push to git@git.bioconductor.org:packages/genefu.git to reflect on this report. See How and When does the builder pull? When will my changes propagate? for more information. - Make sure to use the following settings in order to reproduce any error or warning you see on this page. |
| Package 723/2083 | Hostname | OS / Arch | INSTALL | BUILD | CHECK | BUILD BIN | ||||||||
| genefu 2.26.0 (landing page) Benjamin Haibe-Kains
| nebbiolo2 | Linux (Ubuntu 20.04.4 LTS) / x86_64 | OK | OK | OK | |||||||||
| tokay2 | Windows Server 2012 R2 Standard / x64 | OK | OK | OK | OK | |||||||||
| machv2 | macOS 10.14.6 Mojave / x86_64 | OK | OK | OK | OK | |||||||||
| Package: genefu |
| Version: 2.26.0 |
| Command: /Library/Frameworks/R.framework/Resources/bin/R CMD check --install=check:genefu.install-out.txt --library=/Library/Frameworks/R.framework/Resources/library --no-vignettes --timings genefu_2.26.0.tar.gz |
| StartedAt: 2022-04-12 13:33:49 -0400 (Tue, 12 Apr 2022) |
| EndedAt: 2022-04-12 13:37:58 -0400 (Tue, 12 Apr 2022) |
| EllapsedTime: 248.9 seconds |
| RetCode: 0 |
| Status: OK |
| CheckDir: genefu.Rcheck |
| Warnings: 0 |
##############################################################################
##############################################################################
###
### Running command:
###
### /Library/Frameworks/R.framework/Resources/bin/R CMD check --install=check:genefu.install-out.txt --library=/Library/Frameworks/R.framework/Resources/library --no-vignettes --timings genefu_2.26.0.tar.gz
###
##############################################################################
##############################################################################
* using log directory ‘/Users/biocbuild/bbs-3.14-bioc/meat/genefu.Rcheck’
* using R version 4.1.3 (2022-03-10)
* using platform: x86_64-apple-darwin17.0 (64-bit)
* using session charset: UTF-8
* using option ‘--no-vignettes’
* checking for file ‘genefu/DESCRIPTION’ ... OK
* checking extension type ... Package
* this is package ‘genefu’ version ‘2.26.0’
* package encoding: UTF-8
* checking package namespace information ... OK
* checking package dependencies ... OK
* checking if this is a source package ... OK
* checking if there is a namespace ... OK
* checking for hidden files and directories ... OK
* checking for portable file names ... OK
* checking for sufficient/correct file permissions ... OK
* checking whether package ‘genefu’ can be installed ... OK
* checking installed package size ... NOTE
installed size is 5.2Mb
sub-directories of 1Mb or more:
data 4.0Mb
* checking package directory ... OK
* checking ‘build’ directory ... OK
* checking DESCRIPTION meta-information ... OK
* checking top-level files ... OK
* checking for left-over files ... OK
* checking index information ... OK
* checking package subdirectories ... OK
* checking R files for non-ASCII characters ... OK
* checking R files for syntax errors ... OK
* checking whether the package can be loaded ... OK
* checking whether the package can be loaded with stated dependencies ... OK
* checking whether the package can be unloaded cleanly ... OK
* checking whether the namespace can be loaded with stated dependencies ... OK
* checking whether the namespace can be unloaded cleanly ... OK
* checking dependencies in R code ... NOTE
Packages in Depends field not imported from:
‘AIMS’ ‘biomaRt’ ‘iC10’
These packages need to be imported from (in the NAMESPACE file)
for when this namespace is loaded but not attached.
Unexported objects imported by ':::' calls:
‘mclust:::grid1’ ‘mclust:::grid2’
See the note in ?`:::` about the use of this operator.
* checking S3 generic/method consistency ... OK
* checking replacement functions ... OK
* checking foreign function calls ... OK
* checking R code for possible problems ... OK
* checking Rd files ... OK
* checking Rd metadata ... OK
* checking Rd cross-references ... OK
* checking for missing documentation entries ... OK
* checking for code/documentation mismatches ... OK
* checking Rd \usage sections ... OK
* checking Rd contents ... OK
* checking for unstated dependencies in examples ... OK
* checking contents of ‘data’ directory ... OK
* checking data for non-ASCII characters ... OK
* checking data for ASCII and uncompressed saves ... OK
* checking files in ‘vignettes’ ... OK
* checking examples ... OK
* checking for unstated dependencies in vignettes ... OK
* checking package vignettes in ‘inst/doc’ ... OK
* checking running R code from vignettes ... SKIPPED
* checking re-building of vignette outputs ... SKIPPED
* checking PDF version of manual ... OK
* DONE
Status: 2 NOTEs
See
‘/Users/biocbuild/bbs-3.14-bioc/meat/genefu.Rcheck/00check.log’
for details.
genefu.Rcheck/00install.out
############################################################################## ############################################################################## ### ### Running command: ### ### /Library/Frameworks/R.framework/Resources/bin/R CMD INSTALL genefu ### ############################################################################## ############################################################################## * installing to library ‘/Library/Frameworks/R.framework/Versions/4.1/Resources/library’ * installing *source* package ‘genefu’ ... ** using staged installation ** R ** data ** inst ** byte-compile and prepare package for lazy loading ** help *** installing help indices ** building package indices ** installing vignettes ** testing if installed package can be loaded from temporary location ** testing if installed package can be loaded from final location ** testing if installed package keeps a record of temporary installation path * DONE (genefu)
genefu.Rcheck/genefu-Ex.timings
| name | user | system | elapsed | |
| bimod | 0.340 | 0.016 | 0.356 | |
| boxplotplus2 | 0.012 | 0.001 | 0.013 | |
| claudinLow | 1.727 | 0.020 | 1.748 | |
| compareProtoCor | 1.437 | 0.020 | 1.458 | |
| compute.pairw.cor.meta | 1.943 | 0.040 | 1.985 | |
| compute.proto.cor.meta | 1.380 | 0.020 | 1.401 | |
| cordiff.dep | 0.170 | 0.004 | 0.175 | |
| endoPredict | 0.169 | 0.007 | 0.176 | |
| fuzzy.ttest | 0.209 | 0.015 | 0.225 | |
| gene70 | 0.371 | 0.014 | 0.386 | |
| gene76 | 0.164 | 0.007 | 0.171 | |
| geneid.map | 0.672 | 0.017 | 0.689 | |
| genius | 0.329 | 0.027 | 0.358 | |
| ggi | 0.183 | 0.009 | 0.193 | |
| ihc4 | 0.160 | 0.009 | 0.170 | |
| intrinsic.cluster | 0.630 | 0.019 | 0.629 | |
| intrinsic.cluster.predict | 0.256 | 0.009 | 0.266 | |
| map.datasets | 1.322 | 0.018 | 1.342 | |
| molecular.subtyping | 3.553 | 0.134 | 3.697 | |
| npi | 0.173 | 0.011 | 0.186 | |
| oncotypedx | 0.180 | 0.007 | 0.188 | |
| ovcAngiogenic | 0.187 | 0.009 | 0.198 | |
| ovcCrijns | 0.196 | 0.009 | 0.205 | |
| ovcTCGA | 0.432 | 0.007 | 0.439 | |
| ovcYoshihara | 0.190 | 0.006 | 0.196 | |
| pik3cags | 0.190 | 0.009 | 0.198 | |
| power.cor | 0.001 | 0.001 | 0.001 | |
| ps.cluster | 0.718 | 0.026 | 0.720 | |
| read.m.file | 0.035 | 0.004 | 0.039 | |
| rename.duplicate | 0.002 | 0.001 | 0.003 | |
| rescale | 0.337 | 0.008 | 0.345 | |
| rorS | 0.283 | 0.007 | 0.291 | |
| setcolclass.df | 0.003 | 0.000 | 0.003 | |
| sig.score | 0.185 | 0.006 | 0.192 | |
| spearmanCI | 0.000 | 0.001 | 0.001 | |
| st.gallen | 0.140 | 0.006 | 0.146 | |
| stab.fs | 0.132 | 0.002 | 0.134 | |
| stab.fs.ranking | 1.005 | 0.050 | 1.057 | |
| strescR | 0.001 | 0.000 | 0.001 | |
| subtype.cluster | 0.977 | 0.056 | 1.033 | |
| subtype.cluster.predict | 0.424 | 0.023 | 0.446 | |
| tamr13 | 0.188 | 0.010 | 0.198 | |
| tbrm | 0.001 | 0.000 | 0.001 | |
| weighted.meanvar | 0.000 | 0.001 | 0.001 | |
| write.m.file | 0.005 | 0.003 | 0.008 | |