| Back to Multiple platform build/check report for BioC 3.14 |
|
This page was generated on 2022-04-13 12:06:33 -0400 (Wed, 13 Apr 2022).
| Hostname | OS | Arch (*) | R version | Installed pkgs |
|---|---|---|---|---|
| nebbiolo2 | Linux (Ubuntu 20.04.4 LTS) | x86_64 | 4.1.3 (2022-03-10) -- "One Push-Up" | 4324 |
| tokay2 | Windows Server 2012 R2 Standard | x64 | 4.1.3 (2022-03-10) -- "One Push-Up" | 4077 |
| machv2 | macOS 10.14.6 Mojave | x86_64 | 4.1.3 (2022-03-10) -- "One Push-Up" | 4137 |
| Click on any hostname to see more info about the system (e.g. compilers) (*) as reported by 'uname -p', except on Windows and Mac OS X | ||||
|
To the developers/maintainers of the flowcatchR package: - Please allow up to 24 hours (and sometimes 48 hours) for your latest push to git@git.bioconductor.org:packages/flowcatchR.git to reflect on this report. See How and When does the builder pull? When will my changes propagate? for more information. - Make sure to use the following settings in order to reproduce any error or warning you see on this page. |
| Package 652/2083 | Hostname | OS / Arch | INSTALL | BUILD | CHECK | BUILD BIN | ||||||||
| flowcatchR 1.28.0 (landing page) Federico Marini
| nebbiolo2 | Linux (Ubuntu 20.04.4 LTS) / x86_64 | OK | OK | OK | |||||||||
| tokay2 | Windows Server 2012 R2 Standard / x64 | OK | OK | OK | OK | |||||||||
| machv2 | macOS 10.14.6 Mojave / x86_64 | OK | OK | OK | OK | |||||||||
| Package: flowcatchR |
| Version: 1.28.0 |
| Command: rm -rf flowcatchR.buildbin-libdir && mkdir flowcatchR.buildbin-libdir && C:\Users\biocbuild\bbs-3.14-bioc\R\bin\R.exe CMD INSTALL --merge-multiarch --build --library=flowcatchR.buildbin-libdir flowcatchR_1.28.0.tar.gz |
| StartedAt: 2022-04-13 06:13:31 -0400 (Wed, 13 Apr 2022) |
| EndedAt: 2022-04-13 06:14:17 -0400 (Wed, 13 Apr 2022) |
| EllapsedTime: 46.8 seconds |
| RetCode: 0 |
| Status: OK |
| PackageFile: flowcatchR_1.28.0.zip |
| PackageFileSize: 7.684 MiB |
##############################################################################
##############################################################################
###
### Running command:
###
### rm -rf flowcatchR.buildbin-libdir && mkdir flowcatchR.buildbin-libdir && C:\Users\biocbuild\bbs-3.14-bioc\R\bin\R.exe CMD INSTALL --merge-multiarch --build --library=flowcatchR.buildbin-libdir flowcatchR_1.28.0.tar.gz
###
##############################################################################
##############################################################################
install for i386
* installing *source* package 'flowcatchR' ...
** using staged installation
** R
** data
*** moving datasets to lazyload DB
** inst
** byte-compile and prepare package for lazy loading
** help
*** installing help indices
converting help for package 'flowcatchR'
finding HTML links ... done
Frames-class html
Frames html
KinematicsFeatures-class html
KinematicsFeaturesSet-class html
LinkedParticleSet-class html
MesenteriumSubset html
ParticleSet-class html
TrajectorySet-class html
add.contours html
addParticles html
axesInfo html
candidate.platelets html
channel.Frames html
computeMSD html
crop.Frames html
finding level-2 HTML links ... done
export.Frames html
export.particles html
extractKinematics.traj html
flowcatchR-pkg html
initialize.LinkedParticleSet html
inspect.Frames html
kinematics html
length.Frames html
link.particles html
matchTrajToParticles html
normalizeFrames html
particles html
penaltyFunctionGenerator html
plot.TrajectorySet html
plot2D.TrajectorySet html
preprocess.Frames html
read.Frames html
read.particles html
repmat html
rotate.Frames html
select.Frames html
select.particles html
shinyFlow html
show-Frames-method html
show-KinematicsFeatures-method html
show-KinematicsFeaturesSet-method html
show-LinkedParticleSet-method html
show-ParticleSet-method html
show-TrajectorySet-method html
snap html
toCartesianCoords html
toPolarCoords html
trajectories html
** building package indices
** installing vignettes
** testing if installed package can be loaded from temporary location
** testing if installed package can be loaded from final location
** testing if installed package keeps a record of temporary installation path
install for x64
* installing *source* package 'flowcatchR' ...
** testing if installed package can be loaded
* MD5 sums
packaged installation of 'flowcatchR' as flowcatchR_1.28.0.zip
* DONE (flowcatchR)