| Back to Multiple platform build/check report for BioC 3.14 |
|
This page was generated on 2022-04-13 12:06:34 -0400 (Wed, 13 Apr 2022).
| Hostname | OS | Arch (*) | R version | Installed pkgs |
|---|---|---|---|---|
| nebbiolo2 | Linux (Ubuntu 20.04.4 LTS) | x86_64 | 4.1.3 (2022-03-10) -- "One Push-Up" | 4324 |
| tokay2 | Windows Server 2012 R2 Standard | x64 | 4.1.3 (2022-03-10) -- "One Push-Up" | 4077 |
| machv2 | macOS 10.14.6 Mojave | x86_64 | 4.1.3 (2022-03-10) -- "One Push-Up" | 4137 |
| Click on any hostname to see more info about the system (e.g. compilers) (*) as reported by 'uname -p', except on Windows and Mac OS X | ||||
|
To the developers/maintainers of the flowTime package: - Please allow up to 24 hours (and sometimes 48 hours) for your latest push to git@git.bioconductor.org:packages/flowTime.git to reflect on this report. See How and When does the builder pull? When will my changes propagate? for more information. - Make sure to use the following settings in order to reproduce any error or warning you see on this page. |
| Package 673/2083 | Hostname | OS / Arch | INSTALL | BUILD | CHECK | BUILD BIN | ||||||||
| flowTime 1.18.0 (landing page) R. Clay Wright
| nebbiolo2 | Linux (Ubuntu 20.04.4 LTS) / x86_64 | OK | OK | OK | |||||||||
| tokay2 | Windows Server 2012 R2 Standard / x64 | OK | OK | OK | OK | |||||||||
| machv2 | macOS 10.14.6 Mojave / x86_64 | OK | OK | OK | OK | |||||||||
| Package: flowTime |
| Version: 1.18.0 |
| Command: C:\cygwin\bin\curl.exe -O http://155.52.207.166/BBS/3.14/bioc/src/contrib/flowTime_1.18.0.tar.gz && rm -rf flowTime.buildbin-libdir && mkdir flowTime.buildbin-libdir && C:\Users\biocbuild\bbs-3.14-bioc\R\bin\R.exe CMD INSTALL --merge-multiarch --build --library=flowTime.buildbin-libdir flowTime_1.18.0.tar.gz && C:\Users\biocbuild\bbs-3.14-bioc\R\bin\R.exe CMD INSTALL flowTime_1.18.0.zip && rm flowTime_1.18.0.tar.gz flowTime_1.18.0.zip |
| StartedAt: 2022-04-12 04:41:39 -0400 (Tue, 12 Apr 2022) |
| EndedAt: 2022-04-12 04:44:16 -0400 (Tue, 12 Apr 2022) |
| EllapsedTime: 157.0 seconds |
| RetCode: 0 |
| Status: OK |
##############################################################################
##############################################################################
###
### Running command:
###
### C:\cygwin\bin\curl.exe -O http://155.52.207.166/BBS/3.14/bioc/src/contrib/flowTime_1.18.0.tar.gz && rm -rf flowTime.buildbin-libdir && mkdir flowTime.buildbin-libdir && C:\Users\biocbuild\bbs-3.14-bioc\R\bin\R.exe CMD INSTALL --merge-multiarch --build --library=flowTime.buildbin-libdir flowTime_1.18.0.tar.gz && C:\Users\biocbuild\bbs-3.14-bioc\R\bin\R.exe CMD INSTALL flowTime_1.18.0.zip && rm flowTime_1.18.0.tar.gz flowTime_1.18.0.zip
###
##############################################################################
##############################################################################
% Total % Received % Xferd Average Speed Time Time Time Current
Dload Upload Total Spent Left Speed
0 0 0 0 0 0 0 0 --:--:-- --:--:-- --:--:-- 0
9 2156k 9 202k 0 0 537k 0 0:00:04 --:--:-- 0:00:04 537k
66 2156k 66 1424k 0 0 1031k 0 0:00:02 0:00:01 0:00:01 1031k
100 2156k 100 2156k 0 0 1228k 0 0:00:01 0:00:01 --:--:-- 1228k
install for i386
* installing *source* package 'flowTime' ...
** using staged installation
** R
** data
*** moving datasets to lazyload DB
** inst
** byte-compile and prepare package for lazy loading
** help
*** installing help indices
converting help for package 'flowTime'
finding HTML links ... done
addbs html
addnorm html
annotateFlowSet html
createAnnotation html
dipdoubletGate html
dipsingletGate html
flsummary html
getTime html
hapdoubletGate html
hapsingletGate html
loadGates html
meanMedianSD html
ploidy html
polygate html
qaGating html
read.plateSet html
saveGates html
steadyState html
summarizeFlow html
tidyFlow html
yeastGate html
** building package indices
** installing vignettes
** testing if installed package can be loaded from temporary location
** testing if installed package can be loaded from final location
** testing if installed package keeps a record of temporary installation path
install for x64
* installing *source* package 'flowTime' ...
** testing if installed package can be loaded
* MD5 sums
packaged installation of 'flowTime' as flowTime_1.18.0.zip
* DONE (flowTime)
* installing to library 'C:/Users/biocbuild/bbs-3.14-bioc/R/library'
package 'flowTime' successfully unpacked and MD5 sums checked