| Back to Multiple platform build/check report for BioC 3.14 |
|
This page was generated on 2022-04-13 12:08:01 -0400 (Wed, 13 Apr 2022).
| Hostname | OS | Arch (*) | R version | Installed pkgs |
|---|---|---|---|---|
| nebbiolo2 | Linux (Ubuntu 20.04.4 LTS) | x86_64 | 4.1.3 (2022-03-10) -- "One Push-Up" | 4324 |
| tokay2 | Windows Server 2012 R2 Standard | x64 | 4.1.3 (2022-03-10) -- "One Push-Up" | 4077 |
| machv2 | macOS 10.14.6 Mojave | x86_64 | 4.1.3 (2022-03-10) -- "One Push-Up" | 4137 |
| Click on any hostname to see more info about the system (e.g. compilers) (*) as reported by 'uname -p', except on Windows and Mac OS X | ||||
|
To the developers/maintainers of the flowStats package: - Please allow up to 24 hours (and sometimes 48 hours) for your latest push to git@git.bioconductor.org:packages/flowStats.git to reflect on this report. See How and When does the builder pull? When will my changes propagate? for more information. - Make sure to use the following settings in order to reproduce any error or warning you see on this page. |
| Package 672/2083 | Hostname | OS / Arch | INSTALL | BUILD | CHECK | BUILD BIN | ||||||||
| flowStats 4.6.0 (landing page) Greg Finak
| nebbiolo2 | Linux (Ubuntu 20.04.4 LTS) / x86_64 | OK | OK | OK | |||||||||
| tokay2 | Windows Server 2012 R2 Standard / x64 | OK | OK | OK | OK | |||||||||
| machv2 | macOS 10.14.6 Mojave / x86_64 | OK | OK | OK | OK | |||||||||
| Package: flowStats |
| Version: 4.6.0 |
| Command: /Library/Frameworks/R.framework/Resources/bin/R CMD check --install=check:flowStats.install-out.txt --library=/Library/Frameworks/R.framework/Resources/library --no-vignettes --timings flowStats_4.6.0.tar.gz |
| StartedAt: 2022-04-12 13:24:09 -0400 (Tue, 12 Apr 2022) |
| EndedAt: 2022-04-12 13:29:02 -0400 (Tue, 12 Apr 2022) |
| EllapsedTime: 292.1 seconds |
| RetCode: 0 |
| Status: OK |
| CheckDir: flowStats.Rcheck |
| Warnings: 0 |
##############################################################################
##############################################################################
###
### Running command:
###
### /Library/Frameworks/R.framework/Resources/bin/R CMD check --install=check:flowStats.install-out.txt --library=/Library/Frameworks/R.framework/Resources/library --no-vignettes --timings flowStats_4.6.0.tar.gz
###
##############################################################################
##############################################################################
* using log directory ‘/Users/biocbuild/bbs-3.14-bioc/meat/flowStats.Rcheck’
* using R version 4.1.3 (2022-03-10)
* using platform: x86_64-apple-darwin17.0 (64-bit)
* using session charset: UTF-8
* using option ‘--no-vignettes’
* checking for file ‘flowStats/DESCRIPTION’ ... OK
* checking extension type ... Package
* this is package ‘flowStats’ version ‘4.6.0’
* package encoding: UTF-8
* checking package namespace information ... OK
* checking package dependencies ... OK
* checking if this is a source package ... OK
* checking if there is a namespace ... OK
* checking for hidden files and directories ... OK
* checking for portable file names ... OK
* checking for sufficient/correct file permissions ... OK
* checking whether package ‘flowStats’ can be installed ... OK
* checking installed package size ... OK
* checking package directory ... OK
* checking ‘build’ directory ... OK
* checking DESCRIPTION meta-information ... OK
* checking top-level files ... OK
* checking for left-over files ... OK
* checking index information ... OK
* checking package subdirectories ... OK
* checking R files for non-ASCII characters ... OK
* checking R files for syntax errors ... OK
* checking whether the package can be loaded ... OK
* checking whether the package can be loaded with stated dependencies ... OK
* checking whether the package can be unloaded cleanly ... OK
* checking whether the namespace can be loaded with stated dependencies ... OK
* checking whether the namespace can be unloaded cleanly ... OK
* checking dependencies in R code ... NOTE
Missing object imported by a ':::' call: ‘flowWorkspace:::.isBooleanGate.graphNEL’
Unexported objects imported by ':::' calls:
‘flowCore:::checkClass’ ‘flowCore:::copyFlowSet’
‘flowCore:::findTimeChannel’ ‘flowCore:::inPolygon’
‘flowViz:::evalError’ ‘flowViz:::plotType’
See the note in ?`:::` about the use of this operator.
* checking S3 generic/method consistency ... OK
* checking replacement functions ... OK
* checking foreign function calls ... OK
* checking R code for possible problems ... NOTE
.plotGPAprocess: no visible binding for global variable ‘whichS’
.plotGPAprocess: no visible binding for global variable ‘cluster’
.plotWorkFlow: no visible binding for global variable ‘cluster’
.plotWorkFlow: no visible binding for global variable ‘bogus’
.usingSVD: no visible binding for global variable ‘params’
density1d_simple: no visible binding for global variable ‘y’
normQA: no visible binding for global variable ‘group’
normQA: no visible binding for global variable ‘hasPeak’
Undefined global functions or variables:
bogus cluster group hasPeak params whichS y
* checking Rd files ... OK
* checking Rd metadata ... OK
* checking Rd cross-references ... OK
* checking for missing documentation entries ... OK
* checking for code/documentation mismatches ... OK
* checking Rd \usage sections ... OK
* checking Rd contents ... OK
* checking for unstated dependencies in examples ... OK
* checking contents of ‘data’ directory ... OK
* checking data for non-ASCII characters ... OK
* checking data for ASCII and uncompressed saves ... OK
* checking sizes of PDF files under ‘inst/doc’ ... OK
* checking files in ‘vignettes’ ... OK
* checking examples ... OK
Examples with CPU (user + system) or elapsed time > 5s
user system elapsed
warpSet 19.865 1.813 21.701
gaussNorm 6.666 0.377 7.046
* checking for unstated dependencies in ‘tests’ ... OK
* checking tests ...
Running ‘testthat.R’
OK
* checking for unstated dependencies in vignettes ... OK
* checking package vignettes in ‘inst/doc’ ... OK
* checking running R code from vignettes ... SKIPPED
* checking re-building of vignette outputs ... SKIPPED
* checking PDF version of manual ... OK
* DONE
Status: 2 NOTEs
See
‘/Users/biocbuild/bbs-3.14-bioc/meat/flowStats.Rcheck/00check.log’
for details.
flowStats.Rcheck/00install.out
############################################################################## ############################################################################## ### ### Running command: ### ### /Library/Frameworks/R.framework/Resources/bin/R CMD INSTALL flowStats ### ############################################################################## ############################################################################## * installing to library ‘/Library/Frameworks/R.framework/Versions/4.1/Resources/library’ * installing *source* package ‘flowStats’ ... ** using staged installation ** R ** data ** byte-compile and prepare package for lazy loading ** help *** installing help indices ** building package indices ** installing vignettes ** testing if installed package can be loaded from temporary location ** testing if installed package can be loaded from final location ** testing if installed package keeps a record of temporary installation path * DONE (flowStats)
flowStats.Rcheck/tests/testthat.Rout
R version 4.1.3 (2022-03-10) -- "One Push-Up"
Copyright (C) 2022 The R Foundation for Statistical Computing
Platform: x86_64-apple-darwin17.0 (64-bit)
R is free software and comes with ABSOLUTELY NO WARRANTY.
You are welcome to redistribute it under certain conditions.
Type 'license()' or 'licence()' for distribution details.
R is a collaborative project with many contributors.
Type 'contributors()' for more information and
'citation()' on how to cite R or R packages in publications.
Type 'demo()' for some demos, 'help()' for on-line help, or
'help.start()' for an HTML browser interface to help.
Type 'q()' to quit R.
> library(testthat)
> library(flowStats)
>
> test_check("flowStats")
Estimating landmarks for channel CD4 ...
Registering curves for parameter CD4 ...
[ FAIL 0 | WARN 0 | SKIP 0 | PASS 23 ]
>
> proc.time()
user system elapsed
19.906 1.135 21.049
flowStats.Rcheck/flowStats-Ex.timings
| name | user | system | elapsed | |
| autoGate | 3.025 | 0.104 | 3.134 | |
| binByRef | 1.407 | 0.044 | 1.452 | |
| calcPBChiSquare | 1.098 | 0.043 | 1.143 | |
| calcPearsonChi | 1.169 | 0.053 | 1.227 | |
| curv1Filter-class | 0.455 | 0.015 | 0.471 | |
| curv2Filter-class | 2.502 | 0.299 | 2.801 | |
| curvPeaks | 0.975 | 0.018 | 0.993 | |
| density1d | 3.989 | 0.195 | 4.191 | |
| gate_singlet | 0 | 0 | 0 | |
| gaussNorm | 6.666 | 0.377 | 7.046 | |
| gpaSet | 4.385 | 0.090 | 4.499 | |
| iProcrustes | 0.188 | 0.006 | 0.196 | |
| idFeaturesByBackgating | 1.334 | 0.036 | 1.372 | |
| landmarkMatrix | 1.089 | 0.026 | 1.119 | |
| lymphGate | 3.762 | 0.099 | 3.863 | |
| norm2Filter-class | 0.194 | 0.003 | 0.197 | |
| normalize | 0.000 | 0.000 | 0.001 | |
| overton_like | 0.008 | 0.001 | 0.009 | |
| plotBins | 1.291 | 0.046 | 1.338 | |
| proBin | 0.902 | 0.022 | 0.924 | |
| quadrantGate | 0.001 | 0.000 | 0.001 | |
| rangeGate | 4.375 | 0.154 | 4.533 | |
| warpSet | 19.865 | 1.813 | 21.701 | |