| Back to Multiple platform build/check report for BioC 3.14 |
|
This page was generated on 2022-04-13 12:06:30 -0400 (Wed, 13 Apr 2022).
| Hostname | OS | Arch (*) | R version | Installed pkgs |
|---|---|---|---|---|
| nebbiolo2 | Linux (Ubuntu 20.04.4 LTS) | x86_64 | 4.1.3 (2022-03-10) -- "One Push-Up" | 4324 |
| tokay2 | Windows Server 2012 R2 Standard | x64 | 4.1.3 (2022-03-10) -- "One Push-Up" | 4077 |
| machv2 | macOS 10.14.6 Mojave | x86_64 | 4.1.3 (2022-03-10) -- "One Push-Up" | 4137 |
| Click on any hostname to see more info about the system (e.g. compilers) (*) as reported by 'uname -p', except on Windows and Mac OS X | ||||
|
To the developers/maintainers of the enrichTF package: - Please allow up to 24 hours (and sometimes 48 hours) for your latest push to git@git.bioconductor.org:packages/enrichTF.git to reflect on this report. See How and When does the builder pull? When will my changes propagate? for more information. - Make sure to use the following settings in order to reproduce any error or warning you see on this page. |
| Package 583/2083 | Hostname | OS / Arch | INSTALL | BUILD | CHECK | BUILD BIN | ||||||||
| enrichTF 1.10.0 (landing page) Zheng Wei
| nebbiolo2 | Linux (Ubuntu 20.04.4 LTS) / x86_64 | OK | OK | OK | |||||||||
| tokay2 | Windows Server 2012 R2 Standard / x64 | OK | OK | OK | OK | |||||||||
| machv2 | macOS 10.14.6 Mojave / x86_64 | OK | OK | OK | OK | |||||||||
| Package: enrichTF |
| Version: 1.10.0 |
| Command: rm -rf enrichTF.buildbin-libdir && mkdir enrichTF.buildbin-libdir && C:\Users\biocbuild\bbs-3.14-bioc\R\bin\R.exe CMD INSTALL --merge-multiarch --build --library=enrichTF.buildbin-libdir enrichTF_1.10.0.tar.gz |
| StartedAt: 2022-04-13 06:08:37 -0400 (Wed, 13 Apr 2022) |
| EndedAt: 2022-04-13 06:10:04 -0400 (Wed, 13 Apr 2022) |
| EllapsedTime: 86.9 seconds |
| RetCode: 0 |
| Status: OK |
| PackageFile: enrichTF_1.10.0.zip |
| PackageFileSize: 1.595 MiB |
##############################################################################
##############################################################################
###
### Running command:
###
### rm -rf enrichTF.buildbin-libdir && mkdir enrichTF.buildbin-libdir && C:\Users\biocbuild\bbs-3.14-bioc\R\bin\R.exe CMD INSTALL --merge-multiarch --build --library=enrichTF.buildbin-libdir enrichTF_1.10.0.tar.gz
###
##############################################################################
##############################################################################
install for i386
* installing *source* package 'enrichTF' ...
** using staged installation
** R
** inst
** byte-compile and prepare package for lazy loading
** help
*** installing help indices
converting help for package 'enrichTF'
finding HTML links ... done
EnrichStep-class html
GenBackground html
REDIRECT:topic Previous alias or file overwritten by alias: C:/Users/biocbuild/bbs-3.14-bioc/meat/enrichTF.buildbin-libdir/00LOCK-enrichTF/00new/enrichTF/help/genBackground.html
finding level-2 HTML links ... done
GeneOntology html
REDIRECT:topic Previous alias or file overwritten by alias: C:/Users/biocbuild/bbs-3.14-bioc/meat/enrichTF.buildbin-libdir/00LOCK-enrichTF/00new/enrichTF/help/geneOntology.html
MotifsInRegions html
REDIRECT:topic Previous alias or file overwritten by alias: C:/Users/biocbuild/bbs-3.14-bioc/meat/enrichTF.buildbin-libdir/00LOCK-enrichTF/00new/enrichTF/help/motifsInRegions.html
Pipelines html
RegionConnectTargetGene html
REDIRECT:topic Previous alias or file overwritten by alias: C:/Users/biocbuild/bbs-3.14-bioc/meat/enrichTF.buildbin-libdir/00LOCK-enrichTF/00new/enrichTF/help/regionConnectTargetGene.html
SingleSampleReport html
TFsEnrichInRegions html
REDIRECT:topic Previous alias or file overwritten by alias: C:/Users/biocbuild/bbs-3.14-bioc/meat/enrichTF.buildbin-libdir/00LOCK-enrichTF/00new/enrichTF/help/tfsEnrichInRegions.html
TissueOpennessConserve html
REDIRECT:topic Previous alias or file overwritten by alias: C:/Users/biocbuild/bbs-3.14-bioc/meat/enrichTF.buildbin-libdir/00LOCK-enrichTF/00new/enrichTF/help/tissueOpennessConserve.html
TissueOpennessSpecificity html
REDIRECT:topic Previous alias or file overwritten by alias: C:/Users/biocbuild/bbs-3.14-bioc/meat/enrichTF.buildbin-libdir/00LOCK-enrichTF/00new/enrichTF/help/tissueOpennessSpecificity.html
UnzipAndMergeBed html
REDIRECT:topic Previous alias or file overwritten by alias: C:/Users/biocbuild/bbs-3.14-bioc/meat/enrichTF.buildbin-libdir/00LOCK-enrichTF/00new/enrichTF/help/unzipAndMergeBed.html
** building package indices
** installing vignettes
** testing if installed package can be loaded from temporary location
** testing if installed package can be loaded from final location
** testing if installed package keeps a record of temporary installation path
install for x64
* installing *source* package 'enrichTF' ...
** testing if installed package can be loaded
* MD5 sums
packaged installation of 'enrichTF' as enrichTF_1.10.0.zip
* DONE (enrichTF)