| Back to Multiple platform build/check report for BioC 3.14 |
|
This page was generated on 2022-04-13 12:06:29 -0400 (Wed, 13 Apr 2022).
| Hostname | OS | Arch (*) | R version | Installed pkgs |
|---|---|---|---|---|
| nebbiolo2 | Linux (Ubuntu 20.04.4 LTS) | x86_64 | 4.1.3 (2022-03-10) -- "One Push-Up" | 4324 |
| tokay2 | Windows Server 2012 R2 Standard | x64 | 4.1.3 (2022-03-10) -- "One Push-Up" | 4077 |
| machv2 | macOS 10.14.6 Mojave | x86_64 | 4.1.3 (2022-03-10) -- "One Push-Up" | 4137 |
| Click on any hostname to see more info about the system (e.g. compilers) (*) as reported by 'uname -p', except on Windows and Mac OS X | ||||
|
To the developers/maintainers of the dyebias package: - Please allow up to 24 hours (and sometimes 48 hours) for your latest push to git@git.bioconductor.org:packages/dyebias.git to reflect on this report. See How and When does the builder pull? When will my changes propagate? for more information. - Make sure to use the following settings in order to reproduce any error or warning you see on this page. |
| Package 552/2083 | Hostname | OS / Arch | INSTALL | BUILD | CHECK | BUILD BIN | ||||||||
| dyebias 1.54.0 (landing page) Philip Lijnzaad
| nebbiolo2 | Linux (Ubuntu 20.04.4 LTS) / x86_64 | OK | OK | OK | |||||||||
| tokay2 | Windows Server 2012 R2 Standard / x64 | OK | OK | OK | OK | |||||||||
| machv2 | macOS 10.14.6 Mojave / x86_64 | OK | OK | OK | OK | |||||||||
| Package: dyebias |
| Version: 1.54.0 |
| Command: rm -rf dyebias.buildbin-libdir && mkdir dyebias.buildbin-libdir && C:\Users\biocbuild\bbs-3.14-bioc\R\bin\R.exe CMD INSTALL --merge-multiarch --build --library=dyebias.buildbin-libdir dyebias_1.54.0.tar.gz |
| StartedAt: 2022-04-13 06:06:32 -0400 (Wed, 13 Apr 2022) |
| EndedAt: 2022-04-13 06:07:12 -0400 (Wed, 13 Apr 2022) |
| EllapsedTime: 39.9 seconds |
| RetCode: 0 |
| Status: OK |
| PackageFile: dyebias_1.54.0.zip |
| PackageFileSize: 2.132 MiB |
##############################################################################
##############################################################################
###
### Running command:
###
### rm -rf dyebias.buildbin-libdir && mkdir dyebias.buildbin-libdir && C:\Users\biocbuild\bbs-3.14-bioc\R\bin\R.exe CMD INSTALL --merge-multiarch --build --library=dyebias.buildbin-libdir dyebias_1.54.0.tar.gz
###
##############################################################################
##############################################################################
install for i386
* installing *source* package 'dyebias' ...
** using staged installation
** R
** inst
** byte-compile and prepare package for lazy loading
** help
*** installing help indices
converting help for package 'dyebias'
finding HTML links ... done
dyebias-package html
dyebias.application.subset html
dyebias.apply.correction html
dyebias.boxplot html
dyebias.estimate.iGSDBs html
dyebias.monotonicity html
dyebias.monotonicityplot html
dyebias.rgplot html
dyebias.trendplot html
** building package indices
** installing vignettes
** testing if installed package can be loaded from temporary location
** testing if installed package can be loaded from final location
** testing if installed package keeps a record of temporary installation path
install for x64
* installing *source* package 'dyebias' ...
** testing if installed package can be loaded
* MD5 sums
packaged installation of 'dyebias' as dyebias_1.54.0.zip
* DONE (dyebias)