| Back to Multiple platform build/check report for BioC 3.14 |
|
This page was generated on 2022-04-13 12:05:18 -0400 (Wed, 13 Apr 2022).
| Hostname | OS | Arch (*) | R version | Installed pkgs |
|---|---|---|---|---|
| nebbiolo2 | Linux (Ubuntu 20.04.4 LTS) | x86_64 | 4.1.3 (2022-03-10) -- "One Push-Up" | 4324 |
| tokay2 | Windows Server 2012 R2 Standard | x64 | 4.1.3 (2022-03-10) -- "One Push-Up" | 4077 |
| machv2 | macOS 10.14.6 Mojave | x86_64 | 4.1.3 (2022-03-10) -- "One Push-Up" | 4137 |
| Click on any hostname to see more info about the system (e.g. compilers) (*) as reported by 'uname -p', except on Windows and Mac OS X | ||||
|
To the developers/maintainers of the drugTargetInteractions package: - Please allow up to 24 hours (and sometimes 48 hours) for your latest push to git@git.bioconductor.org:packages/drugTargetInteractions.git to reflect on this report. See How and When does the builder pull? When will my changes propagate? for more information. - Make sure to use the following settings in order to reproduce any error or warning you see on this page. |
| Package 544/2083 | Hostname | OS / Arch | INSTALL | BUILD | CHECK | BUILD BIN | ||||||||
| drugTargetInteractions 1.2.0 (landing page) Thomas Girke
| nebbiolo2 | Linux (Ubuntu 20.04.4 LTS) / x86_64 | OK | OK | OK | |||||||||
| tokay2 | Windows Server 2012 R2 Standard / x64 | OK | OK | OK | OK | |||||||||
| machv2 | macOS 10.14.6 Mojave / x86_64 | OK | OK | OK | OK | |||||||||
| Package: drugTargetInteractions |
| Version: 1.2.0 |
| Command: /home/biocbuild/bbs-3.14-bioc/R/bin/R CMD check --install=check:drugTargetInteractions.install-out.txt --library=/home/biocbuild/bbs-3.14-bioc/R/library --no-vignettes --timings drugTargetInteractions_1.2.0.tar.gz |
| StartedAt: 2022-04-12 07:15:41 -0400 (Tue, 12 Apr 2022) |
| EndedAt: 2022-04-12 07:20:45 -0400 (Tue, 12 Apr 2022) |
| EllapsedTime: 304.1 seconds |
| RetCode: 0 |
| Status: OK |
| CheckDir: drugTargetInteractions.Rcheck |
| Warnings: 0 |
##############################################################################
##############################################################################
###
### Running command:
###
### /home/biocbuild/bbs-3.14-bioc/R/bin/R CMD check --install=check:drugTargetInteractions.install-out.txt --library=/home/biocbuild/bbs-3.14-bioc/R/library --no-vignettes --timings drugTargetInteractions_1.2.0.tar.gz
###
##############################################################################
##############################################################################
* using log directory ‘/home/biocbuild/bbs-3.14-bioc/meat/drugTargetInteractions.Rcheck’
* using R version 4.1.3 (2022-03-10)
* using platform: x86_64-pc-linux-gnu (64-bit)
* using session charset: UTF-8
* using option ‘--no-vignettes’
* checking for file ‘drugTargetInteractions/DESCRIPTION’ ... OK
* checking extension type ... Package
* this is package ‘drugTargetInteractions’ version ‘1.2.0’
* checking package namespace information ... OK
* checking package dependencies ... OK
* checking if this is a source package ... OK
* checking if there is a namespace ... OK
* checking for hidden files and directories ... OK
* checking for portable file names ... OK
* checking for sufficient/correct file permissions ... OK
* checking whether package ‘drugTargetInteractions’ can be installed ... OK
* checking installed package size ... OK
* checking package directory ... OK
* checking ‘build’ directory ... OK
* checking DESCRIPTION meta-information ... OK
* checking top-level files ... OK
* checking for left-over files ... OK
* checking index information ... OK
* checking package subdirectories ... OK
* checking R files for non-ASCII characters ... OK
* checking R files for syntax errors ... OK
* checking whether the package can be loaded ... OK
* checking whether the package can be loaded with stated dependencies ... OK
* checking whether the package can be unloaded cleanly ... OK
* checking whether the namespace can be loaded with stated dependencies ... OK
* checking whether the namespace can be unloaded cleanly ... OK
* checking dependencies in R code ... OK
* checking S3 generic/method consistency ... OK
* checking replacement functions ... OK
* checking foreign function calls ... OK
* checking R code for possible problems ... NOTE
.getCacheFile: no visible binding for global variable 'create_time'
getParalogs: no visible global function definition for 'setNames'
Undefined global functions or variables:
create_time setNames
Consider adding
importFrom("stats", "setNames")
to your NAMESPACE file.
* checking Rd files ... OK
* checking Rd metadata ... OK
* checking Rd cross-references ... OK
* checking for missing documentation entries ... OK
* checking for code/documentation mismatches ... OK
* checking Rd \usage sections ... OK
* checking Rd contents ... OK
* checking for unstated dependencies in examples ... OK
* checking files in ‘vignettes’ ... OK
* checking examples ... OK
Examples with CPU (user + system) or elapsed time > 5s
user system elapsed
drugTargetAnnotTable 49.244 1.524 50.775
processDrugage 32.865 0.444 34.157
transformTTD 5.457 0.076 9.390
* checking for unstated dependencies in vignettes ... OK
* checking package vignettes in ‘inst/doc’ ... OK
* checking running R code from vignettes ... SKIPPED
* checking re-building of vignette outputs ... SKIPPED
* checking PDF version of manual ... OK
* DONE
Status: 1 NOTE
See
‘/home/biocbuild/bbs-3.14-bioc/meat/drugTargetInteractions.Rcheck/00check.log’
for details.
drugTargetInteractions.Rcheck/00install.out
############################################################################## ############################################################################## ### ### Running command: ### ### /home/biocbuild/bbs-3.14-bioc/R/bin/R CMD INSTALL drugTargetInteractions ### ############################################################################## ############################################################################## * installing to library ‘/home/biocbuild/bbs-3.14-bioc/R/library’ * installing *source* package ‘drugTargetInteractions’ ... ** using staged installation ** R ** inst ** byte-compile and prepare package for lazy loading ** help *** installing help indices ** building package indices ** installing vignettes ** testing if installed package can be loaded from temporary location ** testing if installed package can be loaded from final location ** testing if installed package keeps a record of temporary installation path * DONE (drugTargetInteractions)
drugTargetInteractions.Rcheck/drugTargetInteractions-Ex.timings
| name | user | system | elapsed | |
| cmpIdMapping | 0 | 0 | 0 | |
| downloadChemblDb | 0 | 0 | 0 | |
| downloadUniChem | 1.965 | 0.076 | 2.922 | |
| drugTargetAnnot | 0.011 | 0.004 | 0.016 | |
| drugTargetAnnotTable | 49.244 | 1.524 | 50.775 | |
| drugTargetBioactivity | 0.064 | 0.008 | 0.072 | |
| genConfig | 0 | 0 | 0 | |
| getDrugTarget | 0.017 | 0.000 | 0.016 | |
| getParalogs | 0 | 0 | 0 | |
| getSymEnsUp | 1.425 | 0.048 | 1.480 | |
| getUniprotIDs | 0 | 0 | 0 | |
| processDrugage | 32.865 | 0.444 | 34.157 | |
| runDrugTarget_Annot_Bioassay | 0.402 | 0.008 | 0.410 | |
| transformTTD | 5.457 | 0.076 | 9.390 | |