| Back to Multiple platform build/check report for BioC 3.14 |
|
This page was generated on 2022-04-13 12:06:27 -0400 (Wed, 13 Apr 2022).
| Hostname | OS | Arch (*) | R version | Installed pkgs |
|---|---|---|---|---|
| nebbiolo2 | Linux (Ubuntu 20.04.4 LTS) | x86_64 | 4.1.3 (2022-03-10) -- "One Push-Up" | 4324 |
| tokay2 | Windows Server 2012 R2 Standard | x64 | 4.1.3 (2022-03-10) -- "One Push-Up" | 4077 |
| machv2 | macOS 10.14.6 Mojave | x86_64 | 4.1.3 (2022-03-10) -- "One Push-Up" | 4137 |
| Click on any hostname to see more info about the system (e.g. compilers) (*) as reported by 'uname -p', except on Windows and Mac OS X | ||||
|
To the developers/maintainers of the diffGeneAnalysis package: - Please allow up to 24 hours (and sometimes 48 hours) for your latest push to git@git.bioconductor.org:packages/diffGeneAnalysis.git to reflect on this report. See How and When does the builder pull? When will my changes propagate? for more information. - Make sure to use the following settings in order to reproduce any error or warning you see on this page. |
| Package 506/2083 | Hostname | OS / Arch | INSTALL | BUILD | CHECK | BUILD BIN | ||||||||
| diffGeneAnalysis 1.76.0 (landing page) Choudary Jagarlamudi
| nebbiolo2 | Linux (Ubuntu 20.04.4 LTS) / x86_64 | OK | OK | OK | |||||||||
| tokay2 | Windows Server 2012 R2 Standard / x64 | OK | OK | OK | OK | |||||||||
| machv2 | macOS 10.14.6 Mojave / x86_64 | OK | OK | OK | OK | |||||||||
| Package: diffGeneAnalysis |
| Version: 1.76.0 |
| Command: C:\Users\biocbuild\bbs-3.14-bioc\R\bin\R.exe CMD check --force-multiarch --install=check:diffGeneAnalysis.install-out.txt --library=C:\Users\biocbuild\bbs-3.14-bioc\R\library --no-vignettes --timings diffGeneAnalysis_1.76.0.tar.gz |
| StartedAt: 2022-04-12 18:38:28 -0400 (Tue, 12 Apr 2022) |
| EndedAt: 2022-04-12 18:38:58 -0400 (Tue, 12 Apr 2022) |
| EllapsedTime: 29.4 seconds |
| RetCode: 0 |
| Status: OK |
| CheckDir: diffGeneAnalysis.Rcheck |
| Warnings: 0 |
##############################################################################
##############################################################################
###
### Running command:
###
### C:\Users\biocbuild\bbs-3.14-bioc\R\bin\R.exe CMD check --force-multiarch --install=check:diffGeneAnalysis.install-out.txt --library=C:\Users\biocbuild\bbs-3.14-bioc\R\library --no-vignettes --timings diffGeneAnalysis_1.76.0.tar.gz
###
##############################################################################
##############################################################################
* using log directory 'C:/Users/biocbuild/bbs-3.14-bioc/meat/diffGeneAnalysis.Rcheck'
* using R version 4.1.3 (2022-03-10)
* using platform: x86_64-w64-mingw32 (64-bit)
* using session charset: ISO8859-1
* using option '--no-vignettes'
* checking for file 'diffGeneAnalysis/DESCRIPTION' ... OK
* this is package 'diffGeneAnalysis' version '1.76.0'
* checking package namespace information ... OK
* checking package dependencies ... OK
* checking if this is a source package ... OK
* checking if there is a namespace ... OK
* checking for hidden files and directories ... OK
* checking for portable file names ... OK
* checking whether package 'diffGeneAnalysis' can be installed ... OK
* checking installed package size ... OK
* checking package directory ... OK
* checking 'build' directory ... OK
* checking DESCRIPTION meta-information ... NOTE
Malformed Description field: should contain one or more complete sentences.
* checking top-level files ... OK
* checking for left-over files ... OK
* checking index information ... OK
* checking package subdirectories ... OK
* checking R files for non-ASCII characters ... OK
* checking R files for syntax errors ... OK
* loading checks for arch 'i386'
** checking whether the package can be loaded ... OK
** checking whether the package can be loaded with stated dependencies ... OK
** checking whether the package can be unloaded cleanly ... OK
** checking whether the namespace can be loaded with stated dependencies ... OK
** checking whether the namespace can be unloaded cleanly ... OK
* loading checks for arch 'x64'
** checking whether the package can be loaded ... OK
** checking whether the package can be loaded with stated dependencies ... OK
** checking whether the package can be unloaded cleanly ... OK
** checking whether the namespace can be loaded with stated dependencies ... OK
** checking whether the namespace can be unloaded cleanly ... OK
* checking dependencies in R code ... OK
* checking S3 generic/method consistency ... OK
* checking replacement functions ... OK
* checking foreign function calls ... OK
* checking R code for possible problems ... NOTE
curveFit: warning in assign("nmean", nmeans[1], inherits = TRUE, env =
.GlobalEnv): partial argument match of 'env' to 'envir'
curveFit: warning in assign("nsd", nsds[1], inherits = TRUE, env =
.GlobalEnv): partial argument match of 'env' to 'envir'
curveFit: warning in assign("nmean", nmeans[2], inherits = TRUE, env =
.GlobalEnv): partial argument match of 'env' to 'envir'
curveFit: warning in assign("nsd", nsds[2], inherits = TRUE, env =
.GlobalEnv): partial argument match of 'env' to 'envir'
curveFit: warning in assign("nmean", nmeans[3], inherits = TRUE, env =
.GlobalEnv): partial argument match of 'env' to 'envir'
curveFit: warning in assign("nsd", nsds[3], inherits = TRUE, env =
.GlobalEnv): partial argument match of 'env' to 'envir'
curveFit: warning in assign("nmean", nmeans[4], inherits = TRUE, env =
.GlobalEnv): partial argument match of 'env' to 'envir'
curveFit: warning in assign("nsd", nsds[4], inherits = TRUE, env =
.GlobalEnv): partial argument match of 'env' to 'envir'
curveFit: warning in assign("nmean", nmeans[5], inherits = TRUE, env =
.GlobalEnv): partial argument match of 'env' to 'envir'
curveFit: warning in assign("nsd", nsds[5], inherits = TRUE, env =
.GlobalEnv): partial argument match of 'env' to 'envir'
curveFit: warning in assign("nmean", nmeans[6], inherits = TRUE, env =
.GlobalEnv): partial argument match of 'env' to 'envir'
curveFit: warning in assign("nsd", nsds[6], inherits = TRUE, env =
.GlobalEnv): partial argument match of 'env' to 'envir'
curveFit: no visible binding for global variable 'nmean'
curveFit: no visible binding for global variable 'nsd'
Undefined global functions or variables:
nmean nsd
* checking Rd files ... OK
* checking Rd metadata ... OK
* checking Rd cross-references ... OK
* checking for missing documentation entries ... OK
* checking for code/documentation mismatches ... OK
* checking Rd \usage sections ... OK
* checking Rd contents ... OK
* checking for unstated dependencies in examples ... OK
* checking contents of 'data' directory ... OK
* checking data for non-ASCII characters ... OK
* checking data for ASCII and uncompressed saves ... OK
* checking files in 'vignettes' ... OK
* checking examples ...
** running examples for arch 'i386' ... OK
** running examples for arch 'x64' ... OK
* checking for unstated dependencies in vignettes ... OK
* checking package vignettes in 'inst/doc' ... OK
* checking running R code from vignettes ... SKIPPED
* checking re-building of vignette outputs ... SKIPPED
* checking PDF version of manual ... OK
* DONE
Status: 2 NOTEs
See
'C:/Users/biocbuild/bbs-3.14-bioc/meat/diffGeneAnalysis.Rcheck/00check.log'
for details.
diffGeneAnalysis.Rcheck/00install.out
##############################################################################
##############################################################################
###
### Running command:
###
### C:\cygwin\bin\curl.exe -O http://155.52.207.166/BBS/3.14/bioc/src/contrib/diffGeneAnalysis_1.76.0.tar.gz && rm -rf diffGeneAnalysis.buildbin-libdir && mkdir diffGeneAnalysis.buildbin-libdir && C:\Users\biocbuild\bbs-3.14-bioc\R\bin\R.exe CMD INSTALL --merge-multiarch --build --library=diffGeneAnalysis.buildbin-libdir diffGeneAnalysis_1.76.0.tar.gz && C:\Users\biocbuild\bbs-3.14-bioc\R\bin\R.exe CMD INSTALL diffGeneAnalysis_1.76.0.zip && rm diffGeneAnalysis_1.76.0.tar.gz diffGeneAnalysis_1.76.0.zip
###
##############################################################################
##############################################################################
% Total % Received % Xferd Average Speed Time Time Time Current
Dload Upload Total Spent Left Speed
0 0 0 0 0 0 0 0 --:--:-- --:--:-- --:--:-- 0
100 95278 100 95278 0 0 184k 0 --:--:-- --:--:-- --:--:-- 184k
install for i386
* installing *source* package 'diffGeneAnalysis' ...
** using staged installation
** R
** data
** byte-compile and prepare package for lazy loading
** help
*** installing help indices
converting help for package 'diffGeneAnalysis'
finding HTML links ... done
assocAnalysis html
biasAdjust html
curveFit html
dataTrim html
normalize html
rawdata html
refGroup html
** building package indices
** installing vignettes
** testing if installed package can be loaded from temporary location
** testing if installed package can be loaded from final location
** testing if installed package keeps a record of temporary installation path
install for x64
* installing *source* package 'diffGeneAnalysis' ...
** testing if installed package can be loaded
* MD5 sums
packaged installation of 'diffGeneAnalysis' as diffGeneAnalysis_1.76.0.zip
* DONE (diffGeneAnalysis)
* installing to library 'C:/Users/biocbuild/bbs-3.14-bioc/R/library'
package 'diffGeneAnalysis' successfully unpacked and MD5 sums checked
|
diffGeneAnalysis.Rcheck/examples_i386/diffGeneAnalysis-Ex.timings
|
diffGeneAnalysis.Rcheck/examples_x64/diffGeneAnalysis-Ex.timings
|