| Back to Multiple platform build/check report for BioC 3.14 |
|
This page was generated on 2022-04-13 12:05:15 -0400 (Wed, 13 Apr 2022).
| Hostname | OS | Arch (*) | R version | Installed pkgs |
|---|---|---|---|---|
| nebbiolo2 | Linux (Ubuntu 20.04.4 LTS) | x86_64 | 4.1.3 (2022-03-10) -- "One Push-Up" | 4324 |
| tokay2 | Windows Server 2012 R2 Standard | x64 | 4.1.3 (2022-03-10) -- "One Push-Up" | 4077 |
| machv2 | macOS 10.14.6 Mojave | x86_64 | 4.1.3 (2022-03-10) -- "One Push-Up" | 4137 |
| Click on any hostname to see more info about the system (e.g. compilers) (*) as reported by 'uname -p', except on Windows and Mac OS X | ||||
|
To the developers/maintainers of the decompTumor2Sig package: - Please allow up to 24 hours (and sometimes 48 hours) for your latest push to git@git.bioconductor.org:packages/decompTumor2Sig.git to reflect on this report. See How and When does the builder pull? When will my changes propagate? for more information. - Make sure to use the following settings in order to reproduce any error or warning you see on this page. |
| Package 464/2083 | Hostname | OS / Arch | INSTALL | BUILD | CHECK | BUILD BIN | ||||||||
| decompTumor2Sig 2.10.0 (landing page) Rosario M. Piro
| nebbiolo2 | Linux (Ubuntu 20.04.4 LTS) / x86_64 | OK | OK | OK | |||||||||
| tokay2 | Windows Server 2012 R2 Standard / x64 | OK | OK | OK | OK | |||||||||
| machv2 | macOS 10.14.6 Mojave / x86_64 | OK | OK | OK | OK | |||||||||
| Package: decompTumor2Sig |
| Version: 2.10.0 |
| Command: /home/biocbuild/bbs-3.14-bioc/R/bin/R CMD check --install=check:decompTumor2Sig.install-out.txt --library=/home/biocbuild/bbs-3.14-bioc/R/library --no-vignettes --timings decompTumor2Sig_2.10.0.tar.gz |
| StartedAt: 2022-04-12 07:04:24 -0400 (Tue, 12 Apr 2022) |
| EndedAt: 2022-04-12 07:10:03 -0400 (Tue, 12 Apr 2022) |
| EllapsedTime: 339.3 seconds |
| RetCode: 0 |
| Status: OK |
| CheckDir: decompTumor2Sig.Rcheck |
| Warnings: 0 |
##############################################################################
##############################################################################
###
### Running command:
###
### /home/biocbuild/bbs-3.14-bioc/R/bin/R CMD check --install=check:decompTumor2Sig.install-out.txt --library=/home/biocbuild/bbs-3.14-bioc/R/library --no-vignettes --timings decompTumor2Sig_2.10.0.tar.gz
###
##############################################################################
##############################################################################
* using log directory ‘/home/biocbuild/bbs-3.14-bioc/meat/decompTumor2Sig.Rcheck’
* using R version 4.1.3 (2022-03-10)
* using platform: x86_64-pc-linux-gnu (64-bit)
* using session charset: UTF-8
* using option ‘--no-vignettes’
* checking for file ‘decompTumor2Sig/DESCRIPTION’ ... OK
* checking extension type ... Package
* this is package ‘decompTumor2Sig’ version ‘2.10.0’
* package encoding: UTF-8
* checking package namespace information ... OK
* checking package dependencies ... OK
* checking if this is a source package ... OK
* checking if there is a namespace ... OK
* checking for hidden files and directories ... OK
* checking for portable file names ... OK
* checking for sufficient/correct file permissions ... OK
* checking whether package ‘decompTumor2Sig’ can be installed ... OK
* checking installed package size ... OK
* checking package directory ... OK
* checking ‘build’ directory ... OK
* checking DESCRIPTION meta-information ... OK
* checking top-level files ... OK
* checking for left-over files ... OK
* checking index information ... OK
* checking package subdirectories ... OK
* checking R files for non-ASCII characters ... OK
* checking R files for syntax errors ... OK
* checking whether the package can be loaded ... OK
* checking whether the package can be loaded with stated dependencies ... OK
* checking whether the package can be unloaded cleanly ... OK
* checking whether the namespace can be loaded with stated dependencies ... OK
* checking whether the namespace can be unloaded cleanly ... OK
* checking dependencies in R code ... OK
* checking S3 generic/method consistency ... OK
* checking replacement functions ... OK
* checking foreign function calls ... OK
* checking R code for possible problems ... OK
* checking Rd files ... OK
* checking Rd metadata ... OK
* checking Rd cross-references ... OK
* checking for missing documentation entries ... OK
* checking for code/documentation mismatches ... OK
* checking Rd \usage sections ... OK
* checking Rd contents ... OK
* checking for unstated dependencies in examples ... OK
* checking files in ‘vignettes’ ... OK
* checking examples ... OK
Examples with CPU (user + system) or elapsed time > 5s
user system elapsed
plotExplainedVariance 60.112 0.448 61.143
convertGenomesFromVRanges 6.573 0.356 6.930
decomposeTumorGenomes 4.052 0.240 5.024
* checking for unstated dependencies in vignettes ... OK
* checking package vignettes in ‘inst/doc’ ... OK
* checking running R code from vignettes ... SKIPPED
* checking re-building of vignette outputs ... SKIPPED
* checking PDF version of manual ... OK
* DONE
Status: OK
decompTumor2Sig.Rcheck/00install.out
############################################################################## ############################################################################## ### ### Running command: ### ### /home/biocbuild/bbs-3.14-bioc/R/bin/R CMD INSTALL decompTumor2Sig ### ############################################################################## ############################################################################## * installing to library ‘/home/biocbuild/bbs-3.14-bioc/R/library’ * installing *source* package ‘decompTumor2Sig’ ... ** using staged installation ** R ** inst ** byte-compile and prepare package for lazy loading ** help *** installing help indices ** building package indices ** installing vignettes ** testing if installed package can be loaded from temporary location ** testing if installed package can be loaded from final location ** testing if installed package keeps a record of temporary installation path * DONE (decompTumor2Sig)
decompTumor2Sig.Rcheck/decompTumor2Sig-Ex.timings
| name | user | system | elapsed | |
| adjustSignaturesForRegionSet | 2.275 | 0.159 | 4.967 | |
| composeGenomesFromExposures | 0.183 | 0.008 | 1.221 | |
| computeExplainedVariance | 0.194 | 0.004 | 0.933 | |
| convertAlexandrov2Shiraishi | 0.073 | 0.001 | 1.173 | |
| convertGenomesFromVRanges | 6.573 | 0.356 | 6.930 | |
| decomposeTumorGenomes | 4.052 | 0.240 | 5.024 | |
| determineSignatureDistances | 0.085 | 0.004 | 0.824 | |
| downgradeShiraishiSignatures | 0.009 | 0.000 | 0.009 | |
| evaluateDecompositionQuality | 0.206 | 0.000 | 0.937 | |
| getGenomesFromMutFeatData | 0.341 | 0.004 | 0.344 | |
| getSignaturesFromEstParam | 0.117 | 0.000 | 0.117 | |
| isAlexandrovSet | 0.041 | 0.001 | 0.777 | |
| isExposureSet | 2.643 | 0.174 | 3.649 | |
| isShiraishiSet | 0.066 | 0.004 | 0.789 | |
| isSignatureSet | 0.049 | 0.000 | 0.787 | |
| mapSignatureSets | 0.118 | 0.000 | 0.950 | |
| plotDecomposedContribution | 1.415 | 0.008 | 2.250 | |
| plotExplainedVariance | 60.112 | 0.448 | 61.143 | |
| plotMutationDistribution | 1.240 | 0.064 | 2.041 | |
| readAlexandrovSignatures | 0.036 | 0.000 | 0.760 | |
| readGenomesFromMPF | 2.226 | 0.184 | 2.411 | |
| readGenomesFromVCF | 2.744 | 0.120 | 2.865 | |
| readShiraishiSignatures | 0.004 | 0.000 | 0.005 | |
| sameSignatureFormat | 0.112 | 0.000 | 0.915 | |