| Back to Multiple platform build/check report for BioC 3.14 |
|
This page was generated on 2022-04-13 12:06:25 -0400 (Wed, 13 Apr 2022).
| Hostname | OS | Arch (*) | R version | Installed pkgs |
|---|---|---|---|---|
| nebbiolo2 | Linux (Ubuntu 20.04.4 LTS) | x86_64 | 4.1.3 (2022-03-10) -- "One Push-Up" | 4324 |
| tokay2 | Windows Server 2012 R2 Standard | x64 | 4.1.3 (2022-03-10) -- "One Push-Up" | 4077 |
| machv2 | macOS 10.14.6 Mojave | x86_64 | 4.1.3 (2022-03-10) -- "One Push-Up" | 4137 |
| Click on any hostname to see more info about the system (e.g. compilers) (*) as reported by 'uname -p', except on Windows and Mac OS X | ||||
|
To the developers/maintainers of the debCAM package: - Please allow up to 24 hours (and sometimes 48 hours) for your latest push to git@git.bioconductor.org:packages/debCAM.git to reflect on this report. See How and When does the builder pull? When will my changes propagate? for more information. - Make sure to use the following settings in order to reproduce any error or warning you see on this page. |
| Package 459/2083 | Hostname | OS / Arch | INSTALL | BUILD | CHECK | BUILD BIN | ||||||||
| debCAM 1.12.0 (landing page) Lulu Chen
| nebbiolo2 | Linux (Ubuntu 20.04.4 LTS) / x86_64 | OK | OK | OK | |||||||||
| tokay2 | Windows Server 2012 R2 Standard / x64 | OK | OK | OK | OK | |||||||||
| machv2 | macOS 10.14.6 Mojave / x86_64 | OK | OK | OK | OK | |||||||||
| Package: debCAM |
| Version: 1.12.0 |
| Command: rm -rf debCAM.buildbin-libdir && mkdir debCAM.buildbin-libdir && C:\Users\biocbuild\bbs-3.14-bioc\R\bin\R.exe --arch x64 CMD INSTALL --no-multiarch --build --library=debCAM.buildbin-libdir debCAM_1.12.0.tar.gz |
| StartedAt: 2022-04-13 06:00:01 -0400 (Wed, 13 Apr 2022) |
| EndedAt: 2022-04-13 06:00:38 -0400 (Wed, 13 Apr 2022) |
| EllapsedTime: 36.8 seconds |
| RetCode: 0 |
| Status: OK |
| PackageFile: debCAM_1.12.0.zip |
| PackageFileSize: 2.869 MiB |
##############################################################################
##############################################################################
###
### Running command:
###
### rm -rf debCAM.buildbin-libdir && mkdir debCAM.buildbin-libdir && C:\Users\biocbuild\bbs-3.14-bioc\R\bin\R.exe --arch x64 CMD INSTALL --no-multiarch --build --library=debCAM.buildbin-libdir debCAM_1.12.0.tar.gz
###
##############################################################################
##############################################################################
* installing *source* package 'debCAM' ...
** using staged installation
** R
** data
** inst
** byte-compile and prepare package for lazy loading
** help
*** installing help indices
converting help for package 'debCAM'
finding HTML links ... done
AS-accessor html
AfromMarkers html
CAM html
CAMASObj-class html
CAMASest html
CAMMGCluster html
CAMMGObj-class html
CAMObj-class html
CAMPrep html
CAMPrepObj-class html
MDL html
MDLObj-class html
MGsforA html
MGstatistic html
PCAmat html
XWProj html
cornerSort html
debCAM-package html
ratMix3 html
redoASest html
reselectMG html
sffsHull html
simplexplot html
** building package indices
** installing vignettes
** testing if installed package can be loaded from temporary location
** testing if installed package can be loaded from final location
** testing if installed package keeps a record of temporary installation path
* MD5 sums
packaged installation of 'debCAM' as debCAM_1.12.0.zip
* DONE (debCAM)