| Back to Multiple platform build/check report for BioC 3.14 |
|
This page was generated on 2022-04-13 12:05:15 -0400 (Wed, 13 Apr 2022).
| Hostname | OS | Arch (*) | R version | Installed pkgs |
|---|---|---|---|---|
| nebbiolo2 | Linux (Ubuntu 20.04.4 LTS) | x86_64 | 4.1.3 (2022-03-10) -- "One Push-Up" | 4324 |
| tokay2 | Windows Server 2012 R2 Standard | x64 | 4.1.3 (2022-03-10) -- "One Push-Up" | 4077 |
| machv2 | macOS 10.14.6 Mojave | x86_64 | 4.1.3 (2022-03-10) -- "One Push-Up" | 4137 |
| Click on any hostname to see more info about the system (e.g. compilers) (*) as reported by 'uname -p', except on Windows and Mac OS X | ||||
|
To the developers/maintainers of the dasper package: - Please allow up to 24 hours (and sometimes 48 hours) for your latest push to git@git.bioconductor.org:packages/dasper.git to reflect on this report. See How and When does the builder pull? When will my changes propagate? for more information. - Make sure to use the following settings in order to reproduce any error or warning you see on this page. |
| Package 452/2083 | Hostname | OS / Arch | INSTALL | BUILD | CHECK | BUILD BIN | ||||||||
| dasper 1.4.3 (landing page) David Zhang
| nebbiolo2 | Linux (Ubuntu 20.04.4 LTS) / x86_64 | OK | OK | OK | |||||||||
| tokay2 | Windows Server 2012 R2 Standard / x64 | OK | OK | ERROR | OK | |||||||||
| machv2 | macOS 10.14.6 Mojave / x86_64 | OK | OK | OK | OK | |||||||||
| Package: dasper |
| Version: 1.4.3 |
| Command: /home/biocbuild/bbs-3.14-bioc/R/bin/R CMD check --install=check:dasper.install-out.txt --library=/home/biocbuild/bbs-3.14-bioc/R/library --no-vignettes --timings dasper_1.4.3.tar.gz |
| StartedAt: 2022-04-12 07:03:16 -0400 (Tue, 12 Apr 2022) |
| EndedAt: 2022-04-12 07:21:01 -0400 (Tue, 12 Apr 2022) |
| EllapsedTime: 1064.9 seconds |
| RetCode: 0 |
| Status: OK |
| CheckDir: dasper.Rcheck |
| Warnings: 0 |
##############################################################################
##############################################################################
###
### Running command:
###
### /home/biocbuild/bbs-3.14-bioc/R/bin/R CMD check --install=check:dasper.install-out.txt --library=/home/biocbuild/bbs-3.14-bioc/R/library --no-vignettes --timings dasper_1.4.3.tar.gz
###
##############################################################################
##############################################################################
* using log directory ‘/home/biocbuild/bbs-3.14-bioc/meat/dasper.Rcheck’
* using R version 4.1.3 (2022-03-10)
* using platform: x86_64-pc-linux-gnu (64-bit)
* using session charset: UTF-8
* using option ‘--no-vignettes’
* checking for file ‘dasper/DESCRIPTION’ ... OK
* this is package ‘dasper’ version ‘1.4.3’
* package encoding: UTF-8
* checking package namespace information ... OK
* checking package dependencies ... OK
* checking if this is a source package ... OK
* checking if there is a namespace ... OK
* checking for hidden files and directories ... NOTE
Found the following hidden files and directories:
.BBSoptions
These were most likely included in error. See section ‘Package
structure’ in the ‘Writing R Extensions’ manual.
* checking for portable file names ... OK
* checking for sufficient/correct file permissions ... OK
* checking whether package ‘dasper’ can be installed ... NOTE
Found the following notes/warnings:
Non-staged installation was used
See ‘/home/biocbuild/bbs-3.14-bioc/meat/dasper.Rcheck/00install.out’ for details.
* checking installed package size ... OK
* checking package directory ... OK
* checking ‘build’ directory ... OK
* checking DESCRIPTION meta-information ... OK
* checking top-level files ... OK
* checking for left-over files ... OK
* checking index information ... OK
* checking package subdirectories ... OK
* checking R files for non-ASCII characters ... OK
* checking R files for syntax errors ... OK
* checking whether the package can be loaded ... OK
* checking whether the package can be loaded with stated dependencies ... OK
* checking whether the package can be unloaded cleanly ... OK
* checking whether the namespace can be loaded with stated dependencies ... OK
* checking whether the namespace can be unloaded cleanly ... OK
* checking dependencies in R code ... NOTE
Unexported object imported by a ':::' call: ‘grid:::calcControlPoints’
See the note in ?`:::` about the use of this operator.
* checking S3 generic/method consistency ... OK
* checking replacement functions ... OK
* checking foreign function calls ... OK
* checking R code for possible problems ... NOTE
.classify_junc: no visible binding for global variable ‘lend’
.classify_junc: no visible binding for global variable ‘rstart’
.coverage_to_plot_get: no visible binding for global variable ‘.’
.coverage_to_plot_get: no visible binding for global variable
‘case_control’
.get_ref_exons_annot: no visible binding for global variable ‘.’
.plot_coverage: no visible binding for global variable ‘case_control’
.plot_junctions: no visible binding for global variable ‘size’
annotate_junc_ref: no visible global function definition for
‘ensemblGenome’
annotate_junc_ref: no visible global function definition for
‘basedir<-’
annotate_junc_ref: no visible global function definition for ‘read.gtf’
annotate_junc_ref: no visible global function definition for
‘getSpliceTable’
Undefined global functions or variables:
. basedir<- case_control ensemblGenome getSpliceTable lend read.gtf
rstart size
* checking Rd files ... OK
* checking Rd metadata ... OK
* checking Rd cross-references ... OK
* checking for missing documentation entries ... OK
* checking for code/documentation mismatches ... OK
* checking Rd \usage sections ... OK
* checking Rd contents ... OK
* checking for unstated dependencies in examples ... OK
* checking contents of ‘data’ directory ... OK
* checking data for non-ASCII characters ... OK
* checking LazyData ... OK
* checking data for ASCII and uncompressed saves ... OK
* checking line endings in shell scripts ... OK
* checking files in ‘vignettes’ ... OK
* checking examples ... OK
Examples with CPU (user + system) or elapsed time > 5s
user system elapsed
coverage_process 83.179 13.788 94.173
junction_process 52.459 2.027 55.052
plot_sashimi 30.080 1.811 32.421
ref_load 7.655 0.691 8.903
* checking for unstated dependencies in ‘tests’ ... OK
* checking tests ...
Running ‘testthat.R’
OK
* checking for unstated dependencies in vignettes ... OK
* checking package vignettes in ‘inst/doc’ ... OK
* checking running R code from vignettes ... SKIPPED
* checking re-building of vignette outputs ... SKIPPED
* checking PDF version of manual ... OK
* DONE
Status: 4 NOTEs
See
‘/home/biocbuild/bbs-3.14-bioc/meat/dasper.Rcheck/00check.log’
for details.
dasper.Rcheck/00install.out
############################################################################## ############################################################################## ### ### Running command: ### ### /home/biocbuild/bbs-3.14-bioc/R/bin/R CMD INSTALL dasper ### ############################################################################## ############################################################################## * installing to library ‘/home/biocbuild/bbs-3.14-bioc/R/library’ * installing *source* package ‘dasper’ ... ** using non-staged installation via StagedInstall field ** R ** data *** moving datasets to lazyload DB ** inst ** byte-compile and prepare package for lazy loading ** help *** installing help indices ** building package indices ** installing vignettes ** testing if installed package can be loaded * DONE (dasper)
dasper.Rcheck/tests/testthat.Rout
R version 4.1.3 (2022-03-10) -- "One Push-Up"
Copyright (C) 2022 The R Foundation for Statistical Computing
Platform: x86_64-pc-linux-gnu (64-bit)
R is free software and comes with ABSOLUTELY NO WARRANTY.
You are welcome to redistribute it under certain conditions.
Type 'license()' or 'licence()' for distribution details.
R is a collaborative project with many contributors.
Type 'contributors()' for more information and
'citation()' on how to cite R or R packages in publications.
Type 'demo()' for some demos, 'help()' for on-line help, or
'help.start()' for an HTML browser interface to help.
Type 'q()' to quit R.
> library(testthat)
> library(dasper)
>
> test_check("dasper")
Starting 2 test processes
[ FAIL 0 | WARN 7 | SKIP 3 | PASS 228 ]
══ Skipped tests ═══════════════════════════════════════════════════════════════
• On CRAN (3)
[ FAIL 0 | WARN 7 | SKIP 3 | PASS 228 ]
>
> proc.time()
user system elapsed
365.051 40.179 745.700
dasper.Rcheck/dasper-Ex.timings
| name | user | system | elapsed | |
| coverage_process | 83.179 | 13.788 | 94.173 | |
| junction_load | 0.262 | 0.006 | 0.258 | |
| junction_process | 52.459 | 2.027 | 55.052 | |
| outlier_process | 0 | 0 | 0 | |
| plot_sashimi | 30.080 | 1.811 | 32.421 | |
| ref_load | 7.655 | 0.691 | 8.903 | |