| Back to Multiple platform build/check report for BioC 3.14 |
|
This page was generated on 2022-04-13 12:05:13 -0400 (Wed, 13 Apr 2022).
| Hostname | OS | Arch (*) | R version | Installed pkgs |
|---|---|---|---|---|
| nebbiolo2 | Linux (Ubuntu 20.04.4 LTS) | x86_64 | 4.1.3 (2022-03-10) -- "One Push-Up" | 4324 |
| tokay2 | Windows Server 2012 R2 Standard | x64 | 4.1.3 (2022-03-10) -- "One Push-Up" | 4077 |
| machv2 | macOS 10.14.6 Mojave | x86_64 | 4.1.3 (2022-03-10) -- "One Push-Up" | 4137 |
| Click on any hostname to see more info about the system (e.g. compilers) (*) as reported by 'uname -p', except on Windows and Mac OS X | ||||
|
To the developers/maintainers of the cola package: - Please allow up to 24 hours (and sometimes 48 hours) for your latest push to git@git.bioconductor.org:packages/cola.git to reflect on this report. See How and When does the builder pull? When will my changes propagate? for more information. - Make sure to use the following settings in order to reproduce any error or warning you see on this page. |
| Package 373/2083 | Hostname | OS / Arch | INSTALL | BUILD | CHECK | BUILD BIN | ||||||||
| cola 2.0.0 (landing page) Zuguang Gu
| nebbiolo2 | Linux (Ubuntu 20.04.4 LTS) / x86_64 | OK | OK | OK | |||||||||
| tokay2 | Windows Server 2012 R2 Standard / x64 | OK | OK | OK | OK | |||||||||
| machv2 | macOS 10.14.6 Mojave / x86_64 | OK | OK | OK | OK | |||||||||
| Package: cola |
| Version: 2.0.0 |
| Command: /home/biocbuild/bbs-3.14-bioc/R/bin/R CMD check --install=check:cola.install-out.txt --library=/home/biocbuild/bbs-3.14-bioc/R/library --no-vignettes --timings cola_2.0.0.tar.gz |
| StartedAt: 2022-04-12 06:54:54 -0400 (Tue, 12 Apr 2022) |
| EndedAt: 2022-04-12 06:57:37 -0400 (Tue, 12 Apr 2022) |
| EllapsedTime: 163.0 seconds |
| RetCode: 0 |
| Status: OK |
| CheckDir: cola.Rcheck |
| Warnings: 0 |
##############################################################################
##############################################################################
###
### Running command:
###
### /home/biocbuild/bbs-3.14-bioc/R/bin/R CMD check --install=check:cola.install-out.txt --library=/home/biocbuild/bbs-3.14-bioc/R/library --no-vignettes --timings cola_2.0.0.tar.gz
###
##############################################################################
##############################################################################
* using log directory ‘/home/biocbuild/bbs-3.14-bioc/meat/cola.Rcheck’
* using R version 4.1.3 (2022-03-10)
* using platform: x86_64-pc-linux-gnu (64-bit)
* using session charset: UTF-8
* using option ‘--no-vignettes’
* checking for file ‘cola/DESCRIPTION’ ... OK
* checking extension type ... Package
* this is package ‘cola’ version ‘2.0.0’
* checking package namespace information ... OK
* checking package dependencies ... OK
* checking if this is a source package ... OK
* checking if there is a namespace ... OK
* checking for hidden files and directories ... OK
* checking for portable file names ... OK
* checking for sufficient/correct file permissions ... OK
* checking whether package ‘cola’ can be installed ... OK
* checking installed package size ... NOTE
installed size is 8.2Mb
sub-directories of 1Mb or more:
data 3.5Mb
extdata 1.0Mb
libs 2.4Mb
* checking package directory ... OK
* checking ‘build’ directory ... OK
* checking DESCRIPTION meta-information ... OK
* checking top-level files ... OK
* checking for left-over files ... OK
* checking index information ... OK
* checking package subdirectories ... OK
* checking R files for non-ASCII characters ... OK
* checking R files for syntax errors ... OK
* checking whether the package can be loaded ... OK
* checking whether the package can be loaded with stated dependencies ... OK
* checking whether the package can be unloaded cleanly ... OK
* checking whether the namespace can be loaded with stated dependencies ... OK
* checking whether the namespace can be unloaded cleanly ... OK
* checking dependencies in R code ... OK
* checking S3 generic/method consistency ... OK
* checking replacement functions ... OK
* checking foreign function calls ... OK
* checking R code for possible problems ... OK
* checking Rd files ... OK
* checking Rd metadata ... OK
* checking Rd cross-references ... OK
* checking for missing documentation entries ... OK
* checking for code/documentation mismatches ... OK
* checking Rd \usage sections ... OK
* checking Rd contents ... OK
* checking for unstated dependencies in examples ... OK
* checking contents of ‘data’ directory ... OK
* checking data for non-ASCII characters ... OK
* checking data for ASCII and uncompressed saves ... OK
* checking line endings in C/C++/Fortran sources/headers ... OK
* checking compiled code ... NOTE
Note: information on .o files is not available
* checking files in ‘vignettes’ ... OK
* checking examples ... OK
Examples with CPU (user + system) or elapsed time > 5s
user system elapsed
consensus_partition 18.987 0.392 19.379
* checking for unstated dependencies in ‘tests’ ... OK
* checking tests ...
Running ‘test-all.R’
OK
* checking for unstated dependencies in vignettes ... OK
* checking package vignettes in ‘inst/doc’ ... OK
* checking running R code from vignettes ... SKIPPED
* checking re-building of vignette outputs ... SKIPPED
* checking PDF version of manual ... OK
* DONE
Status: 2 NOTEs
See
‘/home/biocbuild/bbs-3.14-bioc/meat/cola.Rcheck/00check.log’
for details.
cola.Rcheck/00install.out
############################################################################## ############################################################################## ### ### Running command: ### ### /home/biocbuild/bbs-3.14-bioc/R/bin/R CMD INSTALL cola ### ############################################################################## ############################################################################## * installing to library ‘/home/biocbuild/bbs-3.14-bioc/R/library’ * installing *source* package ‘cola’ ... ** using staged installation ** libs g++ -std=gnu++14 -I"/home/biocbuild/bbs-3.14-bioc/R/include" -DNDEBUG -I'/home/biocbuild/bbs-3.14-bioc/R/library/Rcpp/include' -I/usr/local/include -fpic -g -O2 -Wall -c RcppExports.cpp -o RcppExports.o g++ -std=gnu++14 -I"/home/biocbuild/bbs-3.14-bioc/R/include" -DNDEBUG -I'/home/biocbuild/bbs-3.14-bioc/R/library/Rcpp/include' -I/usr/local/include -fpic -g -O2 -Wall -c atc.cpp -o atc.o g++ -std=gnu++14 -I"/home/biocbuild/bbs-3.14-bioc/R/include" -DNDEBUG -I'/home/biocbuild/bbs-3.14-bioc/R/library/Rcpp/include' -I/usr/local/include -fpic -g -O2 -Wall -c cal_consensus_mat.cpp -o cal_consensus_mat.o g++ -std=gnu++14 -I"/home/biocbuild/bbs-3.14-bioc/R/include" -DNDEBUG -I'/home/biocbuild/bbs-3.14-bioc/R/library/Rcpp/include' -I/usr/local/include -fpic -g -O2 -Wall -c pdist.cpp -o pdist.o g++ -std=gnu++14 -shared -L/home/biocbuild/bbs-3.14-bioc/R/lib -L/usr/local/lib -o cola.so RcppExports.o atc.o cal_consensus_mat.o pdist.o -L/home/biocbuild/bbs-3.14-bioc/R/lib -lR installing to /home/biocbuild/bbs-3.14-bioc/R/library/00LOCK-cola/00new/cola/libs ** R ** data ** inst ** byte-compile and prepare package for lazy loading ** help *** installing help indices ** building package indices ** installing vignettes ** testing if installed package can be loaded from temporary location ** checking absolute paths in shared objects and dynamic libraries ** testing if installed package can be loaded from final location ** testing if installed package keeps a record of temporary installation path * DONE (cola)
cola.Rcheck/tests/test-all.Rout
R version 4.1.3 (2022-03-10) -- "One Push-Up"
Copyright (C) 2022 The R Foundation for Statistical Computing
Platform: x86_64-pc-linux-gnu (64-bit)
R is free software and comes with ABSOLUTELY NO WARRANTY.
You are welcome to redistribute it under certain conditions.
Type 'license()' or 'licence()' for distribution details.
R is a collaborative project with many contributors.
Type 'contributors()' for more information and
'citation()' on how to cite R or R packages in publications.
Type 'demo()' for some demos, 'help()' for on-line help, or
'help.start()' for an HTML browser interface to help.
Type 'q()' to quit R.
> library(testthat)
> suppressWarnings(suppressPackageStartupMessages(library(cola)))
>
> test_check("cola")
[ FAIL 0 | WARN 0 | SKIP 0 | PASS 18 ]
>
>
> proc.time()
user system elapsed
4.331 0.275 4.590
cola.Rcheck/cola-Ex.timings
| name | user | system | elapsed | |
| ATC | 0.021 | 0.004 | 0.025 | |
| ATC_approx | 0 | 0 | 0 | |
| ConsensusPartition-class | 0 | 0 | 0 | |
| ConsensusPartitionList-class | 0 | 0 | 0 | |
| DownSamplingConsensusPartition-class | 0 | 0 | 0 | |
| Extract.ConsensusPartitionList | 0.426 | 0.012 | 0.438 | |
| Extract.HierarchicalPartition | 0.231 | 0.008 | 0.239 | |
| ExtractExtract.ConsensusPartitionList | 0.173 | 0.007 | 0.181 | |
| ExtractExtract.HierarchicalPartition | 0 | 0 | 0 | |
| FCC | 0.167 | 0.005 | 0.171 | |
| HierarchicalPartition-class | 0.000 | 0.000 | 0.001 | |
| PAC | 0.168 | 0.008 | 0.176 | |
| aPAC | 0.481 | 0.008 | 0.489 | |
| adjust_matrix | 0.006 | 0.000 | 0.006 | |
| adjust_outlier | 0 | 0 | 0 | |
| all_leaves-HierarchicalPartition-method | 0.117 | 0.012 | 0.129 | |
| all_nodes-HierarchicalPartition-method | 0.121 | 0.000 | 0.122 | |
| all_partition_methods | 0.001 | 0.000 | 0.001 | |
| all_top_value_methods | 0.001 | 0.000 | 0.001 | |
| cola | 0.04 | 0.00 | 0.04 | |
| cola_opt | 0.024 | 0.000 | 0.024 | |
| cola_report-ConsensusPartition-method | 0 | 0 | 0 | |
| cola_report-ConsensusPartitionList-method | 0 | 0 | 0 | |
| cola_report-HierarchicalPartition-method | 0 | 0 | 0 | |
| cola_report-dispatch | 0 | 0 | 0 | |
| cola_rl | 0.107 | 0.012 | 0.119 | |
| collect_classes-ConsensusPartition-method | 1.872 | 0.064 | 1.936 | |
| collect_classes-ConsensusPartitionList-method | 2.905 | 0.139 | 3.045 | |
| collect_classes-HierarchicalPartition-method | 1.520 | 0.049 | 1.568 | |
| collect_classes-dispatch | 0 | 0 | 0 | |
| collect_plots-ConsensusPartition-method | 0 | 0 | 0 | |
| collect_plots-ConsensusPartitionList-method | 0 | 0 | 0 | |
| collect_plots-dispatch | 0 | 0 | 0 | |
| collect_stats-ConsensusPartition-method | 0 | 0 | 0 | |
| collect_stats-ConsensusPartitionList-method | 0.385 | 0.019 | 0.405 | |
| collect_stats-dispatch | 0 | 0 | 0 | |
| colnames-ConsensusPartition-method | 0 | 0 | 0 | |
| colnames-ConsensusPartitionList-method | 0 | 0 | 0 | |
| colnames-DownSamplingConsensusPartition-method | 0 | 0 | 0 | |
| colnames-HierarchicalPartition-method | 0 | 0 | 0 | |
| colnames-dispatch | 0 | 0 | 0 | |
| compare_partitions-ConsensusPartition-method | 0 | 0 | 0 | |
| compare_signatures-ConsensusPartition-method | 0 | 0 | 0 | |
| compare_signatures-HierarchicalPartition-method | 4.683 | 0.247 | 4.931 | |
| compare_signatures-dispatch | 0 | 0 | 0 | |
| concordance | 0.143 | 0.016 | 0.159 | |
| config_ATC | 0.001 | 0.000 | 0.001 | |
| consensus_heatmap-ConsensusPartition-method | 0.559 | 0.112 | 0.671 | |
| consensus_partition | 18.987 | 0.392 | 19.379 | |
| consensus_partition_by_down_sampling | 0 | 0 | 0 | |
| correspond_between_rankings | 0.05 | 0.00 | 0.05 | |
| correspond_between_two_rankings | 0.024 | 0.000 | 0.024 | |
| david_enrichment | 0 | 0 | 0 | |
| dim.ConsensusPartition | 0 | 0 | 0 | |
| dim.ConsensusPartitionList | 0 | 0 | 0 | |
| dim.DownSamplingConsensusPartition | 0.001 | 0.000 | 0.000 | |
| dim.HierarchicalPartition | 0 | 0 | 0 | |
| dimension_reduction-ConsensusPartition-method | 0.533 | 0.040 | 0.573 | |
| dimension_reduction-DownSamplingConsensusPartition-method | 0.919 | 0.012 | 0.931 | |
| dimension_reduction-HierarchicalPartition-method | 0.488 | 0.004 | 0.492 | |
| dimension_reduction-dispatch | 0 | 0 | 0 | |
| dimension_reduction-matrix-method | 0 | 0 | 0 | |
| find_best_km | 0 | 0 | 0 | |
| functional_enrichment-ANY-method | 0 | 0 | 0 | |
| functional_enrichment-ConsensusPartition-method | 0 | 0 | 0 | |
| functional_enrichment-ConsensusPartitionList-method | 0.001 | 0.000 | 0.000 | |
| functional_enrichment-HierarchicalPartition-method | 0 | 0 | 0 | |
| functional_enrichment-dispatch | 0.000 | 0.000 | 0.001 | |
| get_anno-ConsensusPartition-method | 0 | 0 | 0 | |
| get_anno-ConsensusPartitionList-method | 0 | 0 | 0 | |
| get_anno-DownSamplingConsensusPartition-method | 0.094 | 0.004 | 0.098 | |
| get_anno-HierarchicalPartition-method | 0 | 0 | 0 | |
| get_anno-dispatch | 0 | 0 | 0 | |
| get_anno_col-ConsensusPartition-method | 0.001 | 0.000 | 0.001 | |
| get_anno_col-ConsensusPartitionList-method | 0 | 0 | 0 | |
| get_anno_col-HierarchicalPartition-method | 0.001 | 0.000 | 0.000 | |
| get_anno_col-dispatch | 0 | 0 | 0 | |
| get_children_nodes-HierarchicalPartition-method | 0.001 | 0.000 | 0.000 | |
| get_classes-ConsensusPartition-method | 0.151 | 0.012 | 0.163 | |
| get_classes-ConsensusPartitionList-method | 0.157 | 0.008 | 0.165 | |
| get_classes-DownSamplingConsensusPartition-method | 0.081 | 0.006 | 0.086 | |
| get_classes-HierarchicalPartition-method | 0.128 | 0.002 | 0.130 | |
| get_classes-dispatch | 0 | 0 | 0 | |
| get_consensus-ConsensusPartition-method | 0.154 | 0.020 | 0.174 | |
| get_matrix-ConsensusPartition-method | 0.318 | 0.136 | 0.453 | |
| get_matrix-ConsensusPartitionList-method | 0.344 | 0.104 | 0.448 | |
| get_matrix-HierarchicalPartition-method | 0 | 0 | 0 | |
| get_matrix-dispatch | 0 | 0 | 0 | |
| get_membership-ConsensusPartition-method | 0.159 | 0.016 | 0.174 | |
| get_membership-ConsensusPartitionList-method | 0.143 | 0.012 | 0.155 | |
| get_membership-dispatch | 0 | 0 | 0 | |
| get_param-ConsensusPartition-method | 0.171 | 0.020 | 0.190 | |
| get_signatures-ConsensusPartition-method | 4.380 | 0.088 | 4.402 | |
| get_signatures-DownSamplingConsensusPartition-method | 0 | 0 | 0 | |
| get_signatures-HierarchicalPartition-method | 0 | 0 | 0 | |
| get_signatures-dispatch | 0.001 | 0.000 | 0.000 | |
| get_stats-ConsensusPartition-method | 0.148 | 0.008 | 0.156 | |
| get_stats-ConsensusPartitionList-method | 0.146 | 0.008 | 0.154 | |
| get_stats-dispatch | 0 | 0 | 0 | |
| golub_cola | 0.175 | 0.012 | 0.187 | |
| golub_cola_ds | 0.092 | 0.004 | 0.097 | |
| golub_cola_rh | 0.146 | 0.004 | 0.150 | |
| hierarchical_partition | 0 | 0 | 0 | |
| is_best_k-ConsensusPartition-method | 0.150 | 0.008 | 0.159 | |
| is_best_k-ConsensusPartitionList-method | 0.154 | 0.004 | 0.158 | |
| is_best_k-dispatch | 0.000 | 0.000 | 0.001 | |
| is_leaf_node-HierarchicalPartition-method | 0.123 | 0.000 | 0.123 | |
| is_stable_k-ConsensusPartition-method | 0.162 | 0.004 | 0.166 | |
| is_stable_k-ConsensusPartitionList-method | 0.158 | 0.004 | 0.162 | |
| is_stable_k-dispatch | 0 | 0 | 0 | |
| knee_finder2 | 0.035 | 0.000 | 0.035 | |
| knitr_add_tab_item | 0 | 0 | 0 | |
| knitr_insert_tabs | 0 | 0 | 0 | |
| map_to_entrez_id | 0 | 0 | 0 | |
| max_depth-HierarchicalPartition-method | 0.120 | 0.000 | 0.121 | |
| membership_heatmap-ConsensusPartition-method | 0.446 | 0.008 | 0.454 | |
| merge_node-HierarchicalPartition-method | 0 | 0 | 0 | |
| merge_node_param | 0.001 | 0.000 | 0.000 | |
| ncol-ConsensusPartition-method | 0 | 0 | 0 | |
| ncol-ConsensusPartitionList-method | 0 | 0 | 0 | |
| ncol-DownSamplingConsensusPartition-method | 0 | 0 | 0 | |
| ncol-HierarchicalPartition-method | 0 | 0 | 0 | |
| ncol-dispatch | 0 | 0 | 0 | |
| node_info-HierarchicalPartition-method | 0 | 0 | 0 | |
| node_level-HierarchicalPartition-method | 0 | 0 | 0 | |
| nrow-ConsensusPartition-method | 0 | 0 | 0 | |
| nrow-ConsensusPartitionList-method | 0 | 0 | 0 | |
| nrow-HierarchicalPartition-method | 0 | 0 | 0 | |
| nrow-dispatch | 0 | 0 | 0 | |
| plot_ecdf-ConsensusPartition-method | 0.242 | 0.008 | 0.251 | |
| predict_classes-ConsensusPartition-method | 0.001 | 0.000 | 0.000 | |
| predict_classes-dispatch | 0 | 0 | 0 | |
| predict_classes-matrix-method | 0.000 | 0.000 | 0.001 | |
| print.hc_table_suggest_best_k | 0 | 0 | 0 | |
| recalc_stats | 0 | 0 | 0 | |
| register_NMF | 0.001 | 0.000 | 0.000 | |
| register_SOM | 0 | 0 | 0 | |
| register_partition_methods | 0.615 | 0.004 | 0.620 | |
| register_top_value_methods | 0.001 | 0.000 | 0.001 | |
| relabel_class | 0.008 | 0.000 | 0.008 | |
| remove_partition_methods | 0 | 0 | 0 | |
| remove_top_value_methods | 0 | 0 | 0 | |
| rownames-ConsensusPartition-method | 0 | 0 | 0 | |
| rownames-ConsensusPartitionList-method | 0.000 | 0.000 | 0.001 | |
| rownames-HierarchicalPartition-method | 0 | 0 | 0 | |
| rownames-dispatch | 0 | 0 | 0 | |
| run_all_consensus_partition_methods | 0 | 0 | 0 | |
| select_partition_number-ConsensusPartition-method | 0.168 | 0.007 | 0.175 | |
| show-ConsensusPartition-method | 0 | 0 | 0 | |
| show-ConsensusPartitionList-method | 0.000 | 0.001 | 0.001 | |
| show-DownSamplingConsensusPartition-method | 0.098 | 0.006 | 0.104 | |
| show-HierarchicalPartition-method | 0.160 | 0.004 | 0.164 | |
| show-dispatch | 0 | 0 | 0 | |
| split_node-HierarchicalPartition-method | 0 | 0 | 0 | |
| suggest_best_k-ConsensusPartition-method | 0.146 | 0.012 | 0.159 | |
| suggest_best_k-ConsensusPartitionList-method | 0.159 | 0.008 | 0.167 | |
| suggest_best_k-HierarchicalPartition-method | 0.126 | 0.004 | 0.129 | |
| suggest_best_k-dispatch | 0 | 0 | 0 | |
| test_between_factors | 0.008 | 0.000 | 0.009 | |
| test_to_known_factors-ConsensusPartition-method | 0.173 | 0.004 | 0.178 | |
| test_to_known_factors-ConsensusPartitionList-method | 0.277 | 0.004 | 0.281 | |
| test_to_known_factors-DownSamplingConsensusPartition-method | 0.104 | 0.004 | 0.108 | |
| test_to_known_factors-HierarchicalPartition-method | 0.118 | 0.016 | 0.134 | |
| test_to_known_factors-dispatch | 0 | 0 | 0 | |
| top_elements_overlap | 0.185 | 0.000 | 0.185 | |
| top_rows_heatmap-ConsensusPartition-method | 0 | 0 | 0 | |
| top_rows_heatmap-ConsensusPartitionList-method | 0 | 0 | 0 | |
| top_rows_heatmap-HierarchicalPartition-method | 0 | 0 | 0 | |
| top_rows_heatmap-dispatch | 0 | 0 | 0 | |
| top_rows_heatmap-matrix-method | 3.915 | 0.120 | 3.981 | |
| top_rows_overlap-ConsensusPartitionList-method | 0.782 | 0.004 | 0.786 | |
| top_rows_overlap-HierarchicalPartition-method | 0.543 | 0.000 | 0.544 | |
| top_rows_overlap-dispatch | 0 | 0 | 0 | |
| top_rows_overlap-matrix-method | 0.111 | 0.000 | 0.110 | |