| Back to Multiple platform build/check report for BioC 3.14 |
|
This page was generated on 2022-04-13 12:05:12 -0400 (Wed, 13 Apr 2022).
| Hostname | OS | Arch (*) | R version | Installed pkgs |
|---|---|---|---|---|
| nebbiolo2 | Linux (Ubuntu 20.04.4 LTS) | x86_64 | 4.1.3 (2022-03-10) -- "One Push-Up" | 4324 |
| tokay2 | Windows Server 2012 R2 Standard | x64 | 4.1.3 (2022-03-10) -- "One Push-Up" | 4077 |
| machv2 | macOS 10.14.6 Mojave | x86_64 | 4.1.3 (2022-03-10) -- "One Push-Up" | 4137 |
| Click on any hostname to see more info about the system (e.g. compilers) (*) as reported by 'uname -p', except on Windows and Mac OS X | ||||
|
To the developers/maintainers of the coexnet package: - Please allow up to 24 hours (and sometimes 48 hours) for your latest push to git@git.bioconductor.org:packages/coexnet.git to reflect on this report. See How and When does the builder pull? When will my changes propagate? for more information. - Make sure to use the following settings in order to reproduce any error or warning you see on this page. |
| Package 367/2083 | Hostname | OS / Arch | INSTALL | BUILD | CHECK | BUILD BIN | ||||||||
| coexnet 1.16.0 (landing page) Juan David Henao
| nebbiolo2 | Linux (Ubuntu 20.04.4 LTS) / x86_64 | OK | OK | ERROR | |||||||||
| tokay2 | Windows Server 2012 R2 Standard / x64 | OK | OK | ERROR | OK | |||||||||
| machv2 | macOS 10.14.6 Mojave / x86_64 | OK | OK | ERROR | OK | |||||||||
| Package: coexnet |
| Version: 1.16.0 |
| Command: /home/biocbuild/bbs-3.14-bioc/R/bin/R CMD check --install=check:coexnet.install-out.txt --library=/home/biocbuild/bbs-3.14-bioc/R/library --no-vignettes --timings coexnet_1.16.0.tar.gz |
| StartedAt: 2022-04-12 06:54:37 -0400 (Tue, 12 Apr 2022) |
| EndedAt: 2022-04-12 06:57:26 -0400 (Tue, 12 Apr 2022) |
| EllapsedTime: 168.6 seconds |
| RetCode: 1 |
| Status: ERROR |
| CheckDir: coexnet.Rcheck |
| Warnings: NA |
##############################################################################
##############################################################################
###
### Running command:
###
### /home/biocbuild/bbs-3.14-bioc/R/bin/R CMD check --install=check:coexnet.install-out.txt --library=/home/biocbuild/bbs-3.14-bioc/R/library --no-vignettes --timings coexnet_1.16.0.tar.gz
###
##############################################################################
##############################################################################
* using log directory ‘/home/biocbuild/bbs-3.14-bioc/meat/coexnet.Rcheck’
* using R version 4.1.3 (2022-03-10)
* using platform: x86_64-pc-linux-gnu (64-bit)
* using session charset: UTF-8
* using option ‘--no-vignettes’
* checking for file ‘coexnet/DESCRIPTION’ ... OK
* checking extension type ... Package
* this is package ‘coexnet’ version ‘1.16.0’
* checking package namespace information ... OK
* checking package dependencies ... OK
* checking if this is a source package ... OK
* checking if there is a namespace ... OK
* checking for hidden files and directories ... OK
* checking for portable file names ... OK
* checking for sufficient/correct file permissions ... OK
* checking whether package ‘coexnet’ can be installed ... OK
* checking installed package size ... OK
* checking package directory ... OK
* checking ‘build’ directory ... OK
* checking DESCRIPTION meta-information ... OK
* checking top-level files ... OK
* checking for left-over files ... OK
* checking index information ... OK
* checking package subdirectories ... OK
* checking R files for non-ASCII characters ... OK
* checking R files for syntax errors ... OK
* checking whether the package can be loaded ... OK
* checking whether the package can be loaded with stated dependencies ... OK
* checking whether the package can be unloaded cleanly ... OK
* checking whether the namespace can be loaded with stated dependencies ... OK
* checking whether the namespace can be unloaded cleanly ... OK
* checking dependencies in R code ... OK
* checking S3 generic/method consistency ... OK
* checking replacement functions ... OK
* checking foreign function calls ... OK
* checking R code for possible problems ... OK
* checking Rd files ... OK
* checking Rd metadata ... OK
* checking Rd cross-references ... OK
* checking for missing documentation entries ... OK
* checking for code/documentation mismatches ... OK
* checking Rd \usage sections ... OK
* checking Rd contents ... OK
* checking for unstated dependencies in examples ... OK
* checking contents of ‘data’ directory ... OK
* checking data for non-ASCII characters ... OK
* checking LazyData ... OK
* checking data for ASCII and uncompressed saves ... OK
* checking files in ‘vignettes’ ... OK
* checking examples ... OK
Examples with CPU (user + system) or elapsed time > 5s
user system elapsed
findThreshold 9.1 0.188 9.288
* checking for unstated dependencies in ‘tests’ ... OK
* checking tests ...
Running ‘runTests.R’
ERROR
Running the tests in ‘tests/runTests.R’ failed.
Last 13 lines of output:
FAILURE in test_ppiNet: Error in checkEqualsNumeric(length(ppi), 10) :
Mean relative difference: 0.6666667
Test files with failing tests
test_coexnet.R
test_CCP
test_geneSymbol
test_ppiNet
Error in BiocGenerics:::testPackage("coexnet") :
unit tests failed for package coexnet
Execution halted
* checking for unstated dependencies in vignettes ... OK
* checking package vignettes in ‘inst/doc’ ... OK
* checking running R code from vignettes ... SKIPPED
* checking re-building of vignette outputs ... SKIPPED
* checking PDF version of manual ... OK
* DONE
Status: 1 ERROR
See
‘/home/biocbuild/bbs-3.14-bioc/meat/coexnet.Rcheck/00check.log’
for details.
coexnet.Rcheck/00install.out
############################################################################## ############################################################################## ### ### Running command: ### ### /home/biocbuild/bbs-3.14-bioc/R/bin/R CMD INSTALL coexnet ### ############################################################################## ############################################################################## * installing to library ‘/home/biocbuild/bbs-3.14-bioc/R/library’ * installing *source* package ‘coexnet’ ... ** using staged installation ** R ** data *** moving datasets to lazyload DB ** inst ** byte-compile and prepare package for lazy loading ** help *** installing help indices ** building package indices ** installing vignettes ** testing if installed package can be loaded from temporary location ** testing if installed package can be loaded from final location ** testing if installed package keeps a record of temporary installation path * DONE (coexnet)
coexnet.Rcheck/tests/runTests.Rout.fail
R version 4.1.3 (2022-03-10) -- "One Push-Up"
Copyright (C) 2022 The R Foundation for Statistical Computing
Platform: x86_64-pc-linux-gnu (64-bit)
R is free software and comes with ABSOLUTELY NO WARRANTY.
You are welcome to redistribute it under certain conditions.
Type 'license()' or 'licence()' for distribution details.
R is a collaborative project with many contributors.
Type 'contributors()' for more information and
'citation()' on how to cite R or R packages in publications.
Type 'demo()' for some demos, 'help()' for on-line help, or
'help.start()' for an HTML browser interface to help.
Type 'q()' to quit R.
> BiocGenerics:::testPackage("coexnet")
Setting options('download.file.method.GEOquery'='auto')
Setting options('GEOquery.inmemory.gpl'=FALSE)
Timing stopped at: 0.012 0 0.012
Error in checkEqualsNumeric(length(ccp), 10) :
Mean relative difference: 1
Achieved FDR: 0.0979166666666667Achieved FDR: 0.0463636363636364Timing stopped at: 0.015 0 0.015
Error in checkEquals(final_table$ID[1], "Os03g0669200") :
'is.NA' value mismatch: 0 in current 1 in target
Timing stopped at: 0.002 0 0.002
Error in checkEqualsNumeric(length(ppi), 10) :
Mean relative difference: 0.6666667
RUNIT TEST PROTOCOL -- Tue Apr 12 06:57:23 2022
***********************************************
Number of test functions: 10
Number of errors: 0
Number of failures: 3
1 Test Suite :
coexnet RUnit Tests - 10 test functions, 0 errors, 3 failures
FAILURE in test_CCP: Error in checkEqualsNumeric(length(ccp), 10) :
Mean relative difference: 1
FAILURE in test_geneSymbol: Error in checkEquals(final_table$ID[1], "Os03g0669200") :
'is.NA' value mismatch: 0 in current 1 in target
FAILURE in test_ppiNet: Error in checkEqualsNumeric(length(ppi), 10) :
Mean relative difference: 0.6666667
Test files with failing tests
test_coexnet.R
test_CCP
test_geneSymbol
test_ppiNet
Error in BiocGenerics:::testPackage("coexnet") :
unit tests failed for package coexnet
Execution halted
coexnet.Rcheck/coexnet-Ex.timings
| name | user | system | elapsed | |
| CCP | 0.038 | 0.001 | 0.039 | |
| cofVar | 0.021 | 0.000 | 0.020 | |
| createNet | 1.261 | 0.048 | 1.309 | |
| difExprs | 0.550 | 0.035 | 0.587 | |
| exprMat | 0 | 0 | 0 | |
| findThreshold | 9.100 | 0.188 | 9.288 | |
| geneSymbol | 0.012 | 0.004 | 0.017 | |
| getAffy | 0.316 | 0.001 | 0.316 | |
| getInfo | 0 | 0 | 0 | |
| ppiNet | 0.003 | 0.000 | 0.004 | |
| sharedComponents | 0.003 | 0.000 | 0.004 | |