| Back to Multiple platform build/check report for BioC 3.14 |
|
This page was generated on 2022-04-13 12:06:23 -0400 (Wed, 13 Apr 2022).
| Hostname | OS | Arch (*) | R version | Installed pkgs |
|---|---|---|---|---|
| nebbiolo2 | Linux (Ubuntu 20.04.4 LTS) | x86_64 | 4.1.3 (2022-03-10) -- "One Push-Up" | 4324 |
| tokay2 | Windows Server 2012 R2 Standard | x64 | 4.1.3 (2022-03-10) -- "One Push-Up" | 4077 |
| machv2 | macOS 10.14.6 Mojave | x86_64 | 4.1.3 (2022-03-10) -- "One Push-Up" | 4137 |
| Click on any hostname to see more info about the system (e.g. compilers) (*) as reported by 'uname -p', except on Windows and Mac OS X | ||||
|
To the developers/maintainers of the coRdon package: - Please allow up to 24 hours (and sometimes 48 hours) for your latest push to git@git.bioconductor.org:packages/coRdon.git to reflect on this report. See How and When does the builder pull? When will my changes propagate? for more information. - Make sure to use the following settings in order to reproduce any error or warning you see on this page. |
| Package 398/2083 | Hostname | OS / Arch | INSTALL | BUILD | CHECK | BUILD BIN | ||||||||
| coRdon 1.12.0 (landing page) Anamaria Elek
| nebbiolo2 | Linux (Ubuntu 20.04.4 LTS) / x86_64 | OK | OK | OK | |||||||||
| tokay2 | Windows Server 2012 R2 Standard / x64 | OK | OK | OK | OK | |||||||||
| machv2 | macOS 10.14.6 Mojave / x86_64 | OK | OK | OK | OK | |||||||||
| Package: coRdon |
| Version: 1.12.0 |
| Command: rm -rf coRdon.buildbin-libdir && mkdir coRdon.buildbin-libdir && C:\Users\biocbuild\bbs-3.14-bioc\R\bin\R.exe CMD INSTALL --merge-multiarch --build --library=coRdon.buildbin-libdir coRdon_1.12.0.tar.gz |
| StartedAt: 2022-04-13 05:56:46 -0400 (Wed, 13 Apr 2022) |
| EndedAt: 2022-04-13 05:57:18 -0400 (Wed, 13 Apr 2022) |
| EllapsedTime: 32.2 seconds |
| RetCode: 0 |
| Status: OK |
| PackageFile: coRdon_1.12.0.zip |
| PackageFileSize: 1.371 MiB |
##############################################################################
##############################################################################
###
### Running command:
###
### rm -rf coRdon.buildbin-libdir && mkdir coRdon.buildbin-libdir && C:\Users\biocbuild\bbs-3.14-bioc\R\bin\R.exe CMD INSTALL --merge-multiarch --build --library=coRdon.buildbin-libdir coRdon_1.12.0.tar.gz
###
##############################################################################
##############################################################################
install for i386
* installing *source* package 'coRdon' ...
** using staged installation
** R
** data
*** moving datasets to lazyload DB
** inst
** byte-compile and prepare package for lazy loading
** help
*** installing help indices
converting help for package 'coRdon'
finding HTML links ... done
HD59 html
HD59_KO html
HD59_PATHWAYS html
LD94 html
LD94_KO html
LD94_PATHWAYS html
RPKOs html
bplot html
coRdon html
codonTable-class html
codonUsage-expressivity html
codonUsage html
crossTab-class html
enrichBarplot html
enrichMAplot html
enrichMatrix html
enrichment html
genCode-class html
intraBplot html
length-codonTable html
length-crossTab html
readSet html
reduceCrossTab html
show-codonTable html
show-crossTab html
subset html
** building package indices
** installing vignettes
** testing if installed package can be loaded from temporary location
** testing if installed package can be loaded from final location
** testing if installed package keeps a record of temporary installation path
install for x64
* installing *source* package 'coRdon' ...
** testing if installed package can be loaded
* MD5 sums
packaged installation of 'coRdon' as coRdon_1.12.0.zip
* DONE (coRdon)