| Back to Multiple platform build/check report for BioC 3.14 |
|
This page was generated on 2022-04-13 12:06:21 -0400 (Wed, 13 Apr 2022).
| Hostname | OS | Arch (*) | R version | Installed pkgs |
|---|---|---|---|---|
| nebbiolo2 | Linux (Ubuntu 20.04.4 LTS) | x86_64 | 4.1.3 (2022-03-10) -- "One Push-Up" | 4324 |
| tokay2 | Windows Server 2012 R2 Standard | x64 | 4.1.3 (2022-03-10) -- "One Push-Up" | 4077 |
| machv2 | macOS 10.14.6 Mojave | x86_64 | 4.1.3 (2022-03-10) -- "One Push-Up" | 4137 |
| Click on any hostname to see more info about the system (e.g. compilers) (*) as reported by 'uname -p', except on Windows and Mac OS X | ||||
|
To the developers/maintainers of the clusterProfiler package: - Please allow up to 24 hours (and sometimes 48 hours) for your latest push to git@git.bioconductor.org:packages/clusterProfiler.git to reflect on this report. See How and When does the builder pull? When will my changes propagate? for more information. - Make sure to use the following settings in order to reproduce any error or warning you see on this page. |
| Package 340/2083 | Hostname | OS / Arch | INSTALL | BUILD | CHECK | BUILD BIN | ||||||||
| clusterProfiler 4.2.2 (landing page) Guangchuang Yu
| nebbiolo2 | Linux (Ubuntu 20.04.4 LTS) / x86_64 | OK | OK | OK | |||||||||
| tokay2 | Windows Server 2012 R2 Standard / x64 | OK | OK | OK | OK | |||||||||
| machv2 | macOS 10.14.6 Mojave / x86_64 | OK | OK | OK | OK | |||||||||
| Package: clusterProfiler |
| Version: 4.2.2 |
| Command: rm -rf clusterProfiler.buildbin-libdir && mkdir clusterProfiler.buildbin-libdir && C:\Users\biocbuild\bbs-3.14-bioc\R\bin\R.exe CMD INSTALL --merge-multiarch --build --library=clusterProfiler.buildbin-libdir clusterProfiler_4.2.2.tar.gz |
| StartedAt: 2022-04-13 05:53:34 -0400 (Wed, 13 Apr 2022) |
| EndedAt: 2022-04-13 05:54:29 -0400 (Wed, 13 Apr 2022) |
| EllapsedTime: 55.0 seconds |
| RetCode: 0 |
| Status: OK |
| PackageFile: clusterProfiler_4.2.2.zip |
| PackageFileSize: 759.1 KiB |
##############################################################################
##############################################################################
###
### Running command:
###
### rm -rf clusterProfiler.buildbin-libdir && mkdir clusterProfiler.buildbin-libdir && C:\Users\biocbuild\bbs-3.14-bioc\R\bin\R.exe CMD INSTALL --merge-multiarch --build --library=clusterProfiler.buildbin-libdir clusterProfiler_4.2.2.tar.gz
###
##############################################################################
##############################################################################
install for i386
* installing *source* package 'clusterProfiler' ...
** using staged installation
** R
** data
** inst
** byte-compile and prepare package for lazy loading
** help
*** installing help indices
converting help for package 'clusterProfiler'
finding HTML links ... done
DataSet html
GSEA html
Gff2GeneTable html
bitr html
bitr_kegg html
browseKEGG html
buildGOmap html
clusterProfiler-package html
compareCluster html
finding level-2 HTML links ... done
download_KEGG html
dropGO html
enrichDAVID html
enrichGO html
enrichKEGG html
enrichMKEGG html
enrichWP html
enricher html
get_wp_organisms html
go2ont html
go2term html
gofilter html
groupGO html
groupGOResult-class html
gseGO html
gseKEGG html
gseMKEGG html
gseWP html
idType html
ko2name html
merge_result html
plotGOgraph html
read-gmt html
reexports html
search_kegg_organism html
simplify-methods html
uniprot_get html
** building package indices
** installing vignettes
** testing if installed package can be loaded from temporary location
** testing if installed package can be loaded from final location
** testing if installed package keeps a record of temporary installation path
install for x64
* installing *source* package 'clusterProfiler' ...
** testing if installed package can be loaded
* MD5 sums
packaged installation of 'clusterProfiler' as clusterProfiler_4.2.2.zip
* DONE (clusterProfiler)