| Back to Multiple platform build/check report for BioC 3.14 |
|
This page was generated on 2022-04-13 12:05:10 -0400 (Wed, 13 Apr 2022).
| Hostname | OS | Arch (*) | R version | Installed pkgs |
|---|---|---|---|---|
| nebbiolo2 | Linux (Ubuntu 20.04.4 LTS) | x86_64 | 4.1.3 (2022-03-10) -- "One Push-Up" | 4324 |
| tokay2 | Windows Server 2012 R2 Standard | x64 | 4.1.3 (2022-03-10) -- "One Push-Up" | 4077 |
| machv2 | macOS 10.14.6 Mojave | x86_64 | 4.1.3 (2022-03-10) -- "One Push-Up" | 4137 |
| Click on any hostname to see more info about the system (e.g. compilers) (*) as reported by 'uname -p', except on Windows and Mac OS X | ||||
|
To the developers/maintainers of the chipenrich package: - Please allow up to 24 hours (and sometimes 48 hours) for your latest push to git@git.bioconductor.org:packages/chipenrich.git to reflect on this report. See How and When does the builder pull? When will my changes propagate? for more information. - Make sure to use the following settings in order to reproduce any error or warning you see on this page. |
| Package 300/2083 | Hostname | OS / Arch | INSTALL | BUILD | CHECK | BUILD BIN | ||||||||
| chipenrich 2.18.0 (landing page) Raymond G. Cavalcante
| nebbiolo2 | Linux (Ubuntu 20.04.4 LTS) / x86_64 | OK | OK | OK | |||||||||
| tokay2 | Windows Server 2012 R2 Standard / x64 | OK | OK | OK | OK | |||||||||
| machv2 | macOS 10.14.6 Mojave / x86_64 | OK | OK | OK | OK | |||||||||
| Package: chipenrich |
| Version: 2.18.0 |
| Command: /home/biocbuild/bbs-3.14-bioc/R/bin/R CMD check --install=check:chipenrich.install-out.txt --library=/home/biocbuild/bbs-3.14-bioc/R/library --no-vignettes --timings chipenrich_2.18.0.tar.gz |
| StartedAt: 2022-04-12 06:46:55 -0400 (Tue, 12 Apr 2022) |
| EndedAt: 2022-04-12 06:53:26 -0400 (Tue, 12 Apr 2022) |
| EllapsedTime: 390.5 seconds |
| RetCode: 0 |
| Status: OK |
| CheckDir: chipenrich.Rcheck |
| Warnings: 0 |
##############################################################################
##############################################################################
###
### Running command:
###
### /home/biocbuild/bbs-3.14-bioc/R/bin/R CMD check --install=check:chipenrich.install-out.txt --library=/home/biocbuild/bbs-3.14-bioc/R/library --no-vignettes --timings chipenrich_2.18.0.tar.gz
###
##############################################################################
##############################################################################
* using log directory ‘/home/biocbuild/bbs-3.14-bioc/meat/chipenrich.Rcheck’
* using R version 4.1.3 (2022-03-10)
* using platform: x86_64-pc-linux-gnu (64-bit)
* using session charset: UTF-8
* using option ‘--no-vignettes’
* checking for file ‘chipenrich/DESCRIPTION’ ... OK
* checking extension type ... Package
* this is package ‘chipenrich’ version ‘2.18.0’
* checking package namespace information ... OK
* checking package dependencies ... OK
* checking if this is a source package ... OK
* checking if there is a namespace ... OK
* checking for hidden files and directories ... OK
* checking for portable file names ... OK
* checking for sufficient/correct file permissions ... OK
* checking whether package ‘chipenrich’ can be installed ... OK
* checking installed package size ... OK
* checking package directory ... OK
* checking ‘build’ directory ... OK
* checking DESCRIPTION meta-information ... OK
* checking top-level files ... OK
* checking for left-over files ... OK
* checking index information ... OK
* checking package subdirectories ... OK
* checking R files for non-ASCII characters ... OK
* checking R files for syntax errors ... OK
* checking whether the package can be loaded ... OK
* checking whether the package can be loaded with stated dependencies ... OK
* checking whether the package can be unloaded cleanly ... OK
* checking whether the namespace can be loaded with stated dependencies ... OK
* checking whether the namespace can be unloaded cleanly ... OK
* checking dependencies in R code ... OK
* checking S3 generic/method consistency ... OK
* checking replacement functions ... OK
* checking foreign function calls ... OK
* checking R code for possible problems ... OK
* checking Rd files ... OK
* checking Rd metadata ... OK
* checking Rd cross-references ... OK
* checking for missing documentation entries ... OK
* checking for code/documentation mismatches ... OK
* checking Rd \usage sections ... OK
* checking Rd contents ... OK
* checking for unstated dependencies in examples ... OK
* checking files in ‘vignettes’ ... OK
* checking examples ... OK
Examples with CPU (user + system) or elapsed time > 5s
user system elapsed
broadenrich 7.210 0.216 7.427
polyenrich 5.782 0.044 5.826
* checking for unstated dependencies in ‘tests’ ... OK
* checking tests ...
Running ‘testthat.R’
OK
* checking for unstated dependencies in vignettes ... OK
* checking package vignettes in ‘inst/doc’ ... OK
* checking running R code from vignettes ... SKIPPED
* checking re-building of vignette outputs ... SKIPPED
* checking PDF version of manual ... OK
* DONE
Status: OK
chipenrich.Rcheck/00install.out
############################################################################## ############################################################################## ### ### Running command: ### ### /home/biocbuild/bbs-3.14-bioc/R/bin/R CMD INSTALL chipenrich ### ############################################################################## ############################################################################## * installing to library ‘/home/biocbuild/bbs-3.14-bioc/R/library’ * installing *source* package ‘chipenrich’ ... ** using staged installation ** R ** inst ** byte-compile and prepare package for lazy loading ** help *** installing help indices ** building package indices ** installing vignettes ** testing if installed package can be loaded from temporary location ** testing if installed package can be loaded from final location ** testing if installed package keeps a record of temporary installation path * DONE (chipenrich)
chipenrich.Rcheck/tests/testthat.Rout
R version 4.1.3 (2022-03-10) -- "One Push-Up"
Copyright (C) 2022 The R Foundation for Statistical Computing
Platform: x86_64-pc-linux-gnu (64-bit)
R is free software and comes with ABSOLUTELY NO WARRANTY.
You are welcome to redistribute it under certain conditions.
Type 'license()' or 'licence()' for distribution details.
R is a collaborative project with many contributors.
Type 'contributors()' for more information and
'citation()' on how to cite R or R packages in publications.
Type 'demo()' for some demos, 'help()' for on-line help, or
'help.start()' for an HTML browser interface to help.
Type 'q()' to quit R.
> library(testthat)
> library(chipenrich)
>
> test_check("chipenrich")
[ FAIL 0 | WARN 0 | SKIP 3 | PASS 170 ]
══ Skipped tests ═══════════════════════════════════════════════════════════════
• empty test (3)
[ FAIL 0 | WARN 0 | SKIP 3 | PASS 170 ]
>
> proc.time()
user system elapsed
133.778 2.521 136.355
chipenrich.Rcheck/chipenrich-Ex.timings
| name | user | system | elapsed | |
| assign_peak_segments | 0.240 | 0.007 | 0.250 | |
| assign_peaks | 0.783 | 0.004 | 0.788 | |
| broadenrich | 7.210 | 0.216 | 7.427 | |
| calc_peak_gene_overlap | 0.337 | 0.004 | 0.340 | |
| chipenrich | 1.464 | 0.008 | 1.473 | |
| load_peaks | 0.079 | 0.004 | 0.083 | |
| num_peaks_per_gene | 0.464 | 0.008 | 0.472 | |
| peaks2genes | 0.492 | 0.000 | 0.492 | |
| plot_chipenrich_spline | 2.239 | 0.136 | 2.376 | |
| plot_dist_to_tss | 0.287 | 0.004 | 0.291 | |
| plot_gene_coverage | 0.731 | 0.012 | 0.744 | |
| plot_polyenrich_spline | 1.656 | 0.028 | 1.685 | |
| polyenrich | 5.782 | 0.044 | 5.826 | |
| proxReg | 0.486 | 0.020 | 0.506 | |
| read_bed | 0.273 | 0.000 | 0.274 | |
| supported_genesets | 0.002 | 0.004 | 0.007 | |
| supported_genomes | 0.002 | 0.000 | 0.002 | |
| supported_locusdefs | 0.006 | 0.000 | 0.006 | |
| supported_methods | 0.001 | 0.000 | 0.001 | |
| supported_read_lengths | 0.005 | 0.000 | 0.005 | |