| Back to Multiple platform build/check report for BioC 3.14 |
|
This page was generated on 2022-04-13 12:07:45 -0400 (Wed, 13 Apr 2022).
| Hostname | OS | Arch (*) | R version | Installed pkgs |
|---|---|---|---|---|
| nebbiolo2 | Linux (Ubuntu 20.04.4 LTS) | x86_64 | 4.1.3 (2022-03-10) -- "One Push-Up" | 4324 |
| tokay2 | Windows Server 2012 R2 Standard | x64 | 4.1.3 (2022-03-10) -- "One Push-Up" | 4077 |
| machv2 | macOS 10.14.6 Mojave | x86_64 | 4.1.3 (2022-03-10) -- "One Push-Up" | 4137 |
| Click on any hostname to see more info about the system (e.g. compilers) (*) as reported by 'uname -p', except on Windows and Mac OS X | ||||
|
To the developers/maintainers of the cfDNAPro package: - Please allow up to 24 hours (and sometimes 48 hours) for your latest push to git@git.bioconductor.org:packages/cfDNAPro.git to reflect on this report. See How and When does the builder pull? When will my changes propagate? for more information. - Make sure to use the following settings in order to reproduce any error or warning you see on this page. |
| Package 284/2083 | Hostname | OS / Arch | INSTALL | BUILD | CHECK | BUILD BIN | ||||||||
| cfDNAPro 1.0.0 (landing page) Haichao Wang
| nebbiolo2 | Linux (Ubuntu 20.04.4 LTS) / x86_64 | OK | OK | OK | |||||||||
| tokay2 | Windows Server 2012 R2 Standard / x64 | OK | OK | OK | OK | |||||||||
| machv2 | macOS 10.14.6 Mojave / x86_64 | OK | OK | OK | OK | |||||||||
| Package: cfDNAPro |
| Version: 1.0.0 |
| Command: /Library/Frameworks/R.framework/Resources/bin/R CMD check --install=check:cfDNAPro.install-out.txt --library=/Library/Frameworks/R.framework/Resources/library --no-vignettes --timings cfDNAPro_1.0.0.tar.gz |
| StartedAt: 2022-04-12 11:22:16 -0400 (Tue, 12 Apr 2022) |
| EndedAt: 2022-04-12 11:25:52 -0400 (Tue, 12 Apr 2022) |
| EllapsedTime: 216.1 seconds |
| RetCode: 0 |
| Status: OK |
| CheckDir: cfDNAPro.Rcheck |
| Warnings: 0 |
############################################################################## ############################################################################## ### ### Running command: ### ### /Library/Frameworks/R.framework/Resources/bin/R CMD check --install=check:cfDNAPro.install-out.txt --library=/Library/Frameworks/R.framework/Resources/library --no-vignettes --timings cfDNAPro_1.0.0.tar.gz ### ############################################################################## ############################################################################## * using log directory ‘/Users/biocbuild/bbs-3.14-bioc/meat/cfDNAPro.Rcheck’ * using R version 4.1.3 (2022-03-10) * using platform: x86_64-apple-darwin17.0 (64-bit) * using session charset: UTF-8 * using option ‘--no-vignettes’ * checking for file ‘cfDNAPro/DESCRIPTION’ ... OK * checking extension type ... Package * this is package ‘cfDNAPro’ version ‘1.0.0’ * package encoding: UTF-8 * checking package namespace information ... OK * checking package dependencies ... OK * checking if this is a source package ... OK * checking if there is a namespace ... OK * checking for hidden files and directories ... OK * checking for portable file names ... OK * checking for sufficient/correct file permissions ... OK * checking whether package ‘cfDNAPro’ can be installed ... OK * checking installed package size ... OK * checking package directory ... OK * checking ‘build’ directory ... OK * checking DESCRIPTION meta-information ... OK * checking top-level files ... OK * checking for left-over files ... OK * checking index information ... OK * checking package subdirectories ... OK * checking R files for non-ASCII characters ... OK * checking R files for syntax errors ... OK * checking whether the package can be loaded ... OK * checking whether the package can be loaded with stated dependencies ... OK * checking whether the package can be unloaded cleanly ... OK * checking whether the namespace can be loaded with stated dependencies ... OK * checking whether the namespace can be unloaded cleanly ... OK * checking dependencies in R code ... OK * checking S3 generic/method consistency ... OK * checking replacement functions ... OK * checking foreign function calls ... OK * checking R code for possible problems ... OK * checking Rd files ... OK * checking Rd metadata ... OK * checking Rd cross-references ... OK * checking for missing documentation entries ... OK * checking for code/documentation mismatches ... OK * checking Rd \usage sections ... OK * checking Rd contents ... OK * checking for unstated dependencies in examples ... OK * checking files in ‘vignettes’ ... OK * checking examples ... OK * checking for unstated dependencies in ‘tests’ ... OK * checking tests ... Running ‘testthat.R’ OK * checking for unstated dependencies in vignettes ... OK * checking package vignettes in ‘inst/doc’ ... OK * checking running R code from vignettes ... SKIPPED * checking re-building of vignette outputs ... SKIPPED * checking PDF version of manual ... OK * DONE Status: OK
cfDNAPro.Rcheck/00install.out
############################################################################## ############################################################################## ### ### Running command: ### ### /Library/Frameworks/R.framework/Resources/bin/R CMD INSTALL cfDNAPro ### ############################################################################## ############################################################################## * installing to library ‘/Library/Frameworks/R.framework/Versions/4.1/Resources/library’ * installing *source* package ‘cfDNAPro’ ... ** using staged installation ** R ** inst ** byte-compile and prepare package for lazy loading ** help *** installing help indices ** building package indices ** installing vignettes ** testing if installed package can be loaded from temporary location ** testing if installed package can be loaded from final location ** testing if installed package keeps a record of temporary installation path * DONE (cfDNAPro)
cfDNAPro.Rcheck/tests/testthat.Rout
R version 4.1.3 (2022-03-10) -- "One Push-Up"
Copyright (C) 2022 The R Foundation for Statistical Computing
Platform: x86_64-apple-darwin17.0 (64-bit)
R is free software and comes with ABSOLUTELY NO WARRANTY.
You are welcome to redistribute it under certain conditions.
Type 'license()' or 'licence()' for distribution details.
R is a collaborative project with many contributors.
Type 'contributors()' for more information and
'citation()' on how to cite R or R packages in publications.
Type 'demo()' for some demos, 'help()' for on-line help, or
'help.start()' for an HTML browser interface to help.
Type 'q()' to quit R.
> library(testthat)
> library(cfDNAPro)
Loading required package: magrittr
Attaching package: 'magrittr'
The following objects are masked from 'package:testthat':
equals, is_less_than, not
>
> test_check("cfDNAPro")
setting default input_type to picard.
setting default outfmt to df.
setting default input_type to picard.
setting default input_type to picard.
setting default limit to c(35,135).
setting default outfmt to df.
setting the mincount to 0.
setting default input_type to picard.
setting default limit to c(35,135).
setting default outfmt to df.
Setting default mincount to 0.
setting default input_type to picard.
setting default input_type to picard.
setting default outfmt to df.
setting default input_type to picard.
setting default input_type to picard.
setting default limit to c(35,135).
setting default outfmt to df.
setting the mincount to 0.
setting default input_type to picard.
setting default limit to c(35,135).
setting default outfmt to df.
Setting default mincount to 0.
setting default input_type to picard.
setting default mincount as 0.
setting default horizontal lines: y = 81, 112, 170.
setting the mincount to 0.
setting the xlim to c(7,13).
setting the mincount to 0.
setting the xlim to c(7,13).
[ FAIL 0 | WARN 0 | SKIP 0 | PASS 13 ]
>
> proc.time()
user system elapsed
31.008 0.629 31.635
cfDNAPro.Rcheck/cfDNAPro-Ex.timings
| name | user | system | elapsed | |
| callMetrics | 2.448 | 0.137 | 2.591 | |
| callMode | 1.062 | 0.010 | 1.072 | |
| callPeakDistance | 3.759 | 0.018 | 3.778 | |
| callSize | 0.717 | 0.005 | 0.722 | |
| callValleyDistance | 3.563 | 0.009 | 3.574 | |
| examplePath | 0.003 | 0.001 | 0.004 | |
| plotAllToOne | 0.757 | 0.007 | 0.765 | |
| plotMetrics | 2.235 | 0.011 | 2.247 | |
| plotMode | 1.316 | 0.009 | 1.325 | |
| plotModeSummary | 1.186 | 0.007 | 1.195 | |
| plotPeakDistance | 3.900 | 0.010 | 3.913 | |
| plotSingleGroup | 2.127 | 0.008 | 2.136 | |
| plotValleyDistance | 4.122 | 0.055 | 4.179 | |