| Back to Multiple platform build/check report for BioC 3.14 |
|
This page was generated on 2022-04-13 12:06:15 -0400 (Wed, 13 Apr 2022).
| Hostname | OS | Arch (*) | R version | Installed pkgs |
|---|---|---|---|---|
| nebbiolo2 | Linux (Ubuntu 20.04.4 LTS) | x86_64 | 4.1.3 (2022-03-10) -- "One Push-Up" | 4324 |
| tokay2 | Windows Server 2012 R2 Standard | x64 | 4.1.3 (2022-03-10) -- "One Push-Up" | 4077 |
| machv2 | macOS 10.14.6 Mojave | x86_64 | 4.1.3 (2022-03-10) -- "One Push-Up" | 4137 |
| Click on any hostname to see more info about the system (e.g. compilers) (*) as reported by 'uname -p', except on Windows and Mac OS X | ||||
|
To the developers/maintainers of the brainflowprobes package: - Please allow up to 24 hours (and sometimes 48 hours) for your latest push to git@git.bioconductor.org:packages/brainflowprobes.git to reflect on this report. See How and When does the builder pull? When will my changes propagate? for more information. - Make sure to use the following settings in order to reproduce any error or warning you see on this page. |
| Package 210/2083 | Hostname | OS / Arch | INSTALL | BUILD | CHECK | BUILD BIN | ||||||||
| brainflowprobes 1.8.0 (landing page) Amanda Price
| nebbiolo2 | Linux (Ubuntu 20.04.4 LTS) / x86_64 | OK | OK | OK | |||||||||
| tokay2 | Windows Server 2012 R2 Standard / x64 | OK | OK | OK | OK | |||||||||
| machv2 | macOS 10.14.6 Mojave / x86_64 | OK | OK | OK | OK | |||||||||
| Package: brainflowprobes |
| Version: 1.8.0 |
| Command: C:\cygwin\bin\curl.exe -O http://155.52.207.166/BBS/3.14/bioc/src/contrib/brainflowprobes_1.8.0.tar.gz && rm -rf brainflowprobes.buildbin-libdir && mkdir brainflowprobes.buildbin-libdir && C:\Users\biocbuild\bbs-3.14-bioc\R\bin\R.exe CMD INSTALL --merge-multiarch --build --library=brainflowprobes.buildbin-libdir brainflowprobes_1.8.0.tar.gz && C:\Users\biocbuild\bbs-3.14-bioc\R\bin\R.exe CMD INSTALL brainflowprobes_1.8.0.zip && rm brainflowprobes_1.8.0.tar.gz brainflowprobes_1.8.0.zip |
| StartedAt: 2022-04-12 07:18:51 -0400 (Tue, 12 Apr 2022) |
| EndedAt: 2022-04-12 07:20:16 -0400 (Tue, 12 Apr 2022) |
| EllapsedTime: 84.6 seconds |
| RetCode: 0 |
| Status: OK |
##############################################################################
##############################################################################
###
### Running command:
###
### C:\cygwin\bin\curl.exe -O http://155.52.207.166/BBS/3.14/bioc/src/contrib/brainflowprobes_1.8.0.tar.gz && rm -rf brainflowprobes.buildbin-libdir && mkdir brainflowprobes.buildbin-libdir && C:\Users\biocbuild\bbs-3.14-bioc\R\bin\R.exe CMD INSTALL --merge-multiarch --build --library=brainflowprobes.buildbin-libdir brainflowprobes_1.8.0.tar.gz && C:\Users\biocbuild\bbs-3.14-bioc\R\bin\R.exe CMD INSTALL brainflowprobes_1.8.0.zip && rm brainflowprobes_1.8.0.tar.gz brainflowprobes_1.8.0.zip
###
##############################################################################
##############################################################################
% Total % Received % Xferd Average Speed Time Time Time Current
Dload Upload Total Spent Left Speed
0 0 0 0 0 0 0 0 --:--:-- --:--:-- --:--:-- 0
16 1599k 16 266k 0 0 877k 0 0:00:01 --:--:-- 0:00:01 878k
100 1599k 100 1599k 0 0 1588k 0 0:00:01 0:00:01 --:--:-- 1589k
install for i386
* installing *source* package 'brainflowprobes' ...
** using staged installation
** R
** data
*** moving datasets to lazyload DB
** inst
** byte-compile and prepare package for lazy loading
** help
*** installing help indices
converting help for package 'brainflowprobes'
finding HTML links ... done
brainflowprobes-package html
brainflowprobes_cov html
check_pdf html
four_panels html
four_panels_example_cov html
get_nearest_annotation html
get_region_cov html
pd html
plot_coverage html
region_info html
** building package indices
** installing vignettes
** testing if installed package can be loaded from temporary location
** testing if installed package can be loaded from final location
** testing if installed package keeps a record of temporary installation path
install for x64
* installing *source* package 'brainflowprobes' ...
** testing if installed package can be loaded
* MD5 sums
packaged installation of 'brainflowprobes' as brainflowprobes_1.8.0.zip
* DONE (brainflowprobes)
* installing to library 'C:/Users/biocbuild/bbs-3.14-bioc/R/library'
package 'brainflowprobes' successfully unpacked and MD5 sums checked