| Back to Multiple platform build/check report for BioC 3.14 |
|
This page was generated on 2022-04-13 12:06:13 -0400 (Wed, 13 Apr 2022).
| Hostname | OS | Arch (*) | R version | Installed pkgs |
|---|---|---|---|---|
| nebbiolo2 | Linux (Ubuntu 20.04.4 LTS) | x86_64 | 4.1.3 (2022-03-10) -- "One Push-Up" | 4324 |
| tokay2 | Windows Server 2012 R2 Standard | x64 | 4.1.3 (2022-03-10) -- "One Push-Up" | 4077 |
| machv2 | macOS 10.14.6 Mojave | x86_64 | 4.1.3 (2022-03-10) -- "One Push-Up" | 4137 |
| Click on any hostname to see more info about the system (e.g. compilers) (*) as reported by 'uname -p', except on Windows and Mac OS X | ||||
|
To the developers/maintainers of the bigmelon package: - Please allow up to 24 hours (and sometimes 48 hours) for your latest push to git@git.bioconductor.org:packages/bigmelon.git to reflect on this report. See How and When does the builder pull? When will my changes propagate? for more information. - Make sure to use the following settings in order to reproduce any error or warning you see on this page. |
| Package 148/2083 | Hostname | OS / Arch | INSTALL | BUILD | CHECK | BUILD BIN | ||||||||
| bigmelon 1.20.0 (landing page) Tyler J. Gorrie-Stone
| nebbiolo2 | Linux (Ubuntu 20.04.4 LTS) / x86_64 | OK | OK | WARNINGS | |||||||||
| tokay2 | Windows Server 2012 R2 Standard / x64 | OK | OK | WARNINGS | OK | |||||||||
| machv2 | macOS 10.14.6 Mojave / x86_64 | OK | OK | WARNINGS | OK | |||||||||
| Package: bigmelon |
| Version: 1.20.0 |
| Command: C:\cygwin\bin\curl.exe -O http://155.52.207.166/BBS/3.14/bioc/src/contrib/bigmelon_1.20.0.tar.gz && rm -rf bigmelon.buildbin-libdir && mkdir bigmelon.buildbin-libdir && C:\Users\biocbuild\bbs-3.14-bioc\R\bin\R.exe CMD INSTALL --merge-multiarch --build --library=bigmelon.buildbin-libdir bigmelon_1.20.0.tar.gz && C:\Users\biocbuild\bbs-3.14-bioc\R\bin\R.exe CMD INSTALL bigmelon_1.20.0.zip && rm bigmelon_1.20.0.tar.gz bigmelon_1.20.0.zip |
| StartedAt: 2022-04-12 07:17:33 -0400 (Tue, 12 Apr 2022) |
| EndedAt: 2022-04-12 07:19:14 -0400 (Tue, 12 Apr 2022) |
| EllapsedTime: 100.8 seconds |
| RetCode: 0 |
| Status: OK |
##############################################################################
##############################################################################
###
### Running command:
###
### C:\cygwin\bin\curl.exe -O http://155.52.207.166/BBS/3.14/bioc/src/contrib/bigmelon_1.20.0.tar.gz && rm -rf bigmelon.buildbin-libdir && mkdir bigmelon.buildbin-libdir && C:\Users\biocbuild\bbs-3.14-bioc\R\bin\R.exe CMD INSTALL --merge-multiarch --build --library=bigmelon.buildbin-libdir bigmelon_1.20.0.tar.gz && C:\Users\biocbuild\bbs-3.14-bioc\R\bin\R.exe CMD INSTALL bigmelon_1.20.0.zip && rm bigmelon_1.20.0.tar.gz bigmelon_1.20.0.zip
###
##############################################################################
##############################################################################
% Total % Received % Xferd Average Speed Time Time Time Current
Dload Upload Total Spent Left Speed
0 0 0 0 0 0 0 0 --:--:-- --:--:-- --:--:-- 0
93 683k 93 640k 0 0 1310k 0 --:--:-- --:--:-- --:--:-- 1309k
100 683k 100 683k 0 0 1390k 0 --:--:-- --:--:-- --:--:-- 1391k
install for i386
* installing *source* package 'bigmelon' ...
** using staged installation
** R
** data
** inst
** byte-compile and prepare package for lazy loading
No methods found in package 'RSQLite' for request: 'dbListFields' when loading 'lumi'
Creating a new generic function for 'fot' in package 'bigmelon'
** help
*** installing help indices
converting help for package 'bigmelon'
finding HTML links ... done
GEOtoGDS html
app2gds html
backupGdsn html
bigmelon-accessors html
bigmelon-internal html
bigmelon-normalization html
finding level-2 HTML links ... done
bigmelon-package html
bumphunterGdsn html
cantaloupe html
combogds html
ecc html
es2gds html
finalreport2gds html
gds2mlumi html
getquantilesandranks html
iadd html
pfiltergds html
prcompgdsn html
pwodgdsn html
rankednorm html
redirect html
wm-port html
** building package indices
** installing vignettes
** testing if installed package can be loaded from temporary location
No methods found in package 'RSQLite' for request: 'dbListFields' when loading 'lumi'
** testing if installed package can be loaded from final location
No methods found in package 'RSQLite' for request: 'dbListFields' when loading 'lumi'
** testing if installed package keeps a record of temporary installation path
install for x64
* installing *source* package 'bigmelon' ...
** testing if installed package can be loaded
No methods found in package 'RSQLite' for request: 'dbListFields' when loading 'lumi'
* MD5 sums
packaged installation of 'bigmelon' as bigmelon_1.20.0.zip
* DONE (bigmelon)
* installing to library 'C:/Users/biocbuild/bbs-3.14-bioc/R/library'
package 'bigmelon' successfully unpacked and MD5 sums checked