| Back to Multiple platform build/check report for BioC 3.14 |
|
This page was generated on 2022-04-13 12:06:13 -0400 (Wed, 13 Apr 2022).
| Hostname | OS | Arch (*) | R version | Installed pkgs |
|---|---|---|---|---|
| nebbiolo2 | Linux (Ubuntu 20.04.4 LTS) | x86_64 | 4.1.3 (2022-03-10) -- "One Push-Up" | 4324 |
| tokay2 | Windows Server 2012 R2 Standard | x64 | 4.1.3 (2022-03-10) -- "One Push-Up" | 4077 |
| machv2 | macOS 10.14.6 Mojave | x86_64 | 4.1.3 (2022-03-10) -- "One Push-Up" | 4137 |
| Click on any hostname to see more info about the system (e.g. compilers) (*) as reported by 'uname -p', except on Windows and Mac OS X | ||||
|
To the developers/maintainers of the bigPint package: - Please allow up to 24 hours (and sometimes 48 hours) for your latest push to git@git.bioconductor.org:packages/bigPint.git to reflect on this report. See How and When does the builder pull? When will my changes propagate? for more information. - Make sure to use the following settings in order to reproduce any error or warning you see on this page. |
| Package 149/2083 | Hostname | OS / Arch | INSTALL | BUILD | CHECK | BUILD BIN | ||||||||
| bigPint 1.10.0 (landing page) Lindsay Rutter
| nebbiolo2 | Linux (Ubuntu 20.04.4 LTS) / x86_64 | OK | OK | WARNINGS | |||||||||
| tokay2 | Windows Server 2012 R2 Standard / x64 | OK | OK | WARNINGS | OK | |||||||||
| machv2 | macOS 10.14.6 Mojave / x86_64 | OK | OK | WARNINGS | OK | |||||||||
| Package: bigPint |
| Version: 1.10.0 |
| Command: rm -rf bigPint.buildbin-libdir && mkdir bigPint.buildbin-libdir && C:\Users\biocbuild\bbs-3.14-bioc\R\bin\R.exe CMD INSTALL --merge-multiarch --build --library=bigPint.buildbin-libdir bigPint_1.10.0.tar.gz |
| StartedAt: 2022-04-13 05:41:14 -0400 (Wed, 13 Apr 2022) |
| EndedAt: 2022-04-13 05:42:12 -0400 (Wed, 13 Apr 2022) |
| EllapsedTime: 58.0 seconds |
| RetCode: 0 |
| Status: OK |
| PackageFile: bigPint_1.10.0.zip |
| PackageFileSize: 5.641 MiB |
##############################################################################
##############################################################################
###
### Running command:
###
### rm -rf bigPint.buildbin-libdir && mkdir bigPint.buildbin-libdir && C:\Users\biocbuild\bbs-3.14-bioc\R\bin\R.exe CMD INSTALL --merge-multiarch --build --library=bigPint.buildbin-libdir bigPint_1.10.0.tar.gz
###
##############################################################################
##############################################################################
install for i386
* installing *source* package 'bigPint' ...
** using staged installation
** R
** data
*** moving datasets to lazyload DB
** inst
** byte-compile and prepare package for lazy loading
** help
*** installing help indices
converting help for package 'bigPint'
finding HTML links ... done
bigPint html
convertSEPair html
convertSESubsetGenes html
plotClusters html
plotLitre html
plotLitreApp html
plotPCP html
plotPCPApp html
plotSM html
plotSMApp html
plotVolcano html
plotVolcanoApp html
se_soybean_cn_sub html
se_soybean_ir_sub html
soybean_cn html
soybean_cn_metrics html
soybean_cn_sub html
soybean_cn_sub_metrics html
soybean_ir html
soybean_ir_metrics html
soybean_ir_sub html
soybean_ir_sub_metrics html
** building package indices
** installing vignettes
** testing if installed package can be loaded from temporary location
** testing if installed package can be loaded from final location
** testing if installed package keeps a record of temporary installation path
install for x64
* installing *source* package 'bigPint' ...
** testing if installed package can be loaded
* MD5 sums
packaged installation of 'bigPint' as bigPint_1.10.0.zip
* DONE (bigPint)