| Back to Multiple platform build/check report for BioC 3.14 |
|
This page was generated on 2022-04-13 12:06:10 -0400 (Wed, 13 Apr 2022).
| Hostname | OS | Arch (*) | R version | Installed pkgs |
|---|---|---|---|---|
| nebbiolo2 | Linux (Ubuntu 20.04.4 LTS) | x86_64 | 4.1.3 (2022-03-10) -- "One Push-Up" | 4324 |
| tokay2 | Windows Server 2012 R2 Standard | x64 | 4.1.3 (2022-03-10) -- "One Push-Up" | 4077 |
| machv2 | macOS 10.14.6 Mojave | x86_64 | 4.1.3 (2022-03-10) -- "One Push-Up" | 4137 |
| Click on any hostname to see more info about the system (e.g. compilers) (*) as reported by 'uname -p', except on Windows and Mac OS X | ||||
|
To the developers/maintainers of the anota2seq package: - Please allow up to 24 hours (and sometimes 48 hours) for your latest push to git@git.bioconductor.org:packages/anota2seq.git to reflect on this report. See How and When does the builder pull? When will my changes propagate? for more information. - Make sure to use the following settings in order to reproduce any error or warning you see on this page. |
| Package 68/2083 | Hostname | OS / Arch | INSTALL | BUILD | CHECK | BUILD BIN | ||||||||
| anota2seq 1.16.0 (landing page) Christian Oertlin
| nebbiolo2 | Linux (Ubuntu 20.04.4 LTS) / x86_64 | OK | OK | OK | |||||||||
| tokay2 | Windows Server 2012 R2 Standard / x64 | OK | OK | OK | OK | |||||||||
| machv2 | macOS 10.14.6 Mojave / x86_64 | OK | OK | OK | OK | |||||||||
| Package: anota2seq |
| Version: 1.16.0 |
| Command: rm -rf anota2seq.buildbin-libdir && mkdir anota2seq.buildbin-libdir && C:\Users\biocbuild\bbs-3.14-bioc\R\bin\R.exe CMD INSTALL --merge-multiarch --build --library=anota2seq.buildbin-libdir anota2seq_1.16.0.tar.gz |
| StartedAt: 2022-04-13 05:36:47 -0400 (Wed, 13 Apr 2022) |
| EndedAt: 2022-04-13 05:37:57 -0400 (Wed, 13 Apr 2022) |
| EllapsedTime: 69.8 seconds |
| RetCode: 0 |
| Status: OK |
| PackageFile: anota2seq_1.16.0.zip |
| PackageFileSize: 1.646 MiB |
##############################################################################
##############################################################################
###
### Running command:
###
### rm -rf anota2seq.buildbin-libdir && mkdir anota2seq.buildbin-libdir && C:\Users\biocbuild\bbs-3.14-bioc\R\bin\R.exe CMD INSTALL --merge-multiarch --build --library=anota2seq.buildbin-libdir anota2seq_1.16.0.tar.gz
###
##############################################################################
##############################################################################
install for i386
* installing *source* package 'anota2seq' ...
** using staged installation
** R
** data
*** moving datasets to lazyload DB
** inst
** byte-compile and prepare package for lazy loading
** help
*** installing help indices
converting help for package 'anota2seq'
finding HTML links ... done
Anota2seqDataSet-class html
anota2seq-plots html
anota2seqAnalyze html
anota2seqDataSetFromMatrix html
anota2seqGetContrasts html
anota2seqGetCovariates html
anota2seqGetDeltaData html
anota2seqGetNormalizedData html
anota2seqGetOutput html
anota2seqGetQualityControl html
anota2seqGetResidOutlierTest html
anota2seqGetThresholds html
anota2seqPerformQC html
anota2seqRegModes html
anota2seqResidOutlierTest html
anota2seqRun html
anota2seqSelSigGenes html
anota2seq_data html
show-Anota2seqDataSet-method html
** building package indices
** installing vignettes
** testing if installed package can be loaded from temporary location
** testing if installed package can be loaded from final location
** testing if installed package keeps a record of temporary installation path
install for x64
* installing *source* package 'anota2seq' ...
** testing if installed package can be loaded
* MD5 sums
packaged installation of 'anota2seq' as anota2seq_1.16.0.zip
* DONE (anota2seq)