| Back to Multiple platform build/check report for BioC 3.14 |
|
This page was generated on 2022-04-13 12:06:10 -0400 (Wed, 13 Apr 2022).
| Hostname | OS | Arch (*) | R version | Installed pkgs |
|---|---|---|---|---|
| nebbiolo2 | Linux (Ubuntu 20.04.4 LTS) | x86_64 | 4.1.3 (2022-03-10) -- "One Push-Up" | 4324 |
| tokay2 | Windows Server 2012 R2 Standard | x64 | 4.1.3 (2022-03-10) -- "One Push-Up" | 4077 |
| machv2 | macOS 10.14.6 Mojave | x86_64 | 4.1.3 (2022-03-10) -- "One Push-Up" | 4137 |
| Click on any hostname to see more info about the system (e.g. compilers) (*) as reported by 'uname -p', except on Windows and Mac OS X | ||||
|
To the developers/maintainers of the annotatr package: - Please allow up to 24 hours (and sometimes 48 hours) for your latest push to git@git.bioconductor.org:packages/annotatr.git to reflect on this report. See How and When does the builder pull? When will my changes propagate? for more information. - Make sure to use the following settings in order to reproduce any error or warning you see on this page. |
| Package 66/2083 | Hostname | OS / Arch | INSTALL | BUILD | CHECK | BUILD BIN | ||||||||
| annotatr 1.20.0 (landing page) Raymond G. Cavalcante
| nebbiolo2 | Linux (Ubuntu 20.04.4 LTS) / x86_64 | OK | OK | OK | |||||||||
| tokay2 | Windows Server 2012 R2 Standard / x64 | OK | OK | OK | OK | |||||||||
| machv2 | macOS 10.14.6 Mojave / x86_64 | OK | OK | OK | OK | |||||||||
| Package: annotatr |
| Version: 1.20.0 |
| Command: C:\cygwin\bin\curl.exe -O http://155.52.207.166/BBS/3.14/bioc/src/contrib/annotatr_1.20.0.tar.gz && rm -rf annotatr.buildbin-libdir && mkdir annotatr.buildbin-libdir && C:\Users\biocbuild\bbs-3.14-bioc\R\bin\R.exe CMD INSTALL --merge-multiarch --build --library=annotatr.buildbin-libdir annotatr_1.20.0.tar.gz && C:\Users\biocbuild\bbs-3.14-bioc\R\bin\R.exe CMD INSTALL annotatr_1.20.0.zip && rm annotatr_1.20.0.tar.gz annotatr_1.20.0.zip |
| StartedAt: 2022-04-12 07:14:21 -0400 (Tue, 12 Apr 2022) |
| EndedAt: 2022-04-12 07:16:02 -0400 (Tue, 12 Apr 2022) |
| EllapsedTime: 100.6 seconds |
| RetCode: 0 |
| Status: OK |
##############################################################################
##############################################################################
###
### Running command:
###
### C:\cygwin\bin\curl.exe -O http://155.52.207.166/BBS/3.14/bioc/src/contrib/annotatr_1.20.0.tar.gz && rm -rf annotatr.buildbin-libdir && mkdir annotatr.buildbin-libdir && C:\Users\biocbuild\bbs-3.14-bioc\R\bin\R.exe CMD INSTALL --merge-multiarch --build --library=annotatr.buildbin-libdir annotatr_1.20.0.tar.gz && C:\Users\biocbuild\bbs-3.14-bioc\R\bin\R.exe CMD INSTALL annotatr_1.20.0.zip && rm annotatr_1.20.0.tar.gz annotatr_1.20.0.zip
###
##############################################################################
##############################################################################
% Total % Received % Xferd Average Speed Time Time Time Current
Dload Upload Total Spent Left Speed
0 0 0 0 0 0 0 0 --:--:-- --:--:-- --:--:-- 0
49 1463k 49 723k 0 0 932k 0 0:00:01 --:--:-- 0:00:01 932k
100 1463k 100 1463k 0 0 1197k 0 0:00:01 0:00:01 --:--:-- 1198k
install for i386
* installing *source* package 'annotatr' ...
** using staged installation
** R
** data
*** moving datasets to lazyload DB
** inst
** byte-compile and prepare package for lazy loading
** help
*** installing help indices
converting help for package 'annotatr'
finding HTML links ... done
annotate_regions html
annotations html
annotatr html
annotatr_cache html
build_ah_annots html
build_annotations html
build_cpg_annots html
build_enhancer_annots html
build_gene_annots html
build_hmm_annots html
build_lncrna_annots html
builtin_annotations html
builtin_genomes html
check_annotations html
expand_annotations html
get_cellline_from_code html
get_cellline_from_shortcut html
get_orgdb_name html
get_txdb_name html
plot_annotation html
plot_categorical html
plot_coannotations html
plot_numerical html
plot_numerical_coannotations html
randomize_regions html
read_annotations html
read_regions html
reformat_hmm_codes html
subset_order_tbl html
summarize_annotations html
summarize_categorical html
summarize_numerical html
tidy_annotations html
** building package indices
** installing vignettes
** testing if installed package can be loaded from temporary location
** testing if installed package can be loaded from final location
** testing if installed package keeps a record of temporary installation path
install for x64
* installing *source* package 'annotatr' ...
** testing if installed package can be loaded
* MD5 sums
packaged installation of 'annotatr' as annotatr_1.20.0.zip
* DONE (annotatr)
* installing to library 'C:/Users/biocbuild/bbs-3.14-bioc/R/library'
package 'annotatr' successfully unpacked and MD5 sums checked