| Back to Multiple platform build/check report for BioC 3.14 |
|
This page was generated on 2022-04-13 12:06:09 -0400 (Wed, 13 Apr 2022).
| Hostname | OS | Arch (*) | R version | Installed pkgs |
|---|---|---|---|---|
| nebbiolo2 | Linux (Ubuntu 20.04.4 LTS) | x86_64 | 4.1.3 (2022-03-10) -- "One Push-Up" | 4324 |
| tokay2 | Windows Server 2012 R2 Standard | x64 | 4.1.3 (2022-03-10) -- "One Push-Up" | 4077 |
| machv2 | macOS 10.14.6 Mojave | x86_64 | 4.1.3 (2022-03-10) -- "One Push-Up" | 4137 |
| Click on any hostname to see more info about the system (e.g. compilers) (*) as reported by 'uname -p', except on Windows and Mac OS X | ||||
|
To the developers/maintainers of the animalcules package: - Please allow up to 24 hours (and sometimes 48 hours) for your latest push to git@git.bioconductor.org:packages/animalcules.git to reflect on this report. See How and When does the builder pull? When will my changes propagate? for more information. - Make sure to use the following settings in order to reproduce any error or warning you see on this page. |
| Package 56/2083 | Hostname | OS / Arch | INSTALL | BUILD | CHECK | BUILD BIN | ||||||||
| animalcules 1.10.0 (landing page) Yue Zhao
| nebbiolo2 | Linux (Ubuntu 20.04.4 LTS) / x86_64 | OK | OK | OK | |||||||||
| tokay2 | Windows Server 2012 R2 Standard / x64 | OK | OK | OK | OK | |||||||||
| machv2 | macOS 10.14.6 Mojave / x86_64 | OK | OK | OK | OK | |||||||||
| Package: animalcules |
| Version: 1.10.0 |
| Command: rm -rf animalcules.buildbin-libdir && mkdir animalcules.buildbin-libdir && C:\Users\biocbuild\bbs-3.14-bioc\R\bin\R.exe CMD INSTALL --merge-multiarch --build --library=animalcules.buildbin-libdir animalcules_1.10.0.tar.gz |
| StartedAt: 2022-04-13 05:36:30 -0400 (Wed, 13 Apr 2022) |
| EndedAt: 2022-04-13 05:37:46 -0400 (Wed, 13 Apr 2022) |
| EllapsedTime: 76.6 seconds |
| RetCode: 0 |
| Status: OK |
| PackageFile: animalcules_1.10.0.zip |
| PackageFileSize: 3.365 MiB |
##############################################################################
##############################################################################
###
### Running command:
###
### rm -rf animalcules.buildbin-libdir && mkdir animalcules.buildbin-libdir && C:\Users\biocbuild\bbs-3.14-bioc\R\bin\R.exe CMD INSTALL --merge-multiarch --build --library=animalcules.buildbin-libdir animalcules_1.10.0.tar.gz
###
##############################################################################
##############################################################################
install for i386
* installing *source* package 'animalcules' ...
** using staged installation
** R
** inst
** byte-compile and prepare package for lazy loading
** help
*** installing help indices
converting help for package 'animalcules'
finding HTML links ... done
alpha_div_boxplot html
alpha_div_test html
animalcules-package html
counts_to_logcpm html
counts_to_relabu html
df_char_to_factor html
differential_abundance html
dimred_pca html
dimred_pcoa html
dimred_tsne html
dimred_umap html
diversities html
diversities_help html
diversity_beta_boxplot html
diversity_beta_heatmap html
diversity_beta_test html
do_alpha_div_test html
filter_categorize html
filter_summary_bar_density html
filter_summary_pie_box html
find_biomarker html
find_taxon_mat html
find_taxonomy html
find_taxonomy_300 html
gini_simpson html
grep_tid html
inverse_simpson html
is_categorical html
is_integer0 html
is_integer1 html
mae_pick_organisms html
mae_pick_samples html
pct2str html
percent html
read_pathoscope_data html
relabu_barplot html
relabu_boxplot html
relabu_heatmap html
run_animalcules html
shannon html
simpson_index html
upsample_counts html
write_to_biom html
** building package indices
** installing vignettes
** testing if installed package can be loaded from temporary location
** testing if installed package can be loaded from final location
** testing if installed package keeps a record of temporary installation path
install for x64
* installing *source* package 'animalcules' ...
** testing if installed package can be loaded
* MD5 sums
packaged installation of 'animalcules' as animalcules_1.10.0.zip
* DONE (animalcules)