| Back to Multiple platform build/check report for BioC 3.14 |
|
This page was generated on 2022-04-13 12:06:09 -0400 (Wed, 13 Apr 2022).
| Hostname | OS | Arch (*) | R version | Installed pkgs |
|---|---|---|---|---|
| nebbiolo2 | Linux (Ubuntu 20.04.4 LTS) | x86_64 | 4.1.3 (2022-03-10) -- "One Push-Up" | 4324 |
| tokay2 | Windows Server 2012 R2 Standard | x64 | 4.1.3 (2022-03-10) -- "One Push-Up" | 4077 |
| machv2 | macOS 10.14.6 Mojave | x86_64 | 4.1.3 (2022-03-10) -- "One Push-Up" | 4137 |
| Click on any hostname to see more info about the system (e.g. compilers) (*) as reported by 'uname -p', except on Windows and Mac OS X | ||||
|
To the developers/maintainers of the alevinQC package: - Please allow up to 24 hours (and sometimes 48 hours) for your latest push to git@git.bioconductor.org:packages/alevinQC.git to reflect on this report. See How and When does the builder pull? When will my changes propagate? for more information. - Make sure to use the following settings in order to reproduce any error or warning you see on this page. |
| Package 41/2083 | Hostname | OS / Arch | INSTALL | BUILD | CHECK | BUILD BIN | ||||||||
| alevinQC 1.10.0 (landing page) Charlotte Soneson
| nebbiolo2 | Linux (Ubuntu 20.04.4 LTS) / x86_64 | OK | OK | OK | |||||||||
| tokay2 | Windows Server 2012 R2 Standard / x64 | OK | OK | OK | OK | |||||||||
| machv2 | macOS 10.14.6 Mojave / x86_64 | OK | OK | OK | OK | |||||||||
| Package: alevinQC |
| Version: 1.10.0 |
| Command: C:\cygwin\bin\curl.exe -O http://155.52.207.166/BBS/3.14/bioc/src/contrib/alevinQC_1.10.0.tar.gz && rm -rf alevinQC.buildbin-libdir && mkdir alevinQC.buildbin-libdir && C:\Users\biocbuild\bbs-3.14-bioc\R\bin\R.exe CMD INSTALL --merge-multiarch --build --library=alevinQC.buildbin-libdir alevinQC_1.10.0.tar.gz && C:\Users\biocbuild\bbs-3.14-bioc\R\bin\R.exe CMD INSTALL alevinQC_1.10.0.zip && rm alevinQC_1.10.0.tar.gz alevinQC_1.10.0.zip |
| StartedAt: 2022-04-12 07:01:00 -0400 (Tue, 12 Apr 2022) |
| EndedAt: 2022-04-12 07:01:55 -0400 (Tue, 12 Apr 2022) |
| EllapsedTime: 54.8 seconds |
| RetCode: 0 |
| Status: OK |
##############################################################################
##############################################################################
###
### Running command:
###
### C:\cygwin\bin\curl.exe -O http://155.52.207.166/BBS/3.14/bioc/src/contrib/alevinQC_1.10.0.tar.gz && rm -rf alevinQC.buildbin-libdir && mkdir alevinQC.buildbin-libdir && C:\Users\biocbuild\bbs-3.14-bioc\R\bin\R.exe CMD INSTALL --merge-multiarch --build --library=alevinQC.buildbin-libdir alevinQC_1.10.0.tar.gz && C:\Users\biocbuild\bbs-3.14-bioc\R\bin\R.exe CMD INSTALL alevinQC_1.10.0.zip && rm alevinQC_1.10.0.tar.gz alevinQC_1.10.0.zip
###
##############################################################################
##############################################################################
% Total % Received % Xferd Average Speed Time Time Time Current
Dload Upload Total Spent Left Speed
0 0 0 0 0 0 0 0 --:--:-- --:--:-- --:--:-- 0
1 4745k 1 96987 0 0 360k 0 0:00:13 --:--:-- 0:00:13 360k
22 4745k 22 1043k 0 0 810k 0 0:00:05 0:00:01 0:00:04 811k
62 4745k 62 2945k 0 0 1289k 0 0:00:03 0:00:02 0:00:01 1289k
100 4745k 100 4745k 0 0 1608k 0 0:00:02 0:00:02 --:--:-- 1608k
install for i386
* installing *source* package 'alevinQC' ...
** using staged installation
** R
** inst
** byte-compile and prepare package for lazy loading
** help
*** installing help indices
converting help for package 'alevinQC'
finding HTML links ... done
alevinQC-pkg html
alevinQCReport html
alevinQCShiny html
checkAlevinInputFiles html
plotAlevinBarcodeCollapse html
plotAlevinHistogram html
plotAlevinKneeNbrGenes html
plotAlevinKneeRaw html
plotAlevinQuant html
plotAlevinQuantPairs html
readAlevinQC html
** building package indices
** installing vignettes
** testing if installed package can be loaded from temporary location
** testing if installed package can be loaded from final location
** testing if installed package keeps a record of temporary installation path
install for x64
* installing *source* package 'alevinQC' ...
** testing if installed package can be loaded
* MD5 sums
packaged installation of 'alevinQC' as alevinQC_1.10.0.zip
* DONE (alevinQC)
* installing to library 'C:/Users/biocbuild/bbs-3.14-bioc/R/library'
package 'alevinQC' successfully unpacked and MD5 sums checked