| Back to Multiple platform build/check report for BioC 3.14 |
|
This page was generated on 2022-04-13 12:05:02 -0400 (Wed, 13 Apr 2022).
| Hostname | OS | Arch (*) | R version | Installed pkgs |
|---|---|---|---|---|
| nebbiolo2 | Linux (Ubuntu 20.04.4 LTS) | x86_64 | 4.1.3 (2022-03-10) -- "One Push-Up" | 4324 |
| tokay2 | Windows Server 2012 R2 Standard | x64 | 4.1.3 (2022-03-10) -- "One Push-Up" | 4077 |
| machv2 | macOS 10.14.6 Mojave | x86_64 | 4.1.3 (2022-03-10) -- "One Push-Up" | 4137 |
| Click on any hostname to see more info about the system (e.g. compilers) (*) as reported by 'uname -p', except on Windows and Mac OS X | ||||
|
To the developers/maintainers of the a4Base package: - Please allow up to 24 hours (and sometimes 48 hours) for your latest push to git@git.bioconductor.org:packages/a4Base.git to reflect on this report. See How and When does the builder pull? When will my changes propagate? for more information. - Make sure to use the following settings in order to reproduce any error or warning you see on this page. |
| Package 2/2083 | Hostname | OS / Arch | INSTALL | BUILD | CHECK | BUILD BIN | ||||||||
| a4Base 1.42.0 (landing page) Laure Cougnaud
| nebbiolo2 | Linux (Ubuntu 20.04.4 LTS) / x86_64 | OK | OK | OK | |||||||||
| tokay2 | Windows Server 2012 R2 Standard / x64 | OK | OK | OK | OK | |||||||||
| machv2 | macOS 10.14.6 Mojave / x86_64 | OK | OK | OK | OK | |||||||||
| Package: a4Base |
| Version: 1.42.0 |
| Command: /home/biocbuild/bbs-3.14-bioc/R/bin/R CMD check --install=check:a4Base.install-out.txt --library=/home/biocbuild/bbs-3.14-bioc/R/library --no-vignettes --timings a4Base_1.42.0.tar.gz |
| StartedAt: 2022-04-12 06:19:58 -0400 (Tue, 12 Apr 2022) |
| EndedAt: 2022-04-12 06:22:42 -0400 (Tue, 12 Apr 2022) |
| EllapsedTime: 163.8 seconds |
| RetCode: 0 |
| Status: OK |
| CheckDir: a4Base.Rcheck |
| Warnings: 0 |
##############################################################################
##############################################################################
###
### Running command:
###
### /home/biocbuild/bbs-3.14-bioc/R/bin/R CMD check --install=check:a4Base.install-out.txt --library=/home/biocbuild/bbs-3.14-bioc/R/library --no-vignettes --timings a4Base_1.42.0.tar.gz
###
##############################################################################
##############################################################################
* using log directory ‘/home/biocbuild/bbs-3.14-bioc/meat/a4Base.Rcheck’
* using R version 4.1.3 (2022-03-10)
* using platform: x86_64-pc-linux-gnu (64-bit)
* using session charset: UTF-8
* using option ‘--no-vignettes’
* checking for file ‘a4Base/DESCRIPTION’ ... OK
* checking extension type ... Package
* this is package ‘a4Base’ version ‘1.42.0’
* checking package namespace information ... OK
* checking package dependencies ... NOTE
Package which this enhances but not available for checking: ‘JavaGD’
* checking if this is a source package ... OK
* checking if there is a namespace ... OK
* checking for hidden files and directories ... OK
* checking for portable file names ... OK
* checking for sufficient/correct file permissions ... OK
* checking whether package ‘a4Base’ can be installed ... OK
* checking installed package size ... OK
* checking package directory ... OK
* checking DESCRIPTION meta-information ... OK
* checking top-level files ... OK
* checking for left-over files ... OK
* checking index information ... OK
* checking package subdirectories ... OK
* checking R files for non-ASCII characters ... OK
* checking R files for syntax errors ... OK
* checking whether the package can be loaded ... OK
* checking whether the package can be loaded with stated dependencies ... OK
* checking whether the package can be unloaded cleanly ... OK
* checking whether the namespace can be loaded with stated dependencies ... OK
* checking whether the namespace can be unloaded cleanly ... OK
* checking dependencies in R code ... OK
* checking S3 generic/method consistency ... OK
* checking replacement functions ... OK
* checking foreign function calls ... OK
* checking R code for possible problems ... OK
* checking Rd files ... OK
* checking Rd metadata ... OK
* checking Rd cross-references ... OK
* checking for missing documentation entries ... OK
* checking for code/documentation mismatches ... OK
* checking Rd \usage sections ... OK
* checking Rd contents ... OK
* checking for unstated dependencies in examples ... OK
* checking contents of ‘data’ directory ... OK
* checking data for non-ASCII characters ... OK
* checking data for ASCII and uncompressed saves ... OK
* checking examples ... OK
Examples with CPU (user + system) or elapsed time > 5s
user system elapsed
spectralMap 10.215 0.312 10.527
plotLogRatio 4.969 0.132 5.101
* checking PDF version of manual ... OK
* DONE
Status: 1 NOTE
See
‘/home/biocbuild/bbs-3.14-bioc/meat/a4Base.Rcheck/00check.log’
for details.
a4Base.Rcheck/00install.out
############################################################################## ############################################################################## ### ### Running command: ### ### /home/biocbuild/bbs-3.14-bioc/R/bin/R CMD INSTALL a4Base ### ############################################################################## ############################################################################## * installing to library ‘/home/biocbuild/bbs-3.14-bioc/R/library’ * installing *source* package ‘a4Base’ ... ** using staged installation ** R ** data ** inst ** byte-compile and prepare package for lazy loading ** help *** installing help indices ** building package indices ** testing if installed package can be loaded from temporary location ** testing if installed package can be loaded from final location ** testing if installed package keeps a record of temporary installation path * DONE (a4Base)
a4Base.Rcheck/a4Base-Ex.timings
| name | user | system | elapsed | |
| a4palette | 0.016 | 0.012 | 0.027 | |
| addQuantilesColors | 1.771 | 0.116 | 1.887 | |
| boxPlot | 2.362 | 0.108 | 2.471 | |
| combineTwoExpressionSet | 0 | 0 | 0 | |
| computeLogRatio | 4.152 | 0.224 | 4.377 | |
| createExpressionSet | 0.024 | 0.008 | 0.031 | |
| filterVarInt | 1.651 | 0.052 | 1.703 | |
| heatmap.expressionSet | 0.000 | 0.001 | 0.000 | |
| histPvalue | 2.169 | 0.127 | 2.296 | |
| histpvalueplotter | 1.586 | 0.024 | 1.610 | |
| lassoReg | 1.680 | 0.036 | 1.716 | |
| logReg | 0.001 | 0.000 | 0.000 | |
| nlcvTT | 0 | 0 | 0 | |
| plot1gene | 1.672 | 0.028 | 1.699 | |
| plotComb2Samples | 1.825 | 0.060 | 1.884 | |
| plotCombMultSamples | 2.552 | 0.076 | 2.629 | |
| plotCombination2genes | 2.533 | 0.040 | 2.573 | |
| plotLogRatio | 4.969 | 0.132 | 5.101 | |
| probabilitiesPlot | 0.000 | 0.000 | 0.001 | |
| probe2gene | 1.398 | 0.032 | 1.430 | |
| profilesPlot | 1.574 | 0.056 | 1.630 | |
| propdegenescalculation | 1.715 | 0.060 | 1.775 | |
| replicates | 0.002 | 0.000 | 0.002 | |
| spectralMap | 10.215 | 0.312 | 10.527 | |
| tTest | 2.01 | 0.04 | 2.05 | |
| volcanoPlot | 2.196 | 0.020 | 2.217 | |