| Back to Multiple platform build/check report for BioC 3.14 |
|
This page was generated on 2022-04-13 12:08:59 -0400 (Wed, 13 Apr 2022).
| Hostname | OS | Arch (*) | R version | Installed pkgs |
|---|---|---|---|---|
| nebbiolo2 | Linux (Ubuntu 20.04.4 LTS) | x86_64 | 4.1.3 (2022-03-10) -- "One Push-Up" | 4324 |
| tokay2 | Windows Server 2012 R2 Standard | x64 | 4.1.3 (2022-03-10) -- "One Push-Up" | 4077 |
| machv2 | macOS 10.14.6 Mojave | x86_64 | 4.1.3 (2022-03-10) -- "One Push-Up" | 4137 |
| Click on any hostname to see more info about the system (e.g. compilers) (*) as reported by 'uname -p', except on Windows and Mac OS X | ||||
|
To the developers/maintainers of the VplotR package: - Please allow up to 24 hours (and sometimes 48 hours) for your latest push to git@git.bioconductor.org:packages/VplotR.git to reflect on this report. See How and When does the builder pull? When will my changes propagate? for more information. - Make sure to use the following settings in order to reproduce any error or warning you see on this page. |
| Package 2054/2083 | Hostname | OS / Arch | INSTALL | BUILD | CHECK | BUILD BIN | ||||||||
| VplotR 1.4.0 (landing page) Jacques Serizay
| nebbiolo2 | Linux (Ubuntu 20.04.4 LTS) / x86_64 | OK | ERROR | skipped | |||||||||
| tokay2 | Windows Server 2012 R2 Standard / x64 | OK | OK | OK | OK | |||||||||
| machv2 | macOS 10.14.6 Mojave / x86_64 | OK | OK | OK | OK | |||||||||
| Package: VplotR |
| Version: 1.4.0 |
| Command: /Library/Frameworks/R.framework/Resources/bin/R CMD check --install=check:VplotR.install-out.txt --library=/Library/Frameworks/R.framework/Resources/library --no-vignettes --timings VplotR_1.4.0.tar.gz |
| StartedAt: 2022-04-12 19:54:51 -0400 (Tue, 12 Apr 2022) |
| EndedAt: 2022-04-12 20:03:02 -0400 (Tue, 12 Apr 2022) |
| EllapsedTime: 490.8 seconds |
| RetCode: 0 |
| Status: OK |
| CheckDir: VplotR.Rcheck |
| Warnings: 0 |
##############################################################################
##############################################################################
###
### Running command:
###
### /Library/Frameworks/R.framework/Resources/bin/R CMD check --install=check:VplotR.install-out.txt --library=/Library/Frameworks/R.framework/Resources/library --no-vignettes --timings VplotR_1.4.0.tar.gz
###
##############################################################################
##############################################################################
* using log directory ‘/Users/biocbuild/bbs-3.14-bioc/meat/VplotR.Rcheck’
* using R version 4.1.3 (2022-03-10)
* using platform: x86_64-apple-darwin17.0 (64-bit)
* using session charset: UTF-8
* using option ‘--no-vignettes’
* checking for file ‘VplotR/DESCRIPTION’ ... OK
* checking extension type ... Package
* this is package ‘VplotR’ version ‘1.4.0’
* package encoding: UTF-8
* checking package namespace information ... OK
* checking package dependencies ... OK
* checking if this is a source package ... OK
* checking if there is a namespace ... OK
* checking for hidden files and directories ... OK
* checking for portable file names ... OK
* checking for sufficient/correct file permissions ... OK
* checking whether package ‘VplotR’ can be installed ... OK
* checking installed package size ... OK
* checking package directory ... OK
* checking ‘build’ directory ... OK
* checking DESCRIPTION meta-information ... OK
* checking top-level files ... OK
* checking for left-over files ... OK
* checking index information ... OK
* checking package subdirectories ... OK
* checking R files for non-ASCII characters ... OK
* checking R files for syntax errors ... OK
* checking whether the package can be loaded ... OK
* checking whether the package can be loaded with stated dependencies ... OK
* checking whether the package can be unloaded cleanly ... OK
* checking whether the namespace can be loaded with stated dependencies ... OK
* checking whether the namespace can be unloaded cleanly ... OK
* checking dependencies in R code ... OK
* checking S3 generic/method consistency ... OK
* checking replacement functions ... OK
* checking foreign function calls ... OK
* checking R code for possible problems ... OK
* checking Rd files ... OK
* checking Rd metadata ... OK
* checking Rd cross-references ... OK
* checking for missing documentation entries ... OK
* checking for code/documentation mismatches ... OK
* checking Rd \usage sections ... OK
* checking Rd contents ... OK
* checking for unstated dependencies in examples ... OK
* checking contents of ‘data’ directory ... OK
* checking data for non-ASCII characters ... OK
* checking data for ASCII and uncompressed saves ... OK
* checking files in ‘vignettes’ ... OK
* checking examples ... OK
Examples with CPU (user + system) or elapsed time > 5s
user system elapsed
nucleosomeEnrichment.GRanges 13.939 1.230 15.187
nucleosomeEnrichment.Vmat 11.256 0.925 12.191
nucleosomeEnrichment 9.788 1.301 11.097
sampleGRanges 4.833 0.521 5.356
sampleGRanges.GRanges 4.838 0.482 5.324
* checking for unstated dependencies in ‘tests’ ... OK
* checking tests ...
Running ‘testthat.R’
OK
* checking for unstated dependencies in vignettes ... OK
* checking package vignettes in ‘inst/doc’ ... OK
* checking running R code from vignettes ... SKIPPED
* checking re-building of vignette outputs ... SKIPPED
* checking PDF version of manual ... OK
* DONE
Status: OK
VplotR.Rcheck/00install.out
############################################################################## ############################################################################## ### ### Running command: ### ### /Library/Frameworks/R.framework/Resources/bin/R CMD INSTALL VplotR ### ############################################################################## ############################################################################## * installing to library ‘/Library/Frameworks/R.framework/Versions/4.1/Resources/library’ * installing *source* package ‘VplotR’ ... ** using staged installation ** R ** data ** inst ** byte-compile and prepare package for lazy loading ** help *** installing help indices ** building package indices ** installing vignettes ** testing if installed package can be loaded from temporary location ** testing if installed package can be loaded from final location ** testing if installed package keeps a record of temporary installation path * DONE (VplotR)
VplotR.Rcheck/tests/testthat.Rout
R version 4.1.3 (2022-03-10) -- "One Push-Up"
Copyright (C) 2022 The R Foundation for Statistical Computing
Platform: x86_64-apple-darwin17.0 (64-bit)
R is free software and comes with ABSOLUTELY NO WARRANTY.
You are welcome to redistribute it under certain conditions.
Type 'license()' or 'licence()' for distribution details.
R is a collaborative project with many contributors.
Type 'contributors()' for more information and
'citation()' on how to cite R or R packages in publications.
Type 'demo()' for some demos, 'help()' for on-line help, or
'help.start()' for an HTML browser interface to help.
Type 'q()' to quit R.
> library(testthat)
> library(VplotR)
Loading required package: GenomicRanges
Loading required package: stats4
Loading required package: BiocGenerics
Attaching package: 'BiocGenerics'
The following objects are masked from 'package:stats':
IQR, mad, sd, var, xtabs
The following objects are masked from 'package:base':
Filter, Find, Map, Position, Reduce, anyDuplicated, append,
as.data.frame, basename, cbind, colnames, dirname, do.call,
duplicated, eval, evalq, get, grep, grepl, intersect, is.unsorted,
lapply, mapply, match, mget, order, paste, pmax, pmax.int, pmin,
pmin.int, rank, rbind, rownames, sapply, setdiff, sort, table,
tapply, union, unique, unsplit, which.max, which.min
Loading required package: S4Vectors
Attaching package: 'S4Vectors'
The following objects are masked from 'package:base':
I, expand.grid, unname
Loading required package: IRanges
Loading required package: GenomeInfoDb
Loading required package: ggplot2
>
> test_check("VplotR")
[ FAIL 0 | WARN 15 | SKIP 0 | PASS 4 ]
[ FAIL 0 | WARN 15 | SKIP 0 | PASS 4 ]
>
> proc.time()
user system elapsed
125.968 8.138 134.736
VplotR.Rcheck/VplotR-Ex.timings
| name | user | system | elapsed | |
| ABF1_sacCer3 | 0.127 | 0.015 | 0.143 | |
| ATAC_ce11_Serizay2020 | 0.381 | 0.021 | 0.402 | |
| CTCF_hg38 | 0.679 | 0.007 | 0.686 | |
| MNase_sacCer3_Henikoff2011 | 0.148 | 0.005 | 0.154 | |
| MNase_sacCer3_Henikoff2011_subset | 0.105 | 0.003 | 0.108 | |
| REB1_sacCer3 | 0.037 | 0.004 | 0.042 | |
| alignToTSS | 0.182 | 0.006 | 0.188 | |
| bam_test | 0.071 | 0.003 | 0.074 | |
| ce11_all_REs | 0.043 | 0.004 | 0.048 | |
| ce11_proms | 0.029 | 0.004 | 0.033 | |
| computeVmat | 3.262 | 0.107 | 3.372 | |
| deconvolveBidirectionalPromoters | 0.237 | 0.006 | 0.243 | |
| getFragmentsDistribution | 0.254 | 0.013 | 0.268 | |
| importPEBamFiles | 0.566 | 0.023 | 0.591 | |
| normalizeVmat | 2.844 | 0.071 | 2.920 | |
| nucleosomeEnrichment.GRanges | 13.939 | 1.230 | 15.187 | |
| nucleosomeEnrichment | 9.788 | 1.301 | 11.097 | |
| nucleosomeEnrichment.Vmat | 11.256 | 0.925 | 12.191 | |
| plotFootprint | 0.748 | 0.012 | 0.762 | |
| plotProfile | 0.999 | 0.226 | 1.226 | |
| plotVmat.GRanges | 2.693 | 0.030 | 2.728 | |
| plotVmat | 2.509 | 0.076 | 2.590 | |
| plotVmat.Vmat | 3.056 | 0.090 | 3.149 | |
| plotVmat.VmatList | 4.744 | 0.182 | 4.930 | |
| plotVmat.default | 2.998 | 0.131 | 3.131 | |
| plotVmat.list | 4.666 | 0.031 | 4.703 | |
| sampleGRanges.GRanges | 4.838 | 0.482 | 5.324 | |
| sampleGRanges | 4.833 | 0.521 | 5.356 | |
| shiftATACGranges | 0.134 | 0.003 | 0.137 | |
| shuffleVmat | 1.767 | 0.022 | 1.790 | |
| theme_ggplot2 | 0.174 | 0.214 | 0.388 | |