| Back to Multiple platform build/check report for BioC 3.14 |
|
This page was generated on 2022-04-13 12:07:32 -0400 (Wed, 13 Apr 2022).
| Hostname | OS | Arch (*) | R version | Installed pkgs |
|---|---|---|---|---|
| nebbiolo2 | Linux (Ubuntu 20.04.4 LTS) | x86_64 | 4.1.3 (2022-03-10) -- "One Push-Up" | 4324 |
| tokay2 | Windows Server 2012 R2 Standard | x64 | 4.1.3 (2022-03-10) -- "One Push-Up" | 4077 |
| machv2 | macOS 10.14.6 Mojave | x86_64 | 4.1.3 (2022-03-10) -- "One Push-Up" | 4137 |
| Click on any hostname to see more info about the system (e.g. compilers) (*) as reported by 'uname -p', except on Windows and Mac OS X | ||||
|
To the developers/maintainers of the Uniquorn package: - Please allow up to 24 hours (and sometimes 48 hours) for your latest push to git@git.bioconductor.org:packages/Uniquorn.git to reflect on this report. See How and When does the builder pull? When will my changes propagate? for more information. - Make sure to use the following settings in order to reproduce any error or warning you see on this page. |
| Package 2031/2083 | Hostname | OS / Arch | INSTALL | BUILD | CHECK | BUILD BIN | ||||||||
| Uniquorn 2.14.0 (landing page) 'Raik Otto'
| nebbiolo2 | Linux (Ubuntu 20.04.4 LTS) / x86_64 | OK | OK | OK | |||||||||
| tokay2 | Windows Server 2012 R2 Standard / x64 | OK | OK | OK | OK | |||||||||
| machv2 | macOS 10.14.6 Mojave / x86_64 | OK | OK | OK | OK | |||||||||
| Package: Uniquorn |
| Version: 2.14.0 |
| Command: rm -rf Uniquorn.buildbin-libdir && mkdir Uniquorn.buildbin-libdir && C:\Users\biocbuild\bbs-3.14-bioc\R\bin\R.exe CMD INSTALL --merge-multiarch --build --library=Uniquorn.buildbin-libdir Uniquorn_2.14.0.tar.gz |
| StartedAt: 2022-04-13 07:18:40 -0400 (Wed, 13 Apr 2022) |
| EndedAt: 2022-04-13 07:19:42 -0400 (Wed, 13 Apr 2022) |
| EllapsedTime: 61.8 seconds |
| RetCode: 0 |
| Status: OK |
| PackageFile: Uniquorn_2.14.0.zip |
| PackageFileSize: 2.299 MiB |
##############################################################################
##############################################################################
###
### Running command:
###
### rm -rf Uniquorn.buildbin-libdir && mkdir Uniquorn.buildbin-libdir && C:\Users\biocbuild\bbs-3.14-bioc\R\bin\R.exe CMD INSTALL --merge-multiarch --build --library=Uniquorn.buildbin-libdir Uniquorn_2.14.0.tar.gz
###
##############################################################################
##############################################################################
install for i386
* installing *source* package 'Uniquorn' ...
** using staged installation
** R
** inst
** byte-compile and prepare package for lazy loading
** help
*** installing help indices
converting help for package 'Uniquorn'
finding HTML links ... done
add_custom_vcf_to_database html
add_missing_cls html
add_p_q_values_statistics html
add_penalty_statistics html
create_bed_file html
identify_vcf_file html
init_and_load_identification html
initiate_canonical_databases html
match_query_ccl_to_database html
parse_ccle_genotype_data html
parse_cosmic_genotype_data html
parse_vcf_file html
parse_vcf_query_into_db html
read_library_names html
read_mutation_grange_objects html
remove_ccls_from_database html
remove_library_from_database html
show_contained_ccls html
show_contained_variants_for_ccl html
show_contained_variants_in_library html
show_which_ccls_contain_variant html
** building package indices
** installing vignettes
** testing if installed package can be loaded from temporary location
** testing if installed package can be loaded from final location
** testing if installed package keeps a record of temporary installation path
install for x64
* installing *source* package 'Uniquorn' ...
** testing if installed package can be loaded
* MD5 sums
packaged installation of 'Uniquorn' as Uniquorn_2.14.0.zip
* DONE (Uniquorn)