| Back to Multiple platform build/check report for BioC 3.14 | 
 | 
This page was generated on 2022-04-13 12:07:32 -0400 (Wed, 13 Apr 2022).
| Hostname | OS | Arch (*) | R version | Installed pkgs | 
|---|---|---|---|---|
| nebbiolo2 | Linux (Ubuntu 20.04.4 LTS) | x86_64 | 4.1.3 (2022-03-10) -- "One Push-Up" | 4324 | 
| tokay2 | Windows Server 2012 R2 Standard | x64 | 4.1.3 (2022-03-10) -- "One Push-Up" | 4077 | 
| machv2 | macOS 10.14.6 Mojave | x86_64 | 4.1.3 (2022-03-10) -- "One Push-Up" | 4137 | 
| Click on any hostname to see more info about the system (e.g. compilers) (*) as reported by 'uname -p', except on Windows and Mac OS X | ||||
| To the developers/maintainers of the UNDO package: - Please allow up to 24 hours (and sometimes 48 hours) for your latest push to git@git.bioconductor.org:packages/UNDO.git to reflect on this report. See How and When does the builder pull? When will my changes propagate? for more information. - Make sure to use the following settings in order to reproduce any error or warning you see on this page. | 
| Package 2028/2083 | Hostname | OS / Arch | INSTALL | BUILD | CHECK | BUILD BIN | ||||||||
| UNDO 1.36.0  (landing page) Niya Wang 
 | nebbiolo2 | Linux (Ubuntu 20.04.4 LTS) / x86_64 | OK | OK | OK |  | ||||||||
| tokay2 | Windows Server 2012 R2 Standard / x64 | OK | OK | OK | OK |  | ||||||||
| machv2 | macOS 10.14.6 Mojave / x86_64 | OK | OK | OK | OK |  | ||||||||
| Package: UNDO | 
| Version: 1.36.0 | 
| Command: C:\cygwin\bin\curl.exe -O http://155.52.207.166/BBS/3.14/bioc/src/contrib/UNDO_1.36.0.tar.gz && rm -rf UNDO.buildbin-libdir && mkdir UNDO.buildbin-libdir && C:\Users\biocbuild\bbs-3.14-bioc\R\bin\R.exe CMD INSTALL --merge-multiarch --build --library=UNDO.buildbin-libdir UNDO_1.36.0.tar.gz && C:\Users\biocbuild\bbs-3.14-bioc\R\bin\R.exe CMD INSTALL UNDO_1.36.0.zip && rm UNDO_1.36.0.tar.gz UNDO_1.36.0.zip | 
| StartedAt: 2022-04-12 04:28:11 -0400 (Tue, 12 Apr 2022) | 
| EndedAt: 2022-04-12 04:28:54 -0400 (Tue, 12 Apr 2022) | 
| EllapsedTime: 42.5 seconds | 
| RetCode: 0 | 
| Status: OK | 
##############################################################################
##############################################################################
###
### Running command:
###
###   C:\cygwin\bin\curl.exe -O http://155.52.207.166/BBS/3.14/bioc/src/contrib/UNDO_1.36.0.tar.gz && rm -rf UNDO.buildbin-libdir && mkdir UNDO.buildbin-libdir && C:\Users\biocbuild\bbs-3.14-bioc\R\bin\R.exe CMD INSTALL --merge-multiarch --build --library=UNDO.buildbin-libdir UNDO_1.36.0.tar.gz && C:\Users\biocbuild\bbs-3.14-bioc\R\bin\R.exe CMD INSTALL UNDO_1.36.0.zip && rm UNDO_1.36.0.tar.gz UNDO_1.36.0.zip
###
##############################################################################
##############################################################################
  % Total    % Received % Xferd  Average Speed   Time    Time     Time  Current
                                 Dload  Upload   Total   Spent    Left  Speed
  0     0    0     0    0     0      0      0 --:--:-- --:--:-- --:--:--     0
 50  646k   50  324k    0     0   484k      0  0:00:01 --:--:--  0:00:01  484k
100  646k  100  646k    0     0   645k      0  0:00:01  0:00:01 --:--:--  645k
install for i386
* installing *source* package 'UNDO' ...
** using staged installation
** R
** data
** byte-compile and prepare package for lazy loading
** help
*** installing help indices
  converting help for package 'UNDO'
    finding HTML links ... done
    BiologicalMixMCF7HS27                   html  
    NumericalMixMCF7HS27                    html  
    NumericalMixingMatrix                   html  
    PureMCF7HS27                            html  
    UNDO-package                            html  
    calc_E1                                 html  
    dimension_reduction                     html  
    gene_expression_input                   html  
    marker_gene_selection                   html  
    mixing_matrix_computation               html  
    two_source_deconv                       html  
** building package indices
** installing vignettes
** testing if installed package can be loaded from temporary location
** testing if installed package can be loaded from final location
** testing if installed package keeps a record of temporary installation path
install for x64
* installing *source* package 'UNDO' ...
** testing if installed package can be loaded
* MD5 sums
packaged installation of 'UNDO' as UNDO_1.36.0.zip
* DONE (UNDO)
* installing to library 'C:/Users/biocbuild/bbs-3.14-bioc/R/library'
package 'UNDO' successfully unpacked and MD5 sums checked