| Back to Multiple platform build/check report for BioC 3.14 |
|
This page was generated on 2022-04-13 12:07:32 -0400 (Wed, 13 Apr 2022).
| Hostname | OS | Arch (*) | R version | Installed pkgs |
|---|---|---|---|---|
| nebbiolo2 | Linux (Ubuntu 20.04.4 LTS) | x86_64 | 4.1.3 (2022-03-10) -- "One Push-Up" | 4324 |
| tokay2 | Windows Server 2012 R2 Standard | x64 | 4.1.3 (2022-03-10) -- "One Push-Up" | 4077 |
| machv2 | macOS 10.14.6 Mojave | x86_64 | 4.1.3 (2022-03-10) -- "One Push-Up" | 4137 |
| Click on any hostname to see more info about the system (e.g. compilers) (*) as reported by 'uname -p', except on Windows and Mac OS X | ||||
|
To the developers/maintainers of the UMI4Cats package: - Please allow up to 24 hours (and sometimes 48 hours) for your latest push to git@git.bioconductor.org:packages/UMI4Cats.git to reflect on this report. See How and When does the builder pull? When will my changes propagate? for more information. - Make sure to use the following settings in order to reproduce any error or warning you see on this page. |
| Package 2026/2083 | Hostname | OS / Arch | INSTALL | BUILD | CHECK | BUILD BIN | ||||||||
| UMI4Cats 1.4.0 (landing page) Mireia Ramos-Rodriguez
| nebbiolo2 | Linux (Ubuntu 20.04.4 LTS) / x86_64 | OK | OK | OK | |||||||||
| tokay2 | Windows Server 2012 R2 Standard / x64 | OK | OK | OK | OK | |||||||||
| machv2 | macOS 10.14.6 Mojave / x86_64 | OK | OK | OK | OK | |||||||||
| Package: UMI4Cats |
| Version: 1.4.0 |
| Command: rm -rf UMI4Cats.buildbin-libdir && mkdir UMI4Cats.buildbin-libdir && C:\Users\biocbuild\bbs-3.14-bioc\R\bin\R.exe CMD INSTALL --merge-multiarch --build --library=UMI4Cats.buildbin-libdir UMI4Cats_1.4.0.tar.gz |
| StartedAt: 2022-04-13 07:18:35 -0400 (Wed, 13 Apr 2022) |
| EndedAt: 2022-04-13 07:19:40 -0400 (Wed, 13 Apr 2022) |
| EllapsedTime: 64.4 seconds |
| RetCode: 0 |
| Status: OK |
| PackageFile: UMI4Cats_1.4.0.zip |
| PackageFileSize: 3.036 MiB |
##############################################################################
##############################################################################
###
### Running command:
###
### rm -rf UMI4Cats.buildbin-libdir && mkdir UMI4Cats.buildbin-libdir && C:\Users\biocbuild\bbs-3.14-bioc\R\bin\R.exe CMD INSTALL --merge-multiarch --build --library=UMI4Cats.buildbin-libdir UMI4Cats_1.4.0.tar.gz
###
##############################################################################
##############################################################################
install for i386
* installing *source* package 'UMI4Cats' ...
** using staged installation
** R
** data
** inst
** byte-compile and prepare package for lazy loading
** help
*** installing help indices
converting help for package 'UMI4Cats'
finding HTML links ... done
UMI4C-methods html
finding level-2 HTML links ... done
UMI4C html
UMI4C2dds html
UMI4Cats html
addGrouping html
addStepping html
alignmentUMI4C html
calculateAdaptativeTrend html
calculateDomainogram html
callInteractions html
combineUMI4C html
contactsUMI4C html
counterUMI4C html
createGeneAnnotation html
createStatsTable html
darken html
dds2UMI4C html
demultiplexFastq html
differentialNbinomWaldTestUMI4C html
digestGenome html
dot-getCache html
dot-getSummaryBam html
dot-singleAlignmentUMI4C html
dot-singleCounterUMI4C html
dot-singlePrepUMI4C html
dot-singleSplitUMI4C html
dot-smoothMonotone html
downloadUMI4CexampleData html
ex_ciita_umi4c html
fisherUMI4C html
formatPlotsUMI4C html
geoMeanCoordinates html
getColors html
getFactors html
getNormalizationMatrix html
getSignInteractions html
getViewpointCoordinates html
groupSamplesUMI4C html
makeWindowFragments html
nbinomWaldTestUMI4C html
pipe html
plotDifferential html
plotDomainogram html
plotGenes html
plotInteractions html
plotInteractionsUMI4C html
plotTrend html
plotUMI4C html
prepUMI4C html
smoothMonotoneUMI4C html
splitUMI4C html
statsUMI4C html
theme html
themeXYblank html
themeXblank html
themeYblank html
vstUMI4C html
waldUMI4C html
zscoreUMI4C html
*** copying figures
** building package indices
** installing vignettes
** testing if installed package can be loaded from temporary location
** testing if installed package can be loaded from final location
** testing if installed package keeps a record of temporary installation path
install for x64
* installing *source* package 'UMI4Cats' ...
** testing if installed package can be loaded
* MD5 sums
packaged installation of 'UMI4Cats' as UMI4Cats_1.4.0.zip
* DONE (UMI4Cats)