| Back to Multiple platform build/check report for BioC 3.14 |
|
This page was generated on 2022-04-13 12:07:31 -0400 (Wed, 13 Apr 2022).
| Hostname | OS | Arch (*) | R version | Installed pkgs |
|---|---|---|---|---|
| nebbiolo2 | Linux (Ubuntu 20.04.4 LTS) | x86_64 | 4.1.3 (2022-03-10) -- "One Push-Up" | 4324 |
| tokay2 | Windows Server 2012 R2 Standard | x64 | 4.1.3 (2022-03-10) -- "One Push-Up" | 4077 |
| machv2 | macOS 10.14.6 Mojave | x86_64 | 4.1.3 (2022-03-10) -- "One Push-Up" | 4137 |
| Click on any hostname to see more info about the system (e.g. compilers) (*) as reported by 'uname -p', except on Windows and Mac OS X | ||||
|
To the developers/maintainers of the TreeSummarizedExperiment package: - Please allow up to 24 hours (and sometimes 48 hours) for your latest push to git@git.bioconductor.org:packages/TreeSummarizedExperiment.git to reflect on this report. See How and When does the builder pull? When will my changes propagate? for more information. - Make sure to use the following settings in order to reproduce any error or warning you see on this page. |
| Package 1997/2083 | Hostname | OS / Arch | INSTALL | BUILD | CHECK | BUILD BIN | ||||||||
| TreeSummarizedExperiment 2.2.0 (landing page) Ruizhu Huang
| nebbiolo2 | Linux (Ubuntu 20.04.4 LTS) / x86_64 | OK | OK | OK | |||||||||
| tokay2 | Windows Server 2012 R2 Standard / x64 | OK | OK | OK | OK | |||||||||
| machv2 | macOS 10.14.6 Mojave / x86_64 | OK | OK | OK | OK | |||||||||
| Package: TreeSummarizedExperiment |
| Version: 2.2.0 |
| Command: C:\cygwin\bin\curl.exe -O http://155.52.207.166/BBS/3.14/bioc/src/contrib/TreeSummarizedExperiment_2.2.0.tar.gz && rm -rf TreeSummarizedExperiment.buildbin-libdir && mkdir TreeSummarizedExperiment.buildbin-libdir && C:\Users\biocbuild\bbs-3.14-bioc\R\bin\R.exe CMD INSTALL --merge-multiarch --build --library=TreeSummarizedExperiment.buildbin-libdir TreeSummarizedExperiment_2.2.0.tar.gz && C:\Users\biocbuild\bbs-3.14-bioc\R\bin\R.exe CMD INSTALL TreeSummarizedExperiment_2.2.0.zip && rm TreeSummarizedExperiment_2.2.0.tar.gz TreeSummarizedExperiment_2.2.0.zip |
| StartedAt: 2022-04-12 06:20:00 -0400 (Tue, 12 Apr 2022) |
| EndedAt: 2022-04-12 06:21:25 -0400 (Tue, 12 Apr 2022) |
| EllapsedTime: 85.1 seconds |
| RetCode: 0 |
| Status: OK |
##############################################################################
##############################################################################
###
### Running command:
###
### C:\cygwin\bin\curl.exe -O http://155.52.207.166/BBS/3.14/bioc/src/contrib/TreeSummarizedExperiment_2.2.0.tar.gz && rm -rf TreeSummarizedExperiment.buildbin-libdir && mkdir TreeSummarizedExperiment.buildbin-libdir && C:\Users\biocbuild\bbs-3.14-bioc\R\bin\R.exe CMD INSTALL --merge-multiarch --build --library=TreeSummarizedExperiment.buildbin-libdir TreeSummarizedExperiment_2.2.0.tar.gz && C:\Users\biocbuild\bbs-3.14-bioc\R\bin\R.exe CMD INSTALL TreeSummarizedExperiment_2.2.0.zip && rm TreeSummarizedExperiment_2.2.0.tar.gz TreeSummarizedExperiment_2.2.0.zip
###
##############################################################################
##############################################################################
% Total % Received % Xferd Average Speed Time Time Time Current
Dload Upload Total Spent Left Speed
0 0 0 0 0 0 0 0 --:--:-- --:--:-- --:--:-- 0
100 369k 100 369k 0 0 532k 0 --:--:-- --:--:-- --:--:-- 533k
install for i386
* installing *source* package 'TreeSummarizedExperiment' ...
** using staged installation
** R
** data
*** moving datasets to lazyload DB
** inst
** byte-compile and prepare package for lazy loading
** help
*** installing help indices
converting help for package 'TreeSummarizedExperiment'
finding HTML links ... done
LinkDataFrame-class html
LinkDataFrame-constructor html
TreeSummarizedExperiment-accessor html
TreeSummarizedExperiment-class html
TreeSummarizedExperiment-combine html
TreeSummarizedExperiment-constructor html
finding level-2 HTML links ... done
TreeSummarizedExperiment-internal html
TreeeSummarizedExperiment-package html
addLabel html
aggTSE html
aggValue html
asLeaf html
asPhylo html
changeTree html
convertNode html
countLeaf html
countNode html
detectLoop html
distNode html
dot-all_equal_in_list html
dot-all_have_DNAStringSet html
dot-all_have_DNAStringSetList html
dot-all_nonnull_in_list html
dot-all_null_in_list html
dot-any_null_in_list html
dot-auto_rename_list html
dot-bind_link_tree html
dot-is_equal_link html
dot-match_phylo html
dot-match_phylo_list html
dot-match_x_dupY html
dot-name_y_with_x html
dot-numeric_ij html
dot-rbind_refSeq html
dot-replace_link_tree_1d html
dot-subset_leaf html
dot-update_whichTree html
findAncestor html
findChild html
findDescendant html
findSibling html
isLeaf html
joinNode html
makeTSE html
matTree html
phylo html
printNode html
resolveLoop html
shareNode html
showNode html
tinyTree html
toTree html
trackNode html
unionLeaf html
updateObject-TreeSummarizedExperiment-method
html
** building package indices
** installing vignettes
** testing if installed package can be loaded from temporary location
** testing if installed package can be loaded from final location
** testing if installed package keeps a record of temporary installation path
install for x64
* installing *source* package 'TreeSummarizedExperiment' ...
** testing if installed package can be loaded
* MD5 sums
packaged installation of 'TreeSummarizedExperiment' as TreeSummarizedExperiment_2.2.0.zip
* DONE (TreeSummarizedExperiment)
* installing to library 'C:/Users/biocbuild/bbs-3.14-bioc/R/library'
package 'TreeSummarizedExperiment' successfully unpacked and MD5 sums checked