| Back to Multiple platform build/check report for BioC 3.14 |
|
This page was generated on 2022-04-13 12:07:30 -0400 (Wed, 13 Apr 2022).
| Hostname | OS | Arch (*) | R version | Installed pkgs |
|---|---|---|---|---|
| nebbiolo2 | Linux (Ubuntu 20.04.4 LTS) | x86_64 | 4.1.3 (2022-03-10) -- "One Push-Up" | 4324 |
| tokay2 | Windows Server 2012 R2 Standard | x64 | 4.1.3 (2022-03-10) -- "One Push-Up" | 4077 |
| machv2 | macOS 10.14.6 Mojave | x86_64 | 4.1.3 (2022-03-10) -- "One Push-Up" | 4137 |
| Click on any hostname to see more info about the system (e.g. compilers) (*) as reported by 'uname -p', except on Windows and Mac OS X | ||||
|
To the developers/maintainers of the TraRe package: - Please allow up to 24 hours (and sometimes 48 hours) for your latest push to git@git.bioconductor.org:packages/TraRe.git to reflect on this report. See How and When does the builder pull? When will my changes propagate? for more information. - Make sure to use the following settings in order to reproduce any error or warning you see on this page. |
| Package 1990/2083 | Hostname | OS / Arch | INSTALL | BUILD | CHECK | BUILD BIN | ||||||||
| TraRe 1.2.0 (landing page) Jesus De La Fuente CedeƱo
| nebbiolo2 | Linux (Ubuntu 20.04.4 LTS) / x86_64 | OK | OK | OK | |||||||||
| tokay2 | Windows Server 2012 R2 Standard / x64 | OK | OK | OK | OK | |||||||||
| machv2 | macOS 10.14.6 Mojave / x86_64 | OK | OK | OK | OK | |||||||||
| Package: TraRe |
| Version: 1.2.0 |
| Command: C:\cygwin\bin\curl.exe -O http://155.52.207.166/BBS/3.14/bioc/src/contrib/TraRe_1.2.0.tar.gz && rm -rf TraRe.buildbin-libdir && mkdir TraRe.buildbin-libdir && C:\Users\biocbuild\bbs-3.14-bioc\R\bin\R.exe CMD INSTALL --merge-multiarch --build --library=TraRe.buildbin-libdir TraRe_1.2.0.tar.gz && C:\Users\biocbuild\bbs-3.14-bioc\R\bin\R.exe CMD INSTALL TraRe_1.2.0.zip && rm TraRe_1.2.0.tar.gz TraRe_1.2.0.zip |
| StartedAt: 2022-04-12 05:35:46 -0400 (Tue, 12 Apr 2022) |
| EndedAt: 2022-04-12 05:36:54 -0400 (Tue, 12 Apr 2022) |
| EllapsedTime: 68.4 seconds |
| RetCode: 0 |
| Status: OK |
##############################################################################
##############################################################################
###
### Running command:
###
### C:\cygwin\bin\curl.exe -O http://155.52.207.166/BBS/3.14/bioc/src/contrib/TraRe_1.2.0.tar.gz && rm -rf TraRe.buildbin-libdir && mkdir TraRe.buildbin-libdir && C:\Users\biocbuild\bbs-3.14-bioc\R\bin\R.exe CMD INSTALL --merge-multiarch --build --library=TraRe.buildbin-libdir TraRe_1.2.0.tar.gz && C:\Users\biocbuild\bbs-3.14-bioc\R\bin\R.exe CMD INSTALL TraRe_1.2.0.zip && rm TraRe_1.2.0.tar.gz TraRe_1.2.0.zip
###
##############################################################################
##############################################################################
% Total % Received % Xferd Average Speed Time Time Time Current
Dload Upload Total Spent Left Speed
0 0 0 0 0 0 0 0 --:--:-- --:--:-- --:--:-- 0
2 3318k 2 99687 0 0 513k 0 0:00:06 --:--:-- 0:00:06 512k
100 3318k 100 3318k 0 0 3550k 0 --:--:-- --:--:-- --:--:-- 3549k
install for i386
* installing *source* package 'TraRe' ...
** using staged installation
** R
** inst
** byte-compile and prepare package for lazy loading
** help
*** installing help indices
converting help for package 'TraRe'
finding HTML links ... done
LINKER_run html
LINKER_runPhase1 html
LINKER_runPhase2 html
NET_run html
TraRe html
create_html_summary html
generatecliques html
html_from_graph html
plot_igraph html
preparerewiring html
rewiring_test html
runrewiring html
** building package indices
** installing vignettes
** testing if installed package can be loaded from temporary location
** testing if installed package can be loaded from final location
** testing if installed package keeps a record of temporary installation path
install for x64
* installing *source* package 'TraRe' ...
** testing if installed package can be loaded
* MD5 sums
packaged installation of 'TraRe' as TraRe_1.2.0.zip
* DONE (TraRe)
* installing to library 'C:/Users/biocbuild/bbs-3.14-bioc/R/library'
package 'TraRe' successfully unpacked and MD5 sums checked