| Back to Multiple platform build/check report for BioC 3.14 |
|
This page was generated on 2022-04-13 12:07:29 -0400 (Wed, 13 Apr 2022).
| Hostname | OS | Arch (*) | R version | Installed pkgs |
|---|---|---|---|---|
| nebbiolo2 | Linux (Ubuntu 20.04.4 LTS) | x86_64 | 4.1.3 (2022-03-10) -- "One Push-Up" | 4324 |
| tokay2 | Windows Server 2012 R2 Standard | x64 | 4.1.3 (2022-03-10) -- "One Push-Up" | 4077 |
| machv2 | macOS 10.14.6 Mojave | x86_64 | 4.1.3 (2022-03-10) -- "One Push-Up" | 4137 |
| Click on any hostname to see more info about the system (e.g. compilers) (*) as reported by 'uname -p', except on Windows and Mac OS X | ||||
|
To the developers/maintainers of the TileDBArray package: - Please allow up to 24 hours (and sometimes 48 hours) for your latest push to git@git.bioconductor.org:packages/TileDBArray.git to reflect on this report. See How and When does the builder pull? When will my changes propagate? for more information. - Make sure to use the following settings in order to reproduce any error or warning you see on this page. |
| Package 1954/2083 | Hostname | OS / Arch | INSTALL | BUILD | CHECK | BUILD BIN | ||||||||
| TileDBArray 1.4.0 (landing page) Aaron Lun
| nebbiolo2 | Linux (Ubuntu 20.04.4 LTS) / x86_64 | OK | OK | WARNINGS | |||||||||
| tokay2 | Windows Server 2012 R2 Standard / x64 | OK | OK | WARNINGS | OK | |||||||||
| machv2 | macOS 10.14.6 Mojave / x86_64 | OK | OK | WARNINGS | OK | |||||||||
| Package: TileDBArray |
| Version: 1.4.0 |
| Command: C:\cygwin\bin\curl.exe -O http://155.52.207.166/BBS/3.14/bioc/src/contrib/TileDBArray_1.4.0.tar.gz && rm -rf TileDBArray.buildbin-libdir && mkdir TileDBArray.buildbin-libdir && C:\Users\biocbuild\bbs-3.14-bioc\R\bin\R.exe CMD INSTALL --merge-multiarch --build --library=TileDBArray.buildbin-libdir TileDBArray_1.4.0.tar.gz && C:\Users\biocbuild\bbs-3.14-bioc\R\bin\R.exe CMD INSTALL TileDBArray_1.4.0.zip && rm TileDBArray_1.4.0.tar.gz TileDBArray_1.4.0.zip |
| StartedAt: 2022-04-12 05:26:41 -0400 (Tue, 12 Apr 2022) |
| EndedAt: 2022-04-12 05:31:03 -0400 (Tue, 12 Apr 2022) |
| EllapsedTime: 262.7 seconds |
| RetCode: 0 |
| Status: OK |
##############################################################################
##############################################################################
###
### Running command:
###
### C:\cygwin\bin\curl.exe -O http://155.52.207.166/BBS/3.14/bioc/src/contrib/TileDBArray_1.4.0.tar.gz && rm -rf TileDBArray.buildbin-libdir && mkdir TileDBArray.buildbin-libdir && C:\Users\biocbuild\bbs-3.14-bioc\R\bin\R.exe CMD INSTALL --merge-multiarch --build --library=TileDBArray.buildbin-libdir TileDBArray_1.4.0.tar.gz && C:\Users\biocbuild\bbs-3.14-bioc\R\bin\R.exe CMD INSTALL TileDBArray_1.4.0.zip && rm TileDBArray_1.4.0.tar.gz TileDBArray_1.4.0.zip
###
##############################################################################
##############################################################################
% Total % Received % Xferd Average Speed Time Time Time Current
Dload Upload Total Spent Left Speed
0 0 0 0 0 0 0 0 --:--:-- --:--:-- --:--:-- 0
100 18219 100 18219 0 0 151k 0 --:--:-- --:--:-- --:--:-- 153k
install for i386
* installing *source* package 'TileDBArray' ...
** using staged installation
** libs
"C:/rtools40/mingw32/bin/"g++ -std=gnu++11 -I"C:/Users/BIOCBU~1/BBS-3~1.14-/R/include" -DNDEBUG -I'C:/Users/biocbuild/bbs-3.14-bioc/R/library/Rcpp/include' -I"C:/extsoft/include" -O2 -Wall -mfpmath=sse -msse2 -mstackrealign -c RcppExports.cpp -o RcppExports.o
"C:/rtools40/mingw32/bin/"g++ -std=gnu++11 -I"C:/Users/BIOCBU~1/BBS-3~1.14-/R/include" -DNDEBUG -I'C:/Users/biocbuild/bbs-3.14-bioc/R/library/Rcpp/include' -I"C:/extsoft/include" -O2 -Wall -mfpmath=sse -msse2 -mstackrealign -c remap_indices.cpp -o remap_indices.o
C:/rtools40/mingw32/bin/g++ -std=gnu++11 -shared -s -static-libgcc -o TileDBArray.dll tmp.def RcppExports.o remap_indices.o -LC:/extsoft/lib/i386 -LC:/extsoft/lib -LC:/Users/BIOCBU~1/BBS-3~1.14-/R/bin/i386 -lR
installing to C:/Users/biocbuild/bbs-3.14-bioc/meat/TileDBArray.buildbin-libdir/00LOCK-TileDBArray/00new/TileDBArray/libs/i386
** R
** byte-compile and prepare package for lazy loading
Package tiledb was not found in the pkg-config search path.
Perhaps you should add the directory containing `tiledb.pc'
to the PKG_CONFIG_PATH environment variable
No package 'tiledb' found
Warning in system2(pkgcfg, c("tiledb", "--cflags"), stdout = TRUE) :
running command '"c:\rtools40\mingw32\bin\PKG-CO~1.EXE" tiledb --cflags' had status 1
Package tiledb was not found in the pkg-config search path.
Perhaps you should add the directory containing `tiledb.pc'
to the PKG_CONFIG_PATH environment variable
No package 'tiledb' found
Warning in system2(pkgcfg, c("tiledb", "--libs"), stdout = TRUE) :
running command '"c:\rtools40\mingw32\bin\PKG-CO~1.EXE" tiledb --libs' had status 1
** help
*** installing help indices
converting help for package 'TileDBArray'
finding HTML links ... done
TileDBArray-globals html
finding level-2 HTML links ... done
TileDBArray-pkg html
TileDBArray html
TileDBRealizationSink html
** building package indices
** installing vignettes
** testing if installed package can be loaded from temporary location
Package tiledb was not found in the pkg-config search path.
Perhaps you should add the directory containing `tiledb.pc'
to the PKG_CONFIG_PATH environment variable
No package 'tiledb' found
Warning in system2(pkgcfg, c("tiledb", "--cflags"), stdout = TRUE) :
running command '"c:\rtools40\mingw32\bin\PKG-CO~1.EXE" tiledb --cflags' had status 1
Package tiledb was not found in the pkg-config search path.
Perhaps you should add the directory containing `tiledb.pc'
to the PKG_CONFIG_PATH environment variable
No package 'tiledb' found
Warning in system2(pkgcfg, c("tiledb", "--libs"), stdout = TRUE) :
running command '"c:\rtools40\mingw32\bin\PKG-CO~1.EXE" tiledb --libs' had status 1
** testing if installed package can be loaded from final location
Package tiledb was not found in the pkg-config search path.
Perhaps you should add the directory containing `tiledb.pc'
to the PKG_CONFIG_PATH environment variable
No package 'tiledb' found
Warning in system2(pkgcfg, c("tiledb", "--cflags"), stdout = TRUE) :
running command '"c:\rtools40\mingw32\bin\PKG-CO~1.EXE" tiledb --cflags' had status 1
Package tiledb was not found in the pkg-config search path.
Perhaps you should add the directory containing `tiledb.pc'
to the PKG_CONFIG_PATH environment variable
No package 'tiledb' found
Warning in system2(pkgcfg, c("tiledb", "--libs"), stdout = TRUE) :
running command '"c:\rtools40\mingw32\bin\PKG-CO~1.EXE" tiledb --libs' had status 1
** testing if installed package keeps a record of temporary installation path
install for x64
* installing *source* package 'TileDBArray' ...
** libs
"C:/rtools40/mingw64/bin/"g++ -std=gnu++11 -I"C:/Users/BIOCBU~1/BBS-3~1.14-/R/include" -DNDEBUG -I'C:/Users/biocbuild/bbs-3.14-bioc/R/library/Rcpp/include' -I"C:/extsoft/include" -O2 -Wall -mfpmath=sse -msse2 -mstackrealign -c RcppExports.cpp -o RcppExports.o
"C:/rtools40/mingw64/bin/"g++ -std=gnu++11 -I"C:/Users/BIOCBU~1/BBS-3~1.14-/R/include" -DNDEBUG -I'C:/Users/biocbuild/bbs-3.14-bioc/R/library/Rcpp/include' -I"C:/extsoft/include" -O2 -Wall -mfpmath=sse -msse2 -mstackrealign -c remap_indices.cpp -o remap_indices.o
C:/rtools40/mingw64/bin/g++ -std=gnu++11 -shared -s -static-libgcc -o TileDBArray.dll tmp.def RcppExports.o remap_indices.o -LC:/extsoft/lib/x64 -LC:/extsoft/lib -LC:/Users/BIOCBU~1/BBS-3~1.14-/R/bin/x64 -lR
installing to C:/Users/biocbuild/bbs-3.14-bioc/meat/TileDBArray.buildbin-libdir/TileDBArray/libs/x64
** testing if installed package can be loaded
Package tiledb was not found in the pkg-config search path.
Perhaps you should add the directory containing `tiledb.pc'
to the PKG_CONFIG_PATH environment variable
No package 'tiledb' found
Warning in system2(pkgcfg, c("tiledb", "--cflags"), stdout = TRUE) :
running command '"c:\rtools40\mingw32\bin\PKG-CO~1.EXE" tiledb --cflags' had status 1
Package tiledb was not found in the pkg-config search path.
Perhaps you should add the directory containing `tiledb.pc'
to the PKG_CONFIG_PATH environment variable
No package 'tiledb' found
Warning in system2(pkgcfg, c("tiledb", "--libs"), stdout = TRUE) :
running command '"c:\rtools40\mingw32\bin\PKG-CO~1.EXE" tiledb --libs' had status 1
* MD5 sums
packaged installation of 'TileDBArray' as TileDBArray_1.4.0.zip
* DONE (TileDBArray)
* installing to library 'C:/Users/biocbuild/bbs-3.14-bioc/R/library'
package 'TileDBArray' successfully unpacked and MD5 sums checked