| Back to Multiple platform build/check report for BioC 3.14 | 
 | 
This page was generated on 2022-04-13 12:07:31 -0400 (Wed, 13 Apr 2022).
| Hostname | OS | Arch (*) | R version | Installed pkgs | 
|---|---|---|---|---|
| nebbiolo2 | Linux (Ubuntu 20.04.4 LTS) | x86_64 | 4.1.3 (2022-03-10) -- "One Push-Up" | 4324 | 
| tokay2 | Windows Server 2012 R2 Standard | x64 | 4.1.3 (2022-03-10) -- "One Push-Up" | 4077 | 
| machv2 | macOS 10.14.6 Mojave | x86_64 | 4.1.3 (2022-03-10) -- "One Push-Up" | 4137 | 
| Click on any hostname to see more info about the system (e.g. compilers) (*) as reported by 'uname -p', except on Windows and Mac OS X | ||||
| To the developers/maintainers of the TSCAN package: - Please allow up to 24 hours (and sometimes 48 hours) for your latest push to git@git.bioconductor.org:packages/TSCAN.git to reflect on this report. See How and When does the builder pull? When will my changes propagate? for more information. - Make sure to use the following settings in order to reproduce any error or warning you see on this page. | 
| Package 2010/2083 | Hostname | OS / Arch | INSTALL | BUILD | CHECK | BUILD BIN | ||||||||
| TSCAN 1.32.0  (landing page) Zhicheng Ji 
 | nebbiolo2 | Linux (Ubuntu 20.04.4 LTS) / x86_64 | OK | OK | WARNINGS |  | ||||||||
| tokay2 | Windows Server 2012 R2 Standard / x64 | OK | OK | WARNINGS | OK |  | ||||||||
| machv2 | macOS 10.14.6 Mojave / x86_64 | OK | OK | WARNINGS | OK |  | ||||||||
| Package: TSCAN | 
| Version: 1.32.0 | 
| Command: rm -rf TSCAN.buildbin-libdir && mkdir TSCAN.buildbin-libdir && C:\Users\biocbuild\bbs-3.14-bioc\R\bin\R.exe CMD INSTALL --merge-multiarch --build --library=TSCAN.buildbin-libdir TSCAN_1.32.0.tar.gz | 
| StartedAt: 2022-04-13 07:18:08 -0400 (Wed, 13 Apr 2022) | 
| EndedAt: 2022-04-13 07:18:55 -0400 (Wed, 13 Apr 2022) | 
| EllapsedTime: 47.1 seconds | 
| RetCode: 0 | 
| Status: OK | 
| PackageFile: TSCAN_1.32.0.zip | 
| PackageFileSize: 2.792 MiB | 
##############################################################################
##############################################################################
###
### Running command:
###
###   rm -rf TSCAN.buildbin-libdir && mkdir TSCAN.buildbin-libdir && C:\Users\biocbuild\bbs-3.14-bioc\R\bin\R.exe CMD INSTALL --merge-multiarch --build --library=TSCAN.buildbin-libdir TSCAN_1.32.0.tar.gz
###
##############################################################################
##############################################################################
install for i386
* installing *source* package 'TSCAN' ...
** using staged installation
** R
** data
** inst
** byte-compile and prepare package for lazy loading
** help
*** installing help indices
  converting help for package 'TSCAN'
    finding HTML links ... done
    TSCAN                                   html  
    TSCANorder                              html  
    TSCANui                                 html  
    difftest                                html  
    exprmclust                              html  
    lpsdata                                 html  
    mapCellsToEdges                         html  
    finding level-2 HTML links ... done
    orderCells                              html  
    orderscore                              html  
    perCellEntropy                          html  
    plotmclust                              html  
    preprocess                              html  
    quickPseudotime                         html  
    reexports                               html  
    reportEdges                             html  
    singlegeneplot                          html  
    testPseudotime                          html  
** building package indices
** installing vignettes
** testing if installed package can be loaded from temporary location
** testing if installed package can be loaded from final location
** testing if installed package keeps a record of temporary installation path
install for x64
* installing *source* package 'TSCAN' ...
** testing if installed package can be loaded
* MD5 sums
packaged installation of 'TSCAN' as TSCAN_1.32.0.zip
* DONE (TSCAN)