| Back to Multiple platform build/check report for BioC 3.14 |
|
This page was generated on 2022-04-13 12:07:28 -0400 (Wed, 13 Apr 2022).
| Hostname | OS | Arch (*) | R version | Installed pkgs |
|---|---|---|---|---|
| nebbiolo2 | Linux (Ubuntu 20.04.4 LTS) | x86_64 | 4.1.3 (2022-03-10) -- "One Push-Up" | 4324 |
| tokay2 | Windows Server 2012 R2 Standard | x64 | 4.1.3 (2022-03-10) -- "One Push-Up" | 4077 |
| machv2 | macOS 10.14.6 Mojave | x86_64 | 4.1.3 (2022-03-10) -- "One Push-Up" | 4137 |
| Click on any hostname to see more info about the system (e.g. compilers) (*) as reported by 'uname -p', except on Windows and Mac OS X | ||||
|
To the developers/maintainers of the TEQC package: - Please allow up to 24 hours (and sometimes 48 hours) for your latest push to git@git.bioconductor.org:packages/TEQC.git to reflect on this report. See How and When does the builder pull? When will my changes propagate? for more information. - Make sure to use the following settings in order to reproduce any error or warning you see on this page. |
| Package 1943/2083 | Hostname | OS / Arch | INSTALL | BUILD | CHECK | BUILD BIN | ||||||||
| TEQC 4.16.0 (landing page) Sarah Bonnin
| nebbiolo2 | Linux (Ubuntu 20.04.4 LTS) / x86_64 | OK | OK | WARNINGS | |||||||||
| tokay2 | Windows Server 2012 R2 Standard / x64 | OK | OK | WARNINGS | OK | |||||||||
| machv2 | macOS 10.14.6 Mojave / x86_64 | OK | OK | WARNINGS | OK | |||||||||
| Package: TEQC |
| Version: 4.16.0 |
| Command: rm -rf TEQC.buildbin-libdir && mkdir TEQC.buildbin-libdir && C:\Users\biocbuild\bbs-3.14-bioc\R\bin\R.exe CMD INSTALL --merge-multiarch --build --library=TEQC.buildbin-libdir TEQC_4.16.0.tar.gz |
| StartedAt: 2022-04-13 07:14:43 -0400 (Wed, 13 Apr 2022) |
| EndedAt: 2022-04-13 07:15:43 -0400 (Wed, 13 Apr 2022) |
| EllapsedTime: 59.8 seconds |
| RetCode: 0 |
| Status: OK |
| PackageFile: TEQC_4.16.0.zip |
| PackageFileSize: 759.1 KiB |
##############################################################################
##############################################################################
###
### Running command:
###
### rm -rf TEQC.buildbin-libdir && mkdir TEQC.buildbin-libdir && C:\Users\biocbuild\bbs-3.14-bioc\R\bin\R.exe CMD INSTALL --merge-multiarch --build --library=TEQC.buildbin-libdir TEQC_4.16.0.tar.gz
###
##############################################################################
##############################################################################
install for i386
* installing *source* package 'TEQC' ...
** using staged installation
** R
** inst
** byte-compile and prepare package for lazy loading
** help
*** installing help indices
converting help for package 'TEQC'
finding HTML links ... done
TEQCreport html
chrom.barplot html
coverage.GC html
coverage.correlation html
coverage.density html
coverage.hist html
coverage.plot html
coverage.target html
coverage.targetlength.plot html
coverage.uniformity html
covered.k html
duplicates.barplot html
fraction.reads.target html
fraction.target html
get.baits html
get.reads html
get.targets html
insert.size.hist html
make.wigfiles html
multiTEQCreport html
reads2pairs html
readsPerTarget html
** building package indices
** installing vignettes
** testing if installed package can be loaded from temporary location
** testing if installed package can be loaded from final location
** testing if installed package keeps a record of temporary installation path
install for x64
* installing *source* package 'TEQC' ...
** testing if installed package can be loaded
* MD5 sums
packaged installation of 'TEQC' as TEQC_4.16.0.zip
* DONE (TEQC)