| Back to Multiple platform build/check report for BioC 3.14 |
|
This page was generated on 2022-04-13 12:06:02 -0400 (Wed, 13 Apr 2022).
| Hostname | OS | Arch (*) | R version | Installed pkgs |
|---|---|---|---|---|
| nebbiolo2 | Linux (Ubuntu 20.04.4 LTS) | x86_64 | 4.1.3 (2022-03-10) -- "One Push-Up" | 4324 |
| tokay2 | Windows Server 2012 R2 Standard | x64 | 4.1.3 (2022-03-10) -- "One Push-Up" | 4077 |
| machv2 | macOS 10.14.6 Mojave | x86_64 | 4.1.3 (2022-03-10) -- "One Push-Up" | 4137 |
| Click on any hostname to see more info about the system (e.g. compilers) (*) as reported by 'uname -p', except on Windows and Mac OS X | ||||
|
To the developers/maintainers of the TCGAutils package: - Please allow up to 24 hours (and sometimes 48 hours) for your latest push to git@git.bioconductor.org:packages/TCGAutils.git to reflect on this report. See How and When does the builder pull? When will my changes propagate? for more information. - Make sure to use the following settings in order to reproduce any error or warning you see on this page. |
| Package 1939/2083 | Hostname | OS / Arch | INSTALL | BUILD | CHECK | BUILD BIN | ||||||||
| TCGAutils 1.14.1 (landing page) Marcel Ramos
| nebbiolo2 | Linux (Ubuntu 20.04.4 LTS) / x86_64 | OK | OK | OK | |||||||||
| tokay2 | Windows Server 2012 R2 Standard / x64 | OK | OK | OK | OK | |||||||||
| machv2 | macOS 10.14.6 Mojave / x86_64 | OK | OK | OK | OK | |||||||||
| Package: TCGAutils |
| Version: 1.14.1 |
| Command: /home/biocbuild/bbs-3.14-bioc/R/bin/R CMD check --install=check:TCGAutils.install-out.txt --library=/home/biocbuild/bbs-3.14-bioc/R/library --no-vignettes --timings TCGAutils_1.14.1.tar.gz |
| StartedAt: 2022-04-12 09:38:22 -0400 (Tue, 12 Apr 2022) |
| EndedAt: 2022-04-12 09:45:38 -0400 (Tue, 12 Apr 2022) |
| EllapsedTime: 436.3 seconds |
| RetCode: 0 |
| Status: OK |
| CheckDir: TCGAutils.Rcheck |
| Warnings: 0 |
##############################################################################
##############################################################################
###
### Running command:
###
### /home/biocbuild/bbs-3.14-bioc/R/bin/R CMD check --install=check:TCGAutils.install-out.txt --library=/home/biocbuild/bbs-3.14-bioc/R/library --no-vignettes --timings TCGAutils_1.14.1.tar.gz
###
##############################################################################
##############################################################################
* using log directory ‘/home/biocbuild/bbs-3.14-bioc/meat/TCGAutils.Rcheck’
* using R version 4.1.3 (2022-03-10)
* using platform: x86_64-pc-linux-gnu (64-bit)
* using session charset: UTF-8
* using option ‘--no-vignettes’
* checking for file ‘TCGAutils/DESCRIPTION’ ... OK
* this is package ‘TCGAutils’ version ‘1.14.1’
* package encoding: UTF-8
* checking package namespace information ... OK
* checking package dependencies ... OK
* checking if this is a source package ... OK
* checking if there is a namespace ... OK
* checking for hidden files and directories ... OK
* checking for portable file names ... OK
* checking for sufficient/correct file permissions ... OK
* checking whether package ‘TCGAutils’ can be installed ... OK
* checking installed package size ... OK
* checking package directory ... OK
* checking ‘build’ directory ... OK
* checking DESCRIPTION meta-information ... OK
* checking top-level files ... OK
* checking for left-over files ... OK
* checking index information ... OK
* checking package subdirectories ... OK
* checking R files for non-ASCII characters ... OK
* checking R files for syntax errors ... OK
* checking whether the package can be loaded ... OK
* checking whether the package can be loaded with stated dependencies ... OK
* checking whether the package can be unloaded cleanly ... OK
* checking whether the namespace can be loaded with stated dependencies ... OK
* checking whether the namespace can be unloaded cleanly ... OK
* checking dependencies in R code ... NOTE
Unexported objects imported by ':::' calls:
‘BiocGenerics:::replaceSlots’ ‘GenomicRanges:::.normarg_field’
‘S4Vectors:::selectSome’
See the note in ?`:::` about the use of this operator.
* checking S3 generic/method consistency ... OK
* checking replacement functions ... OK
* checking foreign function calls ... OK
* checking R code for possible problems ... OK
* checking Rd files ... OK
* checking Rd metadata ... OK
* checking Rd cross-references ... OK
* checking for missing documentation entries ... OK
* checking for code/documentation mismatches ... OK
* checking Rd \usage sections ... OK
* checking Rd contents ... OK
* checking for unstated dependencies in examples ... OK
* checking contents of ‘data’ directory ... OK
* checking data for non-ASCII characters ... OK
* checking data for ASCII and uncompressed saves ... OK
* checking files in ‘vignettes’ ... OK
* checking examples ... OK
Examples with CPU (user + system) or elapsed time > 5s
user system elapsed
simplifyTCGA 43.460 2.571 47.039
TCGAprimaryTumors 30.651 2.668 34.772
imputeAssay 25.631 2.057 28.728
trimColData 24.631 1.825 27.709
curatedTCGAData-helpers 23.990 1.893 27.008
oncoPrintTCGA 20.062 1.504 23.366
makeSummarizedExperimentFromGISTIC 15.723 2.668 20.637
* checking for unstated dependencies in ‘tests’ ... OK
* checking tests ...
Running ‘testthat.R’
OK
* checking for unstated dependencies in vignettes ... OK
* checking package vignettes in ‘inst/doc’ ... OK
* checking running R code from vignettes ... SKIPPED
* checking re-building of vignette outputs ... SKIPPED
* checking PDF version of manual ... OK
* DONE
Status: 1 NOTE
See
‘/home/biocbuild/bbs-3.14-bioc/meat/TCGAutils.Rcheck/00check.log’
for details.
TCGAutils.Rcheck/00install.out
############################################################################## ############################################################################## ### ### Running command: ### ### /home/biocbuild/bbs-3.14-bioc/R/bin/R CMD INSTALL TCGAutils ### ############################################################################## ############################################################################## * installing to library ‘/home/biocbuild/bbs-3.14-bioc/R/library’ * installing *source* package ‘TCGAutils’ ... ** using staged installation ** R ** data ** inst ** byte-compile and prepare package for lazy loading ** help *** installing help indices ** building package indices ** installing vignettes ** testing if installed package can be loaded from temporary location ** testing if installed package can be loaded from final location ** testing if installed package keeps a record of temporary installation path * DONE (TCGAutils)
TCGAutils.Rcheck/tests/testthat.Rout
R version 4.1.3 (2022-03-10) -- "One Push-Up"
Copyright (C) 2022 The R Foundation for Statistical Computing
Platform: x86_64-pc-linux-gnu (64-bit)
R is free software and comes with ABSOLUTELY NO WARRANTY.
You are welcome to redistribute it under certain conditions.
Type 'license()' or 'licence()' for distribution details.
R is a collaborative project with many contributors.
Type 'contributors()' for more information and
'citation()' on how to cite R or R packages in publications.
Type 'demo()' for some demos, 'help()' for on-line help, or
'help.start()' for an HTML browser interface to help.
Type 'q()' to quit R.
> library(testthat)
>
> library(TCGAutils)
>
> test_check("TCGAutils")
[ FAIL 0 | WARN 0 | SKIP 0 | PASS 48 ]
>
> proc.time()
user system elapsed
13.189 0.935 17.426
TCGAutils.Rcheck/TCGAutils-Ex.timings
| name | user | system | elapsed | |
| ID-translation | 1.138 | 0.072 | 3.483 | |
| TCGAbarcode | 0.000 | 0.000 | 0.001 | |
| TCGAbiospec | 0.019 | 0.000 | 0.019 | |
| TCGAprimaryTumors | 30.651 | 2.668 | 34.772 | |
| TCGAsampleSelect | 0.007 | 0.000 | 0.007 | |
| builds | 0.126 | 0.000 | 0.126 | |
| curatedTCGAData-helpers | 23.990 | 1.893 | 27.008 | |
| findGRangesCols | 0.002 | 0.000 | 0.002 | |
| generateMap | 0.017 | 0.012 | 0.029 | |
| getFileName | 0.023 | 0.000 | 0.404 | |
| imputeAssay | 25.631 | 2.057 | 28.728 | |
| makeGRangesListFromCopyNumber | 0.801 | 0.113 | 1.867 | |
| makeGRangesListFromExonFiles | 0.153 | 0.019 | 0.167 | |
| makeSummarizedExperimentFromGISTIC | 15.723 | 2.668 | 20.637 | |
| mergeColData | 0.294 | 0.000 | 0.294 | |
| oncoPrintTCGA | 20.062 | 1.504 | 23.366 | |
| simplifyTCGA | 43.460 | 2.571 | 47.039 | |
| trimColData | 24.631 | 1.825 | 27.709 | |