| Back to Multiple platform build/check report for BioC 3.14 |
|
This page was generated on 2022-04-13 12:07:28 -0400 (Wed, 13 Apr 2022).
| Hostname | OS | Arch (*) | R version | Installed pkgs |
|---|---|---|---|---|
| nebbiolo2 | Linux (Ubuntu 20.04.4 LTS) | x86_64 | 4.1.3 (2022-03-10) -- "One Push-Up" | 4324 |
| tokay2 | Windows Server 2012 R2 Standard | x64 | 4.1.3 (2022-03-10) -- "One Push-Up" | 4077 |
| machv2 | macOS 10.14.6 Mojave | x86_64 | 4.1.3 (2022-03-10) -- "One Push-Up" | 4137 |
| Click on any hostname to see more info about the system (e.g. compilers) (*) as reported by 'uname -p', except on Windows and Mac OS X | ||||
|
To the developers/maintainers of the TCC package: - Please allow up to 24 hours (and sometimes 48 hours) for your latest push to git@git.bioconductor.org:packages/TCC.git to reflect on this report. See How and When does the builder pull? When will my changes propagate? for more information. - Make sure to use the following settings in order to reproduce any error or warning you see on this page. |
| Package 1936/2083 | Hostname | OS / Arch | INSTALL | BUILD | CHECK | BUILD BIN | ||||||||
| TCC 1.34.0 (landing page) Jianqiang Sun
| nebbiolo2 | Linux (Ubuntu 20.04.4 LTS) / x86_64 | OK | OK | OK | |||||||||
| tokay2 | Windows Server 2012 R2 Standard / x64 | OK | OK | OK | OK | |||||||||
| machv2 | macOS 10.14.6 Mojave / x86_64 | OK | OK | OK | OK | |||||||||
| Package: TCC |
| Version: 1.34.0 |
| Command: C:\Users\biocbuild\bbs-3.14-bioc\R\bin\R.exe CMD check --force-multiarch --install=check:TCC.install-out.txt --library=C:\Users\biocbuild\bbs-3.14-bioc\R\library --no-vignettes --timings TCC_1.34.0.tar.gz |
| StartedAt: 2022-04-13 03:55:32 -0400 (Wed, 13 Apr 2022) |
| EndedAt: 2022-04-13 04:06:00 -0400 (Wed, 13 Apr 2022) |
| EllapsedTime: 628.2 seconds |
| RetCode: 0 |
| Status: OK |
| CheckDir: TCC.Rcheck |
| Warnings: 0 |
##############################################################################
##############################################################################
###
### Running command:
###
### C:\Users\biocbuild\bbs-3.14-bioc\R\bin\R.exe CMD check --force-multiarch --install=check:TCC.install-out.txt --library=C:\Users\biocbuild\bbs-3.14-bioc\R\library --no-vignettes --timings TCC_1.34.0.tar.gz
###
##############################################################################
##############################################################################
* using log directory 'C:/Users/biocbuild/bbs-3.14-bioc/meat/TCC.Rcheck'
* using R version 4.1.3 (2022-03-10)
* using platform: x86_64-w64-mingw32 (64-bit)
* using session charset: ISO8859-1
* using option '--no-vignettes'
* checking for file 'TCC/DESCRIPTION' ... OK
* checking extension type ... Package
* this is package 'TCC' version '1.34.0'
* checking package namespace information ... OK
* checking package dependencies ... OK
* checking if this is a source package ... OK
* checking if there is a namespace ... OK
* checking for hidden files and directories ... OK
* checking for portable file names ... OK
* checking whether package 'TCC' can be installed ... OK
* checking installed package size ... OK
* checking package directory ... OK
* checking 'build' directory ... OK
* checking DESCRIPTION meta-information ... OK
* checking top-level files ... OK
* checking for left-over files ... OK
* checking index information ... OK
* checking package subdirectories ... OK
* checking R files for non-ASCII characters ... OK
* checking R files for syntax errors ... OK
* loading checks for arch 'i386'
** checking whether the package can be loaded ... OK
** checking whether the package can be loaded with stated dependencies ... OK
** checking whether the package can be unloaded cleanly ... OK
** checking whether the namespace can be loaded with stated dependencies ... OK
** checking whether the namespace can be unloaded cleanly ... OK
* loading checks for arch 'x64'
** checking whether the package can be loaded ... OK
** checking whether the package can be loaded with stated dependencies ... OK
** checking whether the package can be unloaded cleanly ... OK
** checking whether the namespace can be loaded with stated dependencies ... OK
** checking whether the namespace can be unloaded cleanly ... OK
* checking dependencies in R code ... OK
* checking S3 generic/method consistency ... OK
* checking replacement functions ... OK
* checking foreign function calls ... OK
* checking R code for possible problems ... OK
* checking Rd files ... OK
* checking Rd metadata ... OK
* checking Rd cross-references ... OK
* checking for missing documentation entries ... OK
* checking for code/documentation mismatches ... OK
* checking Rd \usage sections ... OK
* checking Rd contents ... OK
* checking for unstated dependencies in examples ... OK
* checking contents of 'data' directory ... OK
* checking data for non-ASCII characters ... OK
* checking data for ASCII and uncompressed saves ... OK
* checking files in 'vignettes' ... OK
* checking examples ...
** running examples for arch 'i386' ... OK
Examples with CPU (user + system) or elapsed time > 5s
user system elapsed
TCC-class 8.89 0.66 9.55
simulateReadCounts 5.81 0.01 5.83
plot.TCC 5.51 0.03 5.55
** running examples for arch 'x64' ... OK
Examples with CPU (user + system) or elapsed time > 5s
user system elapsed
TCC-class 7.80 0.11 7.91
simulateReadCounts 7.25 0.01 7.26
plot.TCC 5.72 0.07 5.78
* checking for unstated dependencies in 'tests' ... OK
* checking tests ...
** running tests for arch 'i386' ...
Running 'runTests.R'
OK
** running tests for arch 'x64' ...
Running 'runTests.R'
OK
* checking for unstated dependencies in vignettes ... OK
* checking package vignettes in 'inst/doc' ... OK
* checking running R code from vignettes ... SKIPPED
* checking re-building of vignette outputs ... SKIPPED
* checking PDF version of manual ... OK
* DONE
Status: OK
TCC.Rcheck/00install.out
##############################################################################
##############################################################################
###
### Running command:
###
### C:\cygwin\bin\curl.exe -O http://155.52.207.166/BBS/3.14/bioc/src/contrib/TCC_1.34.0.tar.gz && rm -rf TCC.buildbin-libdir && mkdir TCC.buildbin-libdir && C:\Users\biocbuild\bbs-3.14-bioc\R\bin\R.exe CMD INSTALL --merge-multiarch --build --library=TCC.buildbin-libdir TCC_1.34.0.tar.gz && C:\Users\biocbuild\bbs-3.14-bioc\R\bin\R.exe CMD INSTALL TCC_1.34.0.zip && rm TCC_1.34.0.tar.gz TCC_1.34.0.zip
###
##############################################################################
##############################################################################
% Total % Received % Xferd Average Speed Time Time Time Current
Dload Upload Total Spent Left Speed
0 0 0 0 0 0 0 0 --:--:-- --:--:-- --:--:-- 0
100 856k 100 856k 0 0 761k 0 0:00:01 0:00:01 --:--:-- 762k
100 856k 100 856k 0 0 761k 0 0:00:01 0:00:01 --:--:-- 761k
install for i386
* installing *source* package 'TCC' ...
** using staged installation
** R
** data
** inst
** byte-compile and prepare package for lazy loading
Creating a new generic function for 'calcNormFactors' in package 'TCC'
** help
*** installing help indices
converting help for package 'TCC'
finding HTML links ... done
ROKU html
TCC-class html
TCC html
WAD html
arab html
calcAUCValue html
calcNormFactors html
clusterSample html
estimateDE html
filterLowCountGenes html
getNormalizedData html
getResult html
hypoData html
hypoData_mg html
hypoData_ts html
makeFCMatrix html
nakai html
plot.TCC html
plotFCPseudocolor html
simulateReadCounts html
** building package indices
** installing vignettes
** testing if installed package can be loaded from temporary location
** testing if installed package can be loaded from final location
** testing if installed package keeps a record of temporary installation path
install for x64
* installing *source* package 'TCC' ...
** testing if installed package can be loaded
* MD5 sums
packaged installation of 'TCC' as TCC_1.34.0.zip
* DONE (TCC)
* installing to library 'C:/Users/biocbuild/bbs-3.14-bioc/R/library'
package 'TCC' successfully unpacked and MD5 sums checked
|
TCC.Rcheck/tests_i386/runTests.Rout
R version 4.1.3 (2022-03-10) -- "One Push-Up"
Copyright (C) 2022 The R Foundation for Statistical Computing
Platform: i386-w64-mingw32/i386 (32-bit)
R is free software and comes with ABSOLUTELY NO WARRANTY.
You are welcome to redistribute it under certain conditions.
Type 'license()' or 'licence()' for distribution details.
R is a collaborative project with many contributors.
Type 'contributors()' for more information and
'citation()' on how to cite R or R packages in publications.
Type 'demo()' for some demos, 'help()' for on-line help, or
'help.start()' for an HTML browser interface to help.
Type 'q()' to quit R.
> BiocGenerics:::testPackage("TCC")
Attaching package: 'BiocGenerics'
The following objects are masked from 'package:stats':
IQR, mad, sd, var, xtabs
The following objects are masked from 'package:base':
Filter, Find, Map, Position, Reduce, anyDuplicated, append,
as.data.frame, basename, cbind, colnames, dirname, do.call,
duplicated, eval, evalq, get, grep, grepl, intersect, is.unsorted,
lapply, mapply, match, mget, order, paste, pmax, pmax.int, pmin,
pmin.int, rank, rbind, rownames, sapply, setdiff, sort, table,
tapply, union, unique, unsplit, which.max, which.min
Attaching package: 'S4Vectors'
The following objects are masked from 'package:base':
I, expand.grid, unname
Attaching package: 'IRanges'
The following object is masked from 'package:grDevices':
windows
Attaching package: 'MatrixGenerics'
The following objects are masked from 'package:matrixStats':
colAlls, colAnyNAs, colAnys, colAvgsPerRowSet, colCollapse,
colCounts, colCummaxs, colCummins, colCumprods, colCumsums,
colDiffs, colIQRDiffs, colIQRs, colLogSumExps, colMadDiffs,
colMads, colMaxs, colMeans2, colMedians, colMins, colOrderStats,
colProds, colQuantiles, colRanges, colRanks, colSdDiffs, colSds,
colSums2, colTabulates, colVarDiffs, colVars, colWeightedMads,
colWeightedMeans, colWeightedMedians, colWeightedSds,
colWeightedVars, rowAlls, rowAnyNAs, rowAnys, rowAvgsPerColSet,
rowCollapse, rowCounts, rowCummaxs, rowCummins, rowCumprods,
rowCumsums, rowDiffs, rowIQRDiffs, rowIQRs, rowLogSumExps,
rowMadDiffs, rowMads, rowMaxs, rowMeans2, rowMedians, rowMins,
rowOrderStats, rowProds, rowQuantiles, rowRanges, rowRanks,
rowSdDiffs, rowSds, rowSums2, rowTabulates, rowVarDiffs, rowVars,
rowWeightedMads, rowWeightedMeans, rowWeightedMedians,
rowWeightedSds, rowWeightedVars
Welcome to Bioconductor
Vignettes contain introductory material; view with
'browseVignettes()'. To cite Bioconductor, see
'citation("Biobase")', and for packages 'citation("pkgname")'.
Attaching package: 'Biobase'
The following object is masked from 'package:MatrixGenerics':
rowMedians
The following objects are masked from 'package:matrixStats':
anyMissing, rowMedians
Attaching package: 'limma'
The following object is masked from 'package:DESeq2':
plotMA
The following object is masked from 'package:BiocGenerics':
plotMA
Attaching package: 'TCC'
The following object is masked from 'package:edgeR':
calcNormFactors
TCC::INFO: Identifying DE genes using wad ...
TCC::INFO: Done.
TCC::INFO: Identifying DE genes using wad ...
TCC::INFO: Done.
TCC::INFO: Calculating normalization factors using tmm ...
TCC::INFO: Done.
TCC::INFO: Calculating normalization factors using DEGES
TCC::INFO: (iDEGES pipeline : tmm - [ edger - tmm ] X 1 )
TCC::INFO: Done.
TCC::INFO: Calculating normalization factors using DEGES
TCC::INFO: (iDEGES pipeline : tmm - [ edger - tmm ] X 1 )
TCC::INFO: Done.
TCC::INFO: Calculating normalization factors using DEGES
TCC::INFO: (iDEGES pipeline : tmm - [ edger - tmm ] X 3 )
TCC::INFO: Done.
TCC::INFO: Calculating normalization factors using DEGES
TCC::INFO: (iDEGES pipeline : tmm - [ edger - tmm ] X 1 )
TCC::INFO: Done.
TCC::INFO: Calculating normalization factors using DEGES
TCC::INFO: (iDEGES pipeline : tmm - [ edger - tmm ] X 2 )
TCC::INFO: Done.
TCC::INFO: Calculating normalization factors using DEGES
TCC::INFO: (iDEGES pipeline : tmm - [ edger - tmm ] X 3 )
TCC::INFO: Done.
TCC::INFO: Calculating normalization factors using DEGES
TCC::INFO: (iDEGES pipeline : tmm - [ edger - tmm ] X 1 )
TCC::INFO: Done.
TCC::INFO: Calculating normalization factors using DEGES
TCC::INFO: (iDEGES pipeline : tmm - [ edger - tmm ] X 3 )
TCC::INFO: Done.
TCC::INFO: Generating simulation data under NB distribution ...
TCC::INFO: (genesizes : 1000 )
TCC::INFO: (replicates : 3, 3 )
TCC::INFO: (PDEG : 0.16, 0.04 )
TCC::INFO: Calculating normalization factors using DEGES
TCC::INFO: (iDEGES pipeline : tmm - [ bayseq - tmm ] X 1 )
TCC::INFO: Done.
TCC::INFO: Calculating normalization factors using DEGES
TCC::INFO: (iDEGES pipeline : deseq2 - [ bayseq - deseq2 ] X 1 )
TCC::INFO: Done.
TCC::INFO: Identifying DE genes using bayseq ...
TCC::INFO: Done.
[1] 0.7973438
TCC::INFO: Calculating normalization factors using DEGES
TCC::INFO: (iDEGES pipeline : tmm - [ deseq2 - tmm ] X 1 )
TCC::INFO: Done.
TCC::INFO: Calculating normalization factors using DEGES
TCC::INFO: (iDEGES pipeline : deseq2 - [ deseq2 - deseq2 ] X 1 )
TCC::INFO: Done.
TCC::INFO: Identifying DE genes using deseq2 ...
TCC::INFO: Done.
[1] 0.8962219
TCC::INFO: Calculating normalization factors using DEGES
TCC::INFO: (iDEGES pipeline : tmm - [ edger - tmm ] X 1 )
TCC::INFO: Done.
TCC::INFO: Calculating normalization factors using DEGES
TCC::INFO: (iDEGES pipeline : deseq2 - [ edger - deseq2 ] X 1 )
TCC::INFO: Done.
TCC::INFO: Identifying DE genes using edger ...
TCC::INFO: Done.
[1] 0.8923281
TCC::INFO: Calculating normalization factors using DEGES
TCC::INFO: (iDEGES pipeline : tmm - [ voom - tmm ] X 1 )
TCC::INFO: Done.
TCC::INFO: Calculating normalization factors using DEGES
TCC::INFO: (iDEGES pipeline : deseq2 - [ voom - deseq2 ] X 1 )
TCC::INFO: Done.
TCC::INFO: Identifying DE genes using voom ...
TCC::INFO: Done.
[1] 0.8621406
TCC::INFO: Generating simulation data under NB distribution ...
TCC::INFO: (genesizes : 1000 )
TCC::INFO: (samples : 8 )
TCC::INFO: (factors : 2 )
TCC::INFO: (PDEG : 0.1 )
TCC::INFO: Calculating normalization factors using DEGES
TCC::INFO: (iDEGES pipeline : tmm - [ bayseq - tmm ] X 1 )
TCC::INFO: Done.
TCC::INFO: Calculating normalization factors using DEGES
TCC::INFO: (iDEGES pipeline : deseq2 - [ bayseq - deseq2 ] X 1 )
TCC::INFO: Done.
TCC::INFO: Identifying DE genes using bayseq ...
TCC::INFO: Done.
[1] 0.7946778
TCC::INFO: Calculating normalization factors using DEGES
TCC::INFO: (iDEGES pipeline : tmm - [ deseq2 - tmm ] X 1 )
TCC::INFO: Done.
TCC::INFO: Calculating normalization factors using DEGES
TCC::INFO: (iDEGES pipeline : deseq2 - [ deseq2 - deseq2 ] X 1 )
TCC::INFO: Done.
TCC::INFO: Identifying DE genes using deseq2 ...
TCC::INFO: Done.
[1] 0.8696778
TCC::INFO: Calculating normalization factors using DEGES
TCC::INFO: (iDEGES pipeline : tmm - [ edger - tmm ] X 1 )
TCC::INFO: Done.
TCC::INFO: Calculating normalization factors using DEGES
TCC::INFO: (iDEGES pipeline : deseq2 - [ edger - deseq2 ] X 1 )
TCC::INFO: Done.
TCC::INFO: Identifying DE genes using edger ...
TCC::INFO: Done.
[1] 0.8986444
TCC::INFO: Calculating normalization factors using DEGES
TCC::INFO: (iDEGES pipeline : tmm - [ voom - tmm ] X 1 )
TCC::INFO: Done.
TCC::INFO: Calculating normalization factors using DEGES
TCC::INFO: (iDEGES pipeline : deseq2 - [ voom - deseq2 ] X 1 )
TCC::INFO: Done.
TCC::INFO: Identifying DE genes using voom ...
TCC::INFO: Done.
[1] 0.8815667
TCC::INFO: Generating simulation data under NB distribution ...
TCC::INFO: (genesizes : 1000 )
TCC::INFO: (replicates : 3, 3, 3 )
TCC::INFO: (PDEG : 0.12, 0.04, 0.04 )
TCC::INFO: Calculating normalization factors using DEGES
TCC::INFO: (iDEGES pipeline : tmm - [ bayseq - tmm ] X 1 )
TCC::INFO: Done.
TCC::INFO: Calculating normalization factors using DEGES
TCC::INFO: (iDEGES pipeline : deseq2 - [ bayseq - deseq2 ] X 1 )
TCC::INFO: Done.
TCC::INFO: Identifying DE genes using bayseq ...
TCC::INFO: Done.
[1] 0.6586125
TCC::INFO: Calculating normalization factors using DEGES
TCC::INFO: (iDEGES pipeline : tmm - [ deseq2 - tmm ] X 1 )
TCC::INFO: Done.
TCC::INFO: Calculating normalization factors using DEGES
TCC::INFO: (iDEGES pipeline : deseq2 - [ deseq2 - deseq2 ] X 1 )
TCC::INFO: Done.
TCC::INFO: Identifying DE genes using deseq2 ...
TCC::INFO: Done.
[1] 0.8559625
TCC::INFO: Calculating normalization factors using DEGES
TCC::INFO: (iDEGES pipeline : tmm - [ edger - tmm ] X 1 )
TCC::INFO: Done.
TCC::INFO: Calculating normalization factors using DEGES
TCC::INFO: (iDEGES pipeline : deseq2 - [ edger - deseq2 ] X 1 )
TCC::INFO: Done.
TCC::INFO: Identifying DE genes using edger ...
TCC::INFO: Done.
[1] 0.8673437
TCC::INFO: Calculating normalization factors using DEGES
TCC::INFO: (iDEGES pipeline : tmm - [ voom - tmm ] X 1 )
TCC::INFO: Done.
TCC::INFO: Calculating normalization factors using DEGES
TCC::INFO: (iDEGES pipeline : deseq2 - [ voom - deseq2 ] X 1 )
TCC::INFO: Done.
TCC::INFO: Identifying DE genes using voom ...
TCC::INFO: Done.
[1] 0.8355187
TCC::INFO: Generating simulation data under NB distribution ...
TCC::INFO: (genesizes : 1000 )
TCC::INFO: (samples : 12 )
TCC::INFO: (factors : 2 )
TCC::INFO: (PDEG : 0.1 )
TCC::INFO: Calculating normalization factors using DEGES
TCC::INFO: (iDEGES pipeline : tmm - [ bayseq - tmm ] X 1 )
TCC::INFO: Done.
TCC::INFO: Calculating normalization factors using DEGES
TCC::INFO: (iDEGES pipeline : deseq2 - [ bayseq - deseq2 ] X 1 )
TCC::INFO: Done.
TCC::INFO: Identifying DE genes using bayseq ...
TCC::INFO: Done.
[1] 0.6258469
TCC::INFO: Calculating normalization factors using DEGES
TCC::INFO: (iDEGES pipeline : tmm - [ deseq2 - tmm ] X 1 )
TCC::INFO: Done.
TCC::INFO: Calculating normalization factors using DEGES
TCC::INFO: (iDEGES pipeline : deseq2 - [ deseq2 - deseq2 ] X 1 )
TCC::INFO: Done.
TCC::INFO: Identifying DE genes using deseq2 ...
TCC::INFO: Done.
[1] 0.9129794
TCC::INFO: Calculating normalization factors using DEGES
TCC::INFO: (iDEGES pipeline : tmm - [ edger - tmm ] X 1 )
TCC::INFO: Done.
TCC::INFO: Calculating normalization factors using DEGES
TCC::INFO: (iDEGES pipeline : deseq2 - [ edger - deseq2 ] X 1 )
TCC::INFO: Done.
TCC::INFO: Identifying DE genes using edger ...
TCC::INFO: Done.
[1] 0.7513251
TCC::INFO: Calculating normalization factors using DEGES
TCC::INFO: (iDEGES pipeline : tmm - [ voom - tmm ] X 1 )
TCC::INFO: Done.
TCC::INFO: Calculating normalization factors using DEGES
TCC::INFO: (iDEGES pipeline : deseq2 - [ voom - deseq2 ] X 1 )
TCC::INFO: Done.
TCC::INFO: Identifying DE genes using voom ...
TCC::INFO: Done.
[1] 0.8871105
TCC::INFO: Calculating normalization factors using tmm ...
TCC::INFO: Done.
TCC::INFO: Identifying DE genes using edger ...
TCC::INFO: Done.
TCC::INFO: Calculating normalization factors using tmm ...
TCC::INFO: Done.
TCC::INFO: Identifying DE genes using edger ...
TCC::INFO: Done.
TCC::INFO: Generating simulation data under NB distribution ...
TCC::INFO: (genesizes : 1000 )
TCC::INFO: (replicates : 3, 3 )
TCC::INFO: (PDEG : 0.18, 0.02 )
TCC::INFO: Generating simulation data under NB distribution ...
TCC::INFO: (genesizes : 1000 )
TCC::INFO: (replicates : 3, 3, 3 )
TCC::INFO: (PDEG : 0.18, 0.01, 0.01 )
RUNIT TEST PROTOCOL -- Wed Apr 13 04:03:21 2022
***********************************************
Number of test functions: 10
Number of errors: 0
Number of failures: 0
1 Test Suite :
TCC RUnit Tests - 10 test functions, 0 errors, 0 failures
Number of test functions: 10
Number of errors: 0
Number of failures: 0
>
> proc.time()
user system elapsed
141.32 2.06 143.37
|
TCC.Rcheck/tests_x64/runTests.Rout
R version 4.1.3 (2022-03-10) -- "One Push-Up"
Copyright (C) 2022 The R Foundation for Statistical Computing
Platform: x86_64-w64-mingw32/x64 (64-bit)
R is free software and comes with ABSOLUTELY NO WARRANTY.
You are welcome to redistribute it under certain conditions.
Type 'license()' or 'licence()' for distribution details.
R is a collaborative project with many contributors.
Type 'contributors()' for more information and
'citation()' on how to cite R or R packages in publications.
Type 'demo()' for some demos, 'help()' for on-line help, or
'help.start()' for an HTML browser interface to help.
Type 'q()' to quit R.
> BiocGenerics:::testPackage("TCC")
Attaching package: 'BiocGenerics'
The following objects are masked from 'package:stats':
IQR, mad, sd, var, xtabs
The following objects are masked from 'package:base':
Filter, Find, Map, Position, Reduce, anyDuplicated, append,
as.data.frame, basename, cbind, colnames, dirname, do.call,
duplicated, eval, evalq, get, grep, grepl, intersect, is.unsorted,
lapply, mapply, match, mget, order, paste, pmax, pmax.int, pmin,
pmin.int, rank, rbind, rownames, sapply, setdiff, sort, table,
tapply, union, unique, unsplit, which.max, which.min
Attaching package: 'S4Vectors'
The following objects are masked from 'package:base':
I, expand.grid, unname
Attaching package: 'IRanges'
The following object is masked from 'package:grDevices':
windows
Attaching package: 'MatrixGenerics'
The following objects are masked from 'package:matrixStats':
colAlls, colAnyNAs, colAnys, colAvgsPerRowSet, colCollapse,
colCounts, colCummaxs, colCummins, colCumprods, colCumsums,
colDiffs, colIQRDiffs, colIQRs, colLogSumExps, colMadDiffs,
colMads, colMaxs, colMeans2, colMedians, colMins, colOrderStats,
colProds, colQuantiles, colRanges, colRanks, colSdDiffs, colSds,
colSums2, colTabulates, colVarDiffs, colVars, colWeightedMads,
colWeightedMeans, colWeightedMedians, colWeightedSds,
colWeightedVars, rowAlls, rowAnyNAs, rowAnys, rowAvgsPerColSet,
rowCollapse, rowCounts, rowCummaxs, rowCummins, rowCumprods,
rowCumsums, rowDiffs, rowIQRDiffs, rowIQRs, rowLogSumExps,
rowMadDiffs, rowMads, rowMaxs, rowMeans2, rowMedians, rowMins,
rowOrderStats, rowProds, rowQuantiles, rowRanges, rowRanks,
rowSdDiffs, rowSds, rowSums2, rowTabulates, rowVarDiffs, rowVars,
rowWeightedMads, rowWeightedMeans, rowWeightedMedians,
rowWeightedSds, rowWeightedVars
Welcome to Bioconductor
Vignettes contain introductory material; view with
'browseVignettes()'. To cite Bioconductor, see
'citation("Biobase")', and for packages 'citation("pkgname")'.
Attaching package: 'Biobase'
The following object is masked from 'package:MatrixGenerics':
rowMedians
The following objects are masked from 'package:matrixStats':
anyMissing, rowMedians
Attaching package: 'limma'
The following object is masked from 'package:DESeq2':
plotMA
The following object is masked from 'package:BiocGenerics':
plotMA
Attaching package: 'TCC'
The following object is masked from 'package:edgeR':
calcNormFactors
TCC::INFO: Identifying DE genes using wad ...
TCC::INFO: Done.
TCC::INFO: Identifying DE genes using wad ...
TCC::INFO: Done.
TCC::INFO: Calculating normalization factors using tmm ...
TCC::INFO: Done.
TCC::INFO: Calculating normalization factors using DEGES
TCC::INFO: (iDEGES pipeline : tmm - [ edger - tmm ] X 1 )
TCC::INFO: Done.
TCC::INFO: Calculating normalization factors using DEGES
TCC::INFO: (iDEGES pipeline : tmm - [ edger - tmm ] X 1 )
TCC::INFO: Done.
TCC::INFO: Calculating normalization factors using DEGES
TCC::INFO: (iDEGES pipeline : tmm - [ edger - tmm ] X 3 )
TCC::INFO: Done.
TCC::INFO: Calculating normalization factors using DEGES
TCC::INFO: (iDEGES pipeline : tmm - [ edger - tmm ] X 1 )
TCC::INFO: Done.
TCC::INFO: Calculating normalization factors using DEGES
TCC::INFO: (iDEGES pipeline : tmm - [ edger - tmm ] X 2 )
TCC::INFO: Done.
TCC::INFO: Calculating normalization factors using DEGES
TCC::INFO: (iDEGES pipeline : tmm - [ edger - tmm ] X 3 )
TCC::INFO: Done.
TCC::INFO: Calculating normalization factors using DEGES
TCC::INFO: (iDEGES pipeline : tmm - [ edger - tmm ] X 1 )
TCC::INFO: Done.
TCC::INFO: Calculating normalization factors using DEGES
TCC::INFO: (iDEGES pipeline : tmm - [ edger - tmm ] X 3 )
TCC::INFO: Done.
TCC::INFO: Generating simulation data under NB distribution ...
TCC::INFO: (genesizes : 1000 )
TCC::INFO: (replicates : 3, 3 )
TCC::INFO: (PDEG : 0.16, 0.04 )
TCC::INFO: Calculating normalization factors using DEGES
TCC::INFO: (iDEGES pipeline : tmm - [ bayseq - tmm ] X 1 )
TCC::INFO: Done.
TCC::INFO: Calculating normalization factors using DEGES
TCC::INFO: (iDEGES pipeline : deseq2 - [ bayseq - deseq2 ] X 1 )
TCC::INFO: Done.
TCC::INFO: Identifying DE genes using bayseq ...
TCC::INFO: Done.
[1] 0.7973438
TCC::INFO: Calculating normalization factors using DEGES
TCC::INFO: (iDEGES pipeline : tmm - [ deseq2 - tmm ] X 1 )
TCC::INFO: Done.
TCC::INFO: Calculating normalization factors using DEGES
TCC::INFO: (iDEGES pipeline : deseq2 - [ deseq2 - deseq2 ] X 1 )
TCC::INFO: Done.
TCC::INFO: Identifying DE genes using deseq2 ...
TCC::INFO: Done.
[1] 0.8962219
TCC::INFO: Calculating normalization factors using DEGES
TCC::INFO: (iDEGES pipeline : tmm - [ edger - tmm ] X 1 )
TCC::INFO: Done.
TCC::INFO: Calculating normalization factors using DEGES
TCC::INFO: (iDEGES pipeline : deseq2 - [ edger - deseq2 ] X 1 )
TCC::INFO: Done.
TCC::INFO: Identifying DE genes using edger ...
TCC::INFO: Done.
[1] 0.8923281
TCC::INFO: Calculating normalization factors using DEGES
TCC::INFO: (iDEGES pipeline : tmm - [ voom - tmm ] X 1 )
TCC::INFO: Done.
TCC::INFO: Calculating normalization factors using DEGES
TCC::INFO: (iDEGES pipeline : deseq2 - [ voom - deseq2 ] X 1 )
TCC::INFO: Done.
TCC::INFO: Identifying DE genes using voom ...
TCC::INFO: Done.
[1] 0.8621406
TCC::INFO: Generating simulation data under NB distribution ...
TCC::INFO: (genesizes : 1000 )
TCC::INFO: (samples : 8 )
TCC::INFO: (factors : 2 )
TCC::INFO: (PDEG : 0.1 )
TCC::INFO: Calculating normalization factors using DEGES
TCC::INFO: (iDEGES pipeline : tmm - [ bayseq - tmm ] X 1 )
TCC::INFO: Done.
TCC::INFO: Calculating normalization factors using DEGES
TCC::INFO: (iDEGES pipeline : deseq2 - [ bayseq - deseq2 ] X 1 )
TCC::INFO: Done.
TCC::INFO: Identifying DE genes using bayseq ...
TCC::INFO: Done.
[1] 0.7946778
TCC::INFO: Calculating normalization factors using DEGES
TCC::INFO: (iDEGES pipeline : tmm - [ deseq2 - tmm ] X 1 )
TCC::INFO: Done.
TCC::INFO: Calculating normalization factors using DEGES
TCC::INFO: (iDEGES pipeline : deseq2 - [ deseq2 - deseq2 ] X 1 )
TCC::INFO: Done.
TCC::INFO: Identifying DE genes using deseq2 ...
TCC::INFO: Done.
[1] 0.8696778
TCC::INFO: Calculating normalization factors using DEGES
TCC::INFO: (iDEGES pipeline : tmm - [ edger - tmm ] X 1 )
TCC::INFO: Done.
TCC::INFO: Calculating normalization factors using DEGES
TCC::INFO: (iDEGES pipeline : deseq2 - [ edger - deseq2 ] X 1 )
TCC::INFO: Done.
TCC::INFO: Identifying DE genes using edger ...
TCC::INFO: Done.
[1] 0.8986444
TCC::INFO: Calculating normalization factors using DEGES
TCC::INFO: (iDEGES pipeline : tmm - [ voom - tmm ] X 1 )
TCC::INFO: Done.
TCC::INFO: Calculating normalization factors using DEGES
TCC::INFO: (iDEGES pipeline : deseq2 - [ voom - deseq2 ] X 1 )
TCC::INFO: Done.
TCC::INFO: Identifying DE genes using voom ...
TCC::INFO: Done.
[1] 0.8815667
TCC::INFO: Generating simulation data under NB distribution ...
TCC::INFO: (genesizes : 1000 )
TCC::INFO: (replicates : 3, 3, 3 )
TCC::INFO: (PDEG : 0.12, 0.04, 0.04 )
TCC::INFO: Calculating normalization factors using DEGES
TCC::INFO: (iDEGES pipeline : tmm - [ bayseq - tmm ] X 1 )
TCC::INFO: Done.
TCC::INFO: Calculating normalization factors using DEGES
TCC::INFO: (iDEGES pipeline : deseq2 - [ bayseq - deseq2 ] X 1 )
TCC::INFO: Done.
TCC::INFO: Identifying DE genes using bayseq ...
TCC::INFO: Done.
[1] 0.6586125
TCC::INFO: Calculating normalization factors using DEGES
TCC::INFO: (iDEGES pipeline : tmm - [ deseq2 - tmm ] X 1 )
TCC::INFO: Done.
TCC::INFO: Calculating normalization factors using DEGES
TCC::INFO: (iDEGES pipeline : deseq2 - [ deseq2 - deseq2 ] X 1 )
TCC::INFO: Done.
TCC::INFO: Identifying DE genes using deseq2 ...
TCC::INFO: Done.
[1] 0.8559625
TCC::INFO: Calculating normalization factors using DEGES
TCC::INFO: (iDEGES pipeline : tmm - [ edger - tmm ] X 1 )
TCC::INFO: Done.
TCC::INFO: Calculating normalization factors using DEGES
TCC::INFO: (iDEGES pipeline : deseq2 - [ edger - deseq2 ] X 1 )
TCC::INFO: Done.
TCC::INFO: Identifying DE genes using edger ...
TCC::INFO: Done.
[1] 0.8673437
TCC::INFO: Calculating normalization factors using DEGES
TCC::INFO: (iDEGES pipeline : tmm - [ voom - tmm ] X 1 )
TCC::INFO: Done.
TCC::INFO: Calculating normalization factors using DEGES
TCC::INFO: (iDEGES pipeline : deseq2 - [ voom - deseq2 ] X 1 )
TCC::INFO: Done.
TCC::INFO: Identifying DE genes using voom ...
TCC::INFO: Done.
[1] 0.8355187
TCC::INFO: Generating simulation data under NB distribution ...
TCC::INFO: (genesizes : 1000 )
TCC::INFO: (samples : 12 )
TCC::INFO: (factors : 2 )
TCC::INFO: (PDEG : 0.1 )
TCC::INFO: Calculating normalization factors using DEGES
TCC::INFO: (iDEGES pipeline : tmm - [ bayseq - tmm ] X 1 )
TCC::INFO: Done.
TCC::INFO: Calculating normalization factors using DEGES
TCC::INFO: (iDEGES pipeline : deseq2 - [ bayseq - deseq2 ] X 1 )
TCC::INFO: Done.
TCC::INFO: Identifying DE genes using bayseq ...
TCC::INFO: Done.
[1] 0.6258469
TCC::INFO: Calculating normalization factors using DEGES
TCC::INFO: (iDEGES pipeline : tmm - [ deseq2 - tmm ] X 1 )
TCC::INFO: Done.
TCC::INFO: Calculating normalization factors using DEGES
TCC::INFO: (iDEGES pipeline : deseq2 - [ deseq2 - deseq2 ] X 1 )
TCC::INFO: Done.
TCC::INFO: Identifying DE genes using deseq2 ...
TCC::INFO: Done.
[1] 0.9129794
TCC::INFO: Calculating normalization factors using DEGES
TCC::INFO: (iDEGES pipeline : tmm - [ edger - tmm ] X 1 )
TCC::INFO: Done.
TCC::INFO: Calculating normalization factors using DEGES
TCC::INFO: (iDEGES pipeline : deseq2 - [ edger - deseq2 ] X 1 )
TCC::INFO: Done.
TCC::INFO: Identifying DE genes using edger ...
TCC::INFO: Done.
[1] 0.7513251
TCC::INFO: Calculating normalization factors using DEGES
TCC::INFO: (iDEGES pipeline : tmm - [ voom - tmm ] X 1 )
TCC::INFO: Done.
TCC::INFO: Calculating normalization factors using DEGES
TCC::INFO: (iDEGES pipeline : deseq2 - [ voom - deseq2 ] X 1 )
TCC::INFO: Done.
TCC::INFO: Identifying DE genes using voom ...
TCC::INFO: Done.
[1] 0.8871105
TCC::INFO: Calculating normalization factors using tmm ...
TCC::INFO: Done.
TCC::INFO: Identifying DE genes using edger ...
TCC::INFO: Done.
TCC::INFO: Calculating normalization factors using tmm ...
TCC::INFO: Done.
TCC::INFO: Identifying DE genes using edger ...
TCC::INFO: Done.
TCC::INFO: Generating simulation data under NB distribution ...
TCC::INFO: (genesizes : 1000 )
TCC::INFO: (replicates : 3, 3 )
TCC::INFO: (PDEG : 0.18, 0.02 )
TCC::INFO: Generating simulation data under NB distribution ...
TCC::INFO: (genesizes : 1000 )
TCC::INFO: (replicates : 3, 3, 3 )
TCC::INFO: (PDEG : 0.18, 0.01, 0.01 )
RUNIT TEST PROTOCOL -- Wed Apr 13 04:05:51 2022
***********************************************
Number of test functions: 10
Number of errors: 0
Number of failures: 0
1 Test Suite :
TCC RUnit Tests - 10 test functions, 0 errors, 0 failures
Number of test functions: 10
Number of errors: 0
Number of failures: 0
>
> proc.time()
user system elapsed
149.17 0.71 149.89
|
|
TCC.Rcheck/examples_i386/TCC-Ex.timings
|
TCC.Rcheck/examples_x64/TCC-Ex.timings
|