| Back to Multiple platform build/check report for BioC 3.14 | 
 | 
This page was generated on 2022-04-13 12:07:26 -0400 (Wed, 13 Apr 2022).
| Hostname | OS | Arch (*) | R version | Installed pkgs | 
|---|---|---|---|---|
| nebbiolo2 | Linux (Ubuntu 20.04.4 LTS) | x86_64 | 4.1.3 (2022-03-10) -- "One Push-Up" | 4324 | 
| tokay2 | Windows Server 2012 R2 Standard | x64 | 4.1.3 (2022-03-10) -- "One Push-Up" | 4077 | 
| machv2 | macOS 10.14.6 Mojave | x86_64 | 4.1.3 (2022-03-10) -- "One Push-Up" | 4137 | 
| Click on any hostname to see more info about the system (e.g. compilers) (*) as reported by 'uname -p', except on Windows and Mac OS X | ||||
| To the developers/maintainers of the StarBioTrek package: - Please allow up to 24 hours (and sometimes 48 hours) for your latest push to git@git.bioconductor.org:packages/StarBioTrek.git to reflect on this report. See How and When does the builder pull? When will my changes propagate? for more information. - Make sure to use the following settings in order to reproduce any error or warning you see on this page. | 
| Package 1886/2083 | Hostname | OS / Arch | INSTALL | BUILD | CHECK | BUILD BIN | ||||||||
| StarBioTrek 1.20.0  (landing page) Claudia Cava 
 | nebbiolo2 | Linux (Ubuntu 20.04.4 LTS) / x86_64 | OK | OK | WARNINGS |  | ||||||||
| tokay2 | Windows Server 2012 R2 Standard / x64 | OK | OK | WARNINGS | OK |  | ||||||||
| machv2 | macOS 10.14.6 Mojave / x86_64 | OK | OK | WARNINGS | OK |  | ||||||||
| Package: StarBioTrek | 
| Version: 1.20.0 | 
| Command: C:\cygwin\bin\curl.exe -O http://155.52.207.166/BBS/3.14/bioc/src/contrib/StarBioTrek_1.20.0.tar.gz && rm -rf StarBioTrek.buildbin-libdir && mkdir StarBioTrek.buildbin-libdir && C:\Users\biocbuild\bbs-3.14-bioc\R\bin\R.exe CMD INSTALL --merge-multiarch --build --library=StarBioTrek.buildbin-libdir StarBioTrek_1.20.0.tar.gz && C:\Users\biocbuild\bbs-3.14-bioc\R\bin\R.exe CMD INSTALL StarBioTrek_1.20.0.zip && rm StarBioTrek_1.20.0.tar.gz StarBioTrek_1.20.0.zip | 
| StartedAt: 2022-04-12 07:10:27 -0400 (Tue, 12 Apr 2022) | 
| EndedAt: 2022-04-12 07:11:35 -0400 (Tue, 12 Apr 2022) | 
| EllapsedTime: 68.0 seconds | 
| RetCode: 0 | 
| Status: OK | 
##############################################################################
##############################################################################
###
### Running command:
###
###   C:\cygwin\bin\curl.exe -O http://155.52.207.166/BBS/3.14/bioc/src/contrib/StarBioTrek_1.20.0.tar.gz && rm -rf StarBioTrek.buildbin-libdir && mkdir StarBioTrek.buildbin-libdir && C:\Users\biocbuild\bbs-3.14-bioc\R\bin\R.exe CMD INSTALL --merge-multiarch --build --library=StarBioTrek.buildbin-libdir StarBioTrek_1.20.0.tar.gz && C:\Users\biocbuild\bbs-3.14-bioc\R\bin\R.exe CMD INSTALL StarBioTrek_1.20.0.zip && rm StarBioTrek_1.20.0.tar.gz StarBioTrek_1.20.0.zip
###
##############################################################################
##############################################################################
  % Total    % Received % Xferd  Average Speed   Time    Time     Time  Current
                                 Dload  Upload   Total   Spent    Left  Speed
  0     0    0     0    0     0      0      0 --:--:-- --:--:-- --:--:--     0
 17 3982k   17  707k    0     0  1248k      0  0:00:03 --:--:--  0:00:03 1248k
 71 3982k   71 2861k    0     0  1840k      0  0:00:02  0:00:01  0:00:01 1840k
100 3982k  100 3982k    0     0  2062k      0  0:00:01  0:00:01 --:--:-- 2062k
install for i386
* installing *source* package 'StarBioTrek' ...
** using staged installation
** R
** data
*** moving datasets to lazyload DB
** inst
** byte-compile and prepare package for lazy loading
** help
*** installing help indices
  converting help for package 'StarBioTrek'
    finding HTML links ... done
    ConvertedIDgenes                        html  
    Data_CANCER_normUQ_fil                  html  
    GE_matrix                               html  
    GE_matrix_mean                          html  
    GOChord                                 html  
    GetData                                 html  
    GetPathData                             html  
    GetPathNet                              html  
    IPPI                                    html  
    SelectedSample                          html  
    StarBioTrek                             html  
    average                                 html  
    circleplot                              html  
    dsscorecrtlk                            html  
    eucdistcrtlk                            html  
    getNETdata                              html  
    listpathnet                             html  
    netw                                    html  
    netw_IPPI                               html  
    norm                                    html  
    path                                    html  
    path_KEGG                               html  
    pathnet                                 html  
    pathway                                 html  
    pathway_matrix                          html  
    plotcrosstalk                           html  
    score_euc_dista                         html  
    select_class                            html  
    stdv                                    html  
    svm_classification                      html  
    tumo                                    html  
** building package indices
** installing vignettes
** testing if installed package can be loaded from temporary location
** testing if installed package can be loaded from final location
** testing if installed package keeps a record of temporary installation path
install for x64
* installing *source* package 'StarBioTrek' ...
** testing if installed package can be loaded
* MD5 sums
packaged installation of 'StarBioTrek' as StarBioTrek_1.20.0.zip
* DONE (StarBioTrek)
* installing to library 'C:/Users/biocbuild/bbs-3.14-bioc/R/library'
package 'StarBioTrek' successfully unpacked and MD5 sums checked