| Back to Multiple platform build/check report for BioC 3.14 |
|
This page was generated on 2022-04-13 12:07:24 -0400 (Wed, 13 Apr 2022).
| Hostname | OS | Arch (*) | R version | Installed pkgs |
|---|---|---|---|---|
| nebbiolo2 | Linux (Ubuntu 20.04.4 LTS) | x86_64 | 4.1.3 (2022-03-10) -- "One Push-Up" | 4324 |
| tokay2 | Windows Server 2012 R2 Standard | x64 | 4.1.3 (2022-03-10) -- "One Push-Up" | 4077 |
| machv2 | macOS 10.14.6 Mojave | x86_64 | 4.1.3 (2022-03-10) -- "One Push-Up" | 4137 |
| Click on any hostname to see more info about the system (e.g. compilers) (*) as reported by 'uname -p', except on Windows and Mac OS X | ||||
|
To the developers/maintainers of the Spectra package: - Please allow up to 24 hours (and sometimes 48 hours) for your latest push to git@git.bioconductor.org:packages/Spectra.git to reflect on this report. See How and When does the builder pull? When will my changes propagate? for more information. - Make sure to use the following settings in order to reproduce any error or warning you see on this page. |
| Package 1852/2083 | Hostname | OS / Arch | INSTALL | BUILD | CHECK | BUILD BIN | ||||||||
| Spectra 1.4.3 (landing page) RforMassSpectrometry Package Maintainer
| nebbiolo2 | Linux (Ubuntu 20.04.4 LTS) / x86_64 | OK | OK | OK | |||||||||
| tokay2 | Windows Server 2012 R2 Standard / x64 | OK | OK | OK | OK | |||||||||
| machv2 | macOS 10.14.6 Mojave / x86_64 | OK | OK | OK | OK | |||||||||
| Package: Spectra |
| Version: 1.4.3 |
| Command: C:\cygwin\bin\curl.exe -O http://155.52.207.166/BBS/3.14/bioc/src/contrib/Spectra_1.4.3.tar.gz && rm -rf Spectra.buildbin-libdir && mkdir Spectra.buildbin-libdir && C:\Users\biocbuild\bbs-3.14-bioc\R\bin\R.exe CMD INSTALL --merge-multiarch --build --library=Spectra.buildbin-libdir Spectra_1.4.3.tar.gz && C:\Users\biocbuild\bbs-3.14-bioc\R\bin\R.exe CMD INSTALL Spectra_1.4.3.zip && rm Spectra_1.4.3.tar.gz Spectra_1.4.3.zip |
| StartedAt: 2022-04-12 04:36:30 -0400 (Tue, 12 Apr 2022) |
| EndedAt: 2022-04-12 04:38:40 -0400 (Tue, 12 Apr 2022) |
| EllapsedTime: 129.8 seconds |
| RetCode: 0 |
| Status: OK |
##############################################################################
##############################################################################
###
### Running command:
###
### C:\cygwin\bin\curl.exe -O http://155.52.207.166/BBS/3.14/bioc/src/contrib/Spectra_1.4.3.tar.gz && rm -rf Spectra.buildbin-libdir && mkdir Spectra.buildbin-libdir && C:\Users\biocbuild\bbs-3.14-bioc\R\bin\R.exe CMD INSTALL --merge-multiarch --build --library=Spectra.buildbin-libdir Spectra_1.4.3.tar.gz && C:\Users\biocbuild\bbs-3.14-bioc\R\bin\R.exe CMD INSTALL Spectra_1.4.3.zip && rm Spectra_1.4.3.tar.gz Spectra_1.4.3.zip
###
##############################################################################
##############################################################################
% Total % Received % Xferd Average Speed Time Time Time Current
Dload Upload Total Spent Left Speed
0 0 0 0 0 0 0 0 --:--:-- --:--:-- --:--:-- 0
49 448k 49 220k 0 0 420k 0 0:00:01 --:--:-- 0:00:01 420k
100 448k 100 448k 0 0 546k 0 --:--:-- --:--:-- --:--:-- 546k
install for i386
* installing *source* package 'Spectra' ...
** using staged installation
** R
** inst
** byte-compile and prepare package for lazy loading
** help
*** installing help indices
converting help for package 'Spectra'
finding HTML links ... done
MsBackend html
finding level-2 HTML links ... done
Spectra html
combinePeaks html
hidden_aliases html
joinPeaks html
plotMzDelta html
spectra-plotting html
** building package indices
** installing vignettes
** testing if installed package can be loaded from temporary location
** testing if installed package can be loaded from final location
** testing if installed package keeps a record of temporary installation path
install for x64
* installing *source* package 'Spectra' ...
** testing if installed package can be loaded
* MD5 sums
packaged installation of 'Spectra' as Spectra_1.4.3.zip
* DONE (Spectra)
* installing to library 'C:/Users/biocbuild/bbs-3.14-bioc/R/library'
package 'Spectra' successfully unpacked and MD5 sums checked