| Back to Multiple platform build/check report for BioC 3.14 |
|
This page was generated on 2022-04-13 12:05:59 -0400 (Wed, 13 Apr 2022).
| Hostname | OS | Arch (*) | R version | Installed pkgs |
|---|---|---|---|---|
| nebbiolo2 | Linux (Ubuntu 20.04.4 LTS) | x86_64 | 4.1.3 (2022-03-10) -- "One Push-Up" | 4324 |
| tokay2 | Windows Server 2012 R2 Standard | x64 | 4.1.3 (2022-03-10) -- "One Push-Up" | 4077 |
| machv2 | macOS 10.14.6 Mojave | x86_64 | 4.1.3 (2022-03-10) -- "One Push-Up" | 4137 |
| Click on any hostname to see more info about the system (e.g. compilers) (*) as reported by 'uname -p', except on Windows and Mac OS X | ||||
|
To the developers/maintainers of the SpatialDecon package: - Please allow up to 24 hours (and sometimes 48 hours) for your latest push to git@git.bioconductor.org:packages/SpatialDecon.git to reflect on this report. See How and When does the builder pull? When will my changes propagate? for more information. - Make sure to use the following settings in order to reproduce any error or warning you see on this page. |
| Package 1846/2083 | Hostname | OS / Arch | INSTALL | BUILD | CHECK | BUILD BIN | ||||||||
| SpatialDecon 1.4.3 (landing page) Nicole Ortogero
| nebbiolo2 | Linux (Ubuntu 20.04.4 LTS) / x86_64 | OK | OK | OK | |||||||||
| tokay2 | Windows Server 2012 R2 Standard / x64 | OK | OK | OK | OK | |||||||||
| machv2 | macOS 10.14.6 Mojave / x86_64 | OK | OK | OK | OK | |||||||||
| Package: SpatialDecon |
| Version: 1.4.3 |
| Command: /home/biocbuild/bbs-3.14-bioc/R/bin/R CMD check --install=check:SpatialDecon.install-out.txt --library=/home/biocbuild/bbs-3.14-bioc/R/library --no-vignettes --timings SpatialDecon_1.4.3.tar.gz |
| StartedAt: 2022-04-12 09:28:37 -0400 (Tue, 12 Apr 2022) |
| EndedAt: 2022-04-12 09:40:27 -0400 (Tue, 12 Apr 2022) |
| EllapsedTime: 710.6 seconds |
| RetCode: 0 |
| Status: OK |
| CheckDir: SpatialDecon.Rcheck |
| Warnings: 0 |
##############################################################################
##############################################################################
###
### Running command:
###
### /home/biocbuild/bbs-3.14-bioc/R/bin/R CMD check --install=check:SpatialDecon.install-out.txt --library=/home/biocbuild/bbs-3.14-bioc/R/library --no-vignettes --timings SpatialDecon_1.4.3.tar.gz
###
##############################################################################
##############################################################################
* using log directory ‘/home/biocbuild/bbs-3.14-bioc/meat/SpatialDecon.Rcheck’
* using R version 4.1.3 (2022-03-10)
* using platform: x86_64-pc-linux-gnu (64-bit)
* using session charset: UTF-8
* using option ‘--no-vignettes’
* checking for file ‘SpatialDecon/DESCRIPTION’ ... OK
* this is package ‘SpatialDecon’ version ‘1.4.3’
* package encoding: UTF-8
* checking package namespace information ... OK
* checking package dependencies ... OK
* checking if this is a source package ... OK
* checking if there is a namespace ... OK
* checking for hidden files and directories ... OK
* checking for portable file names ... OK
* checking for sufficient/correct file permissions ... OK
* checking whether package ‘SpatialDecon’ can be installed ... OK
* checking installed package size ... OK
* checking package directory ... OK
* checking ‘build’ directory ... OK
* checking DESCRIPTION meta-information ... OK
* checking top-level files ... OK
* checking for left-over files ... OK
* checking index information ... OK
* checking package subdirectories ... OK
* checking R files for non-ASCII characters ... OK
* checking R files for syntax errors ... OK
* checking whether the package can be loaded ... OK
* checking whether the package can be loaded with stated dependencies ... OK
* checking whether the package can be unloaded cleanly ... OK
* checking whether the namespace can be loaded with stated dependencies ... OK
* checking whether the namespace can be unloaded cleanly ... OK
* checking dependencies in R code ... OK
* checking S3 generic/method consistency ... OK
* checking replacement functions ... OK
* checking foreign function calls ... OK
* checking R code for possible problems ... NOTE
download_profile_matrix: no visible binding for global variable
‘profile_matrix’
Undefined global functions or variables:
profile_matrix
* checking Rd files ... OK
* checking Rd metadata ... OK
* checking Rd cross-references ... OK
* checking for missing documentation entries ... OK
* checking for code/documentation mismatches ... OK
* checking Rd \usage sections ... OK
* checking Rd contents ... OK
* checking for unstated dependencies in examples ... OK
* checking contents of ‘data’ directory ... OK
* checking data for non-ASCII characters ... OK
* checking LazyData ... OK
* checking data for ASCII and uncompressed saves ... OK
* checking files in ‘vignettes’ ... OK
* checking examples ... OK
Examples with CPU (user + system) or elapsed time > 5s
user system elapsed
runCollapseCellTypes-NanoStringGeoMxSet-method 71.008 0.712 71.720
runReverseDecon 70.252 0.200 70.452
runReverseDecon-NanoStringGeoMxSet-method 69.437 0.208 69.645
runCollapseCellTypes 69.160 0.400 69.561
runspatialdecon 41.785 1.120 43.211
runspatialdecon-Seurat-method 27.009 0.964 28.513
runspatialdecon-NanoStringGeoMxSet-method 18.978 0.100 19.079
runMergeTumorIntoX-NanoStringGeoMxSet-method 14.423 0.052 14.475
runErrorModel 13.214 0.088 13.302
runMergeTumorIntoX 13.248 0.044 13.292
reverseDecon 6.602 0.336 6.938
* checking for unstated dependencies in ‘tests’ ... OK
* checking tests ...
Running ‘testthat.R’
OK
* checking for unstated dependencies in vignettes ... OK
* checking package vignettes in ‘inst/doc’ ... OK
* checking running R code from vignettes ... SKIPPED
* checking re-building of vignette outputs ... SKIPPED
* checking PDF version of manual ... OK
* DONE
Status: 1 NOTE
See
‘/home/biocbuild/bbs-3.14-bioc/meat/SpatialDecon.Rcheck/00check.log’
for details.
SpatialDecon.Rcheck/00install.out
############################################################################## ############################################################################## ### ### Running command: ### ### /home/biocbuild/bbs-3.14-bioc/R/bin/R CMD INSTALL SpatialDecon ### ############################################################################## ############################################################################## * installing to library ‘/home/biocbuild/bbs-3.14-bioc/R/library’ * installing *source* package ‘SpatialDecon’ ... ** using staged installation ** R ** data *** moving datasets to lazyload DB ** byte-compile and prepare package for lazy loading ** help *** installing help indices ** building package indices ** installing vignettes ** testing if installed package can be loaded from temporary location ** testing if installed package can be loaded from final location ** testing if installed package keeps a record of temporary installation path * DONE (SpatialDecon)
SpatialDecon.Rcheck/tests/testthat.Rout
R version 4.1.3 (2022-03-10) -- "One Push-Up"
Copyright (C) 2022 The R Foundation for Statistical Computing
Platform: x86_64-pc-linux-gnu (64-bit)
R is free software and comes with ABSOLUTELY NO WARRANTY.
You are welcome to redistribute it under certain conditions.
Type 'license()' or 'licence()' for distribution details.
R is a collaborative project with many contributors.
Type 'contributors()' for more information and
'citation()' on how to cite R or R packages in publications.
Type 'demo()' for some demos, 'help()' for on-line help, or
'help.start()' for an HTML browser interface to help.
Type 'q()' to quit R.
> library(testthat)
> library(SpatialDecon)
>
> test_check("SpatialDecon")
[1] "Creating Atlas"
[1] "1 / 4 : B"
[1] "2 / 4 : C"
[1] "3 / 4 : A"
[1] "4 / 4 : D"
[ FAIL 0 | WARN 0 | SKIP 0 | PASS 85 ]
>
> proc.time()
user system elapsed
149.028 1.292 151.299
SpatialDecon.Rcheck/SpatialDecon-Ex.timings
| name | user | system | elapsed | |
| SpatialDecon-package | 4.760 | 0.128 | 4.888 | |
| TIL_barplot | 1.283 | 0.020 | 1.303 | |
| collapseCellTypes | 1.328 | 0.012 | 1.340 | |
| create_profile_matrix | 1.231 | 0.095 | 1.327 | |
| derive_GeoMx_background | 0.003 | 0.000 | 0.003 | |
| download_profile_matrix | 0.292 | 0.184 | 1.410 | |
| florets | 1.212 | 0.068 | 1.280 | |
| mergeTumorIntoX | 0.007 | 0.004 | 0.011 | |
| reverseDecon | 6.602 | 0.336 | 6.938 | |
| runCollapseCellTypes-NanoStringGeoMxSet-method | 71.008 | 0.712 | 71.720 | |
| runCollapseCellTypes | 69.160 | 0.400 | 69.561 | |
| runErrorModel | 13.214 | 0.088 | 13.302 | |
| runMergeTumorIntoX-NanoStringGeoMxSet-method | 14.423 | 0.052 | 14.475 | |
| runMergeTumorIntoX | 13.248 | 0.044 | 13.292 | |
| runReverseDecon-NanoStringGeoMxSet-method | 69.437 | 0.208 | 69.645 | |
| runReverseDecon | 70.252 | 0.200 | 70.452 | |
| runspatialdecon-NanoStringGeoMxSet-method | 18.978 | 0.100 | 19.079 | |
| runspatialdecon-Seurat-method | 27.009 | 0.964 | 28.513 | |
| runspatialdecon | 41.785 | 1.120 | 43.211 | |
| spatialdecon | 3.169 | 0.008 | 3.177 | |