| Back to Multiple platform build/check report for BioC 3.14 |
|
This page was generated on 2022-04-13 12:07:23 -0400 (Wed, 13 Apr 2022).
| Hostname | OS | Arch (*) | R version | Installed pkgs |
|---|---|---|---|---|
| nebbiolo2 | Linux (Ubuntu 20.04.4 LTS) | x86_64 | 4.1.3 (2022-03-10) -- "One Push-Up" | 4324 |
| tokay2 | Windows Server 2012 R2 Standard | x64 | 4.1.3 (2022-03-10) -- "One Push-Up" | 4077 |
| machv2 | macOS 10.14.6 Mojave | x86_64 | 4.1.3 (2022-03-10) -- "One Push-Up" | 4137 |
| Click on any hostname to see more info about the system (e.g. compilers) (*) as reported by 'uname -p', except on Windows and Mac OS X | ||||
|
To the developers/maintainers of the Spaniel package: - Please allow up to 24 hours (and sometimes 48 hours) for your latest push to git@git.bioconductor.org:packages/Spaniel.git to reflect on this report. See How and When does the builder pull? When will my changes propagate? for more information. - Make sure to use the following settings in order to reproduce any error or warning you see on this page. |
| Package 1838/2083 | Hostname | OS / Arch | INSTALL | BUILD | CHECK | BUILD BIN | ||||||||
| Spaniel 1.8.0 (landing page) Rachel Queen
| nebbiolo2 | Linux (Ubuntu 20.04.4 LTS) / x86_64 | OK | OK | OK | |||||||||
| tokay2 | Windows Server 2012 R2 Standard / x64 | OK | OK | OK | OK | |||||||||
| machv2 | macOS 10.14.6 Mojave / x86_64 | OK | OK | OK | OK | |||||||||
| Package: Spaniel |
| Version: 1.8.0 |
| Command: C:\cygwin\bin\curl.exe -O http://155.52.207.166/BBS/3.14/bioc/src/contrib/Spaniel_1.8.0.tar.gz && rm -rf Spaniel.buildbin-libdir && mkdir Spaniel.buildbin-libdir && C:\Users\biocbuild\bbs-3.14-bioc\R\bin\R.exe CMD INSTALL --merge-multiarch --build --library=Spaniel.buildbin-libdir Spaniel_1.8.0.tar.gz && C:\Users\biocbuild\bbs-3.14-bioc\R\bin\R.exe CMD INSTALL Spaniel_1.8.0.zip && rm Spaniel_1.8.0.tar.gz Spaniel_1.8.0.zip |
| StartedAt: 2022-04-12 06:44:29 -0400 (Tue, 12 Apr 2022) |
| EndedAt: 2022-04-12 06:45:59 -0400 (Tue, 12 Apr 2022) |
| EllapsedTime: 90.4 seconds |
| RetCode: 0 |
| Status: OK |
##############################################################################
##############################################################################
###
### Running command:
###
### C:\cygwin\bin\curl.exe -O http://155.52.207.166/BBS/3.14/bioc/src/contrib/Spaniel_1.8.0.tar.gz && rm -rf Spaniel.buildbin-libdir && mkdir Spaniel.buildbin-libdir && C:\Users\biocbuild\bbs-3.14-bioc\R\bin\R.exe CMD INSTALL --merge-multiarch --build --library=Spaniel.buildbin-libdir Spaniel_1.8.0.tar.gz && C:\Users\biocbuild\bbs-3.14-bioc\R\bin\R.exe CMD INSTALL Spaniel_1.8.0.zip && rm Spaniel_1.8.0.tar.gz Spaniel_1.8.0.zip
###
##############################################################################
##############################################################################
% Total % Received % Xferd Average Speed Time Time Time Current
Dload Upload Total Spent Left Speed
0 0 0 0 0 0 0 0 --:--:-- --:--:-- --:--:-- 0
7 3808k 7 284k 0 0 476k 0 0:00:07 --:--:-- 0:00:07 476k
39 3808k 39 1498k 0 0 938k 0 0:00:04 0:00:01 0:00:03 938k
95 3808k 95 3638k 0 0 1393k 0 0:00:02 0:00:02 --:--:-- 1393k
100 3808k 100 3808k 0 0 1436k 0 0:00:02 0:00:02 --:--:-- 1436k
install for i386
* installing *source* package 'Spaniel' ...
** using staged installation
** R
** inst
** byte-compile and prepare package for lazy loading
** help
*** installing help indices
converting help for package 'Spaniel'
finding HTML links ... done
addCoordinates html
createSCE html
createSeurat html
createVisiumSCE html
markClusterCol html
parseImage html
removeSpots html
runShinySpaniel html
selectSpots html
spanielPlot html
** building package indices
** installing vignettes
** testing if installed package can be loaded from temporary location
** testing if installed package can be loaded from final location
** testing if installed package keeps a record of temporary installation path
install for x64
* installing *source* package 'Spaniel' ...
** testing if installed package can be loaded
* MD5 sums
packaged installation of 'Spaniel' as Spaniel_1.8.0.zip
* DONE (Spaniel)
* installing to library 'C:/Users/biocbuild/bbs-3.14-bioc/R/library'
package 'Spaniel' successfully unpacked and MD5 sums checked