| Back to Multiple platform build/check report for BioC 3.14 |
|
This page was generated on 2022-04-13 12:07:22 -0400 (Wed, 13 Apr 2022).
| Hostname | OS | Arch (*) | R version | Installed pkgs |
|---|---|---|---|---|
| nebbiolo2 | Linux (Ubuntu 20.04.4 LTS) | x86_64 | 4.1.3 (2022-03-10) -- "One Push-Up" | 4324 |
| tokay2 | Windows Server 2012 R2 Standard | x64 | 4.1.3 (2022-03-10) -- "One Push-Up" | 4077 |
| machv2 | macOS 10.14.6 Mojave | x86_64 | 4.1.3 (2022-03-10) -- "One Push-Up" | 4137 |
| Click on any hostname to see more info about the system (e.g. compilers) (*) as reported by 'uname -p', except on Windows and Mac OS X | ||||
|
To the developers/maintainers of the SingleMoleculeFootprinting package: - Please allow up to 24 hours (and sometimes 48 hours) for your latest push to git@git.bioconductor.org:packages/SingleMoleculeFootprinting.git to reflect on this report. See How and When does the builder pull? When will my changes propagate? for more information. - Make sure to use the following settings in order to reproduce any error or warning you see on this page. |
| Package 1808/2083 | Hostname | OS / Arch | INSTALL | BUILD | CHECK | BUILD BIN | ||||||||
| SingleMoleculeFootprinting 1.2.0 (landing page) Guido Barzaghi
| nebbiolo2 | Linux (Ubuntu 20.04.4 LTS) / x86_64 | OK | OK | OK | |||||||||
| tokay2 | Windows Server 2012 R2 Standard / x64 | OK | OK | OK | OK | |||||||||
| machv2 | macOS 10.14.6 Mojave / x86_64 | OK | OK | OK | OK | |||||||||
| Package: SingleMoleculeFootprinting |
| Version: 1.2.0 |
| Command: rm -rf SingleMoleculeFootprinting.buildbin-libdir && mkdir SingleMoleculeFootprinting.buildbin-libdir && C:\Users\biocbuild\bbs-3.14-bioc\R\bin\R.exe --arch x64 CMD INSTALL --no-multiarch --build --library=SingleMoleculeFootprinting.buildbin-libdir SingleMoleculeFootprinting_1.2.0.tar.gz |
| StartedAt: 2022-04-13 07:09:21 -0400 (Wed, 13 Apr 2022) |
| EndedAt: 2022-04-13 07:10:10 -0400 (Wed, 13 Apr 2022) |
| EllapsedTime: 49.3 seconds |
| RetCode: 0 |
| Status: OK |
| PackageFile: SingleMoleculeFootprinting_1.2.0.zip |
| PackageFileSize: 730.9 KiB |
##############################################################################
##############################################################################
###
### Running command:
###
### rm -rf SingleMoleculeFootprinting.buildbin-libdir && mkdir SingleMoleculeFootprinting.buildbin-libdir && C:\Users\biocbuild\bbs-3.14-bioc\R\bin\R.exe --arch x64 CMD INSTALL --no-multiarch --build --library=SingleMoleculeFootprinting.buildbin-libdir SingleMoleculeFootprinting_1.2.0.tar.gz
###
##############################################################################
##############################################################################
* installing *source* package 'SingleMoleculeFootprinting' ...
** using staged installation
** R
** inst
** byte-compile and prepare package for lazy loading
** help
*** installing help indices
converting help for package 'SingleMoleculeFootprinting'
finding HTML links ... done
BaitCapture html
BinMethylation html
CallContextMethylation html
CollapseStrands html
CollapseStrandsSM html
ConversionRate html
CoverageFilter html
DetectExperimentType html
FilterByConversionRate html
FilterContextCytosines html
FixOverhang html
GetQuasRprj html
GetSingleMolMethMat html
HierarchicalClustering html
OneTFstates html
PlotAvgSMF html
PlotSM html
PlotSingleMoleculeStack html
PlotSingleSiteSMF html
SampleCorrelation html
SingleTFStateQuantificationPlot html
SortReads html
SortReadsBySingleTF html
SortReadsByTFCluster html
StateQuantificationPlot html
TFPairStateQuantificationPlot html
TFpairStates html
** building package indices
** installing vignettes
** testing if installed package can be loaded from temporary location
** testing if installed package can be loaded from final location
** testing if installed package keeps a record of temporary installation path
* MD5 sums
packaged installation of 'SingleMoleculeFootprinting' as SingleMoleculeFootprinting_1.2.0.zip
* DONE (SingleMoleculeFootprinting)