| Back to Multiple platform build/check report for BioC 3.14 |
|
This page was generated on 2022-04-13 12:07:21 -0400 (Wed, 13 Apr 2022).
| Hostname | OS | Arch (*) | R version | Installed pkgs |
|---|---|---|---|---|
| nebbiolo2 | Linux (Ubuntu 20.04.4 LTS) | x86_64 | 4.1.3 (2022-03-10) -- "One Push-Up" | 4324 |
| tokay2 | Windows Server 2012 R2 Standard | x64 | 4.1.3 (2022-03-10) -- "One Push-Up" | 4077 |
| machv2 | macOS 10.14.6 Mojave | x86_64 | 4.1.3 (2022-03-10) -- "One Push-Up" | 4137 |
| Click on any hostname to see more info about the system (e.g. compilers) (*) as reported by 'uname -p', except on Windows and Mac OS X | ||||
|
To the developers/maintainers of the SigsPack package: - Please allow up to 24 hours (and sometimes 48 hours) for your latest push to git@git.bioconductor.org:packages/SigsPack.git to reflect on this report. See How and When does the builder pull? When will my changes propagate? for more information. - Make sure to use the following settings in order to reproduce any error or warning you see on this page. |
| Package 1794/2083 | Hostname | OS / Arch | INSTALL | BUILD | CHECK | BUILD BIN | ||||||||
| SigsPack 1.8.0 (landing page) Franziska Schumann
| nebbiolo2 | Linux (Ubuntu 20.04.4 LTS) / x86_64 | OK | OK | OK | |||||||||
| tokay2 | Windows Server 2012 R2 Standard / x64 | OK | OK | OK | OK | |||||||||
| machv2 | macOS 10.14.6 Mojave / x86_64 | OK | OK | OK | OK | |||||||||
| Package: SigsPack |
| Version: 1.8.0 |
| Command: rm -rf SigsPack.buildbin-libdir && mkdir SigsPack.buildbin-libdir && C:\Users\biocbuild\bbs-3.14-bioc\R\bin\R.exe CMD INSTALL --merge-multiarch --build --library=SigsPack.buildbin-libdir SigsPack_1.8.0.tar.gz |
| StartedAt: 2022-04-13 07:08:52 -0400 (Wed, 13 Apr 2022) |
| EndedAt: 2022-04-13 07:09:01 -0400 (Wed, 13 Apr 2022) |
| EllapsedTime: 9.0 seconds |
| RetCode: 0 |
| Status: OK |
| PackageFile: SigsPack_1.8.0.zip |
| PackageFileSize: 497.9 KiB |
##############################################################################
##############################################################################
###
### Running command:
###
### rm -rf SigsPack.buildbin-libdir && mkdir SigsPack.buildbin-libdir && C:\Users\biocbuild\bbs-3.14-bioc\R\bin\R.exe CMD INSTALL --merge-multiarch --build --library=SigsPack.buildbin-libdir SigsPack_1.8.0.tar.gz
###
##############################################################################
##############################################################################
install for i386
* installing *source* package 'SigsPack' ...
** using staged installation
** R
** data
*** moving datasets to lazyload DB
** inst
** byte-compile and prepare package for lazy loading
** help
*** installing help indices
converting help for package 'SigsPack'
finding HTML links ... done
bootstrap_mut_catalogues html
cosmicSigs html
create_mut_catalogues html
decomposeQP html
get_context_freq html
hg19context_freq html
normalize html
plot_bootstrapped_exposure html
sigProfiler20190522 html
sigProfilerExome html
signature_exposure html
summarize_exposures html
vcf2mut_cat html
** building package indices
** installing vignettes
** testing if installed package can be loaded from temporary location
** testing if installed package can be loaded from final location
** testing if installed package keeps a record of temporary installation path
install for x64
* installing *source* package 'SigsPack' ...
** testing if installed package can be loaded
* MD5 sums
packaged installation of 'SigsPack' as SigsPack_1.8.0.zip
* DONE (SigsPack)