| Back to Multiple platform build/check report for BioC 3.14 |
|
This page was generated on 2022-04-13 12:07:21 -0400 (Wed, 13 Apr 2022).
| Hostname | OS | Arch (*) | R version | Installed pkgs |
|---|---|---|---|---|
| nebbiolo2 | Linux (Ubuntu 20.04.4 LTS) | x86_64 | 4.1.3 (2022-03-10) -- "One Push-Up" | 4324 |
| tokay2 | Windows Server 2012 R2 Standard | x64 | 4.1.3 (2022-03-10) -- "One Push-Up" | 4077 |
| machv2 | macOS 10.14.6 Mojave | x86_64 | 4.1.3 (2022-03-10) -- "One Push-Up" | 4137 |
| Click on any hostname to see more info about the system (e.g. compilers) (*) as reported by 'uname -p', except on Windows and Mac OS X | ||||
|
To the developers/maintainers of the SharedObject package: - Please allow up to 24 hours (and sometimes 48 hours) for your latest push to git@git.bioconductor.org:packages/SharedObject.git to reflect on this report. See How and When does the builder pull? When will my changes propagate? for more information. - Make sure to use the following settings in order to reproduce any error or warning you see on this page. |
| Package 1780/2083 | Hostname | OS / Arch | INSTALL | BUILD | CHECK | BUILD BIN | ||||||||
| SharedObject 1.8.0 (landing page) Jiefei Wang
| nebbiolo2 | Linux (Ubuntu 20.04.4 LTS) / x86_64 | OK | OK | OK | |||||||||
| tokay2 | Windows Server 2012 R2 Standard / x64 | OK | OK | OK | OK | |||||||||
| machv2 | macOS 10.14.6 Mojave / x86_64 | OK | OK | OK | OK | |||||||||
| Package: SharedObject |
| Version: 1.8.0 |
| Command: rm -rf SharedObject.buildbin-libdir && mkdir SharedObject.buildbin-libdir && C:\Users\biocbuild\bbs-3.14-bioc\R\bin\R.exe CMD INSTALL --merge-multiarch --build --library=SharedObject.buildbin-libdir SharedObject_1.8.0.tar.gz |
| StartedAt: 2022-04-13 07:08:01 -0400 (Wed, 13 Apr 2022) |
| EndedAt: 2022-04-13 07:09:57 -0400 (Wed, 13 Apr 2022) |
| EllapsedTime: 115.3 seconds |
| RetCode: 0 |
| Status: OK |
| PackageFile: SharedObject_1.8.0.zip |
| PackageFileSize: 1.923 MiB |
##############################################################################
##############################################################################
###
### Running command:
###
### rm -rf SharedObject.buildbin-libdir && mkdir SharedObject.buildbin-libdir && C:\Users\biocbuild\bbs-3.14-bioc\R\bin\R.exe CMD INSTALL --merge-multiarch --build --library=SharedObject.buildbin-libdir SharedObject_1.8.0.tar.gz
###
##############################################################################
##############################################################################
install for i386
* installing *source* package 'SharedObject' ...
** using staged installation
**********************************************
WARNING: this package has a configure script
It probably needs manual configuration
**********************************************
** libs
mkdir -p ../inst/include&&\
mkdir -p ../inst/include/SharedObject&&\
mkdir -p ../inst/usrlib/i386
"C:/rtools40/mingw32/bin/"g++ -std=gnu++11 -I"C:/Users/BIOCBU~1/BBS-3~1.14-/R/include" -DNDEBUG -I'C:/Users/biocbuild/bbs-3.14-bioc/R/library/BH/include' -I'C:/Users/biocbuild/bbs-3.14-bioc/R/library/Rcpp/include' -I"C:/extsoft/include" -O2 -Wall -mfpmath=sse -msse2 -mstackrealign -c C_interface.cpp -o C_interface.o
"C:/rtools40/mingw32/bin/"g++ -std=gnu++11 -I"C:/Users/BIOCBU~1/BBS-3~1.14-/R/include" -DNDEBUG -I'C:/Users/biocbuild/bbs-3.14-bioc/R/library/BH/include' -I'C:/Users/biocbuild/bbs-3.14-bioc/R/library/Rcpp/include' -I"C:/extsoft/include" -O2 -Wall -mfpmath=sse -msse2 -mstackrealign -c RcppExports.cpp -o RcppExports.o
"C:/rtools40/mingw32/bin/"g++ -std=gnu++11 -I"C:/Users/BIOCBU~1/BBS-3~1.14-/R/include" -DNDEBUG -I'C:/Users/biocbuild/bbs-3.14-bioc/R/library/BH/include' -I'C:/Users/biocbuild/bbs-3.14-bioc/R/library/Rcpp/include' -I"C:/extsoft/include" -O2 -Wall -mfpmath=sse -msse2 -mstackrealign -c altrep.cpp -o altrep.o
"C:/rtools40/mingw32/bin/"g++ -std=gnu++11 -I"C:/Users/BIOCBU~1/BBS-3~1.14-/R/include" -DNDEBUG -I'C:/Users/biocbuild/bbs-3.14-bioc/R/library/BH/include' -I'C:/Users/biocbuild/bbs-3.14-bioc/R/library/Rcpp/include' -I"C:/extsoft/include" -O2 -Wall -mfpmath=sse -msse2 -mstackrealign -c altrepRegistration.cpp -o altrepRegistration.o
"C:/rtools40/mingw32/bin/"g++ -std=gnu++11 -I"C:/Users/BIOCBU~1/BBS-3~1.14-/R/include" -DNDEBUG -I'C:/Users/biocbuild/bbs-3.14-bioc/R/library/BH/include' -I'C:/Users/biocbuild/bbs-3.14-bioc/R/library/Rcpp/include' -I"C:/extsoft/include" -O2 -Wall -mfpmath=sse -msse2 -mstackrealign -c numericAltrepOperations.cpp -o numericAltrepOperations.o
"C:/rtools40/mingw32/bin/"g++ -std=gnu++11 -I"C:/Users/BIOCBU~1/BBS-3~1.14-/R/include" -DNDEBUG -I'C:/Users/biocbuild/bbs-3.14-bioc/R/library/BH/include' -I'C:/Users/biocbuild/bbs-3.14-bioc/R/library/Rcpp/include' -I"C:/extsoft/include" -O2 -Wall -mfpmath=sse -msse2 -mstackrealign -c sharedMemory.cpp -o sharedMemory.o
In file included from C:/Users/biocbuild/bbs-3.14-bioc/R/library/BH/include/boost/interprocess/detail/windows_intermodule_singleton.hpp:24,
from C:/Users/biocbuild/bbs-3.14-bioc/R/library/BH/include/boost/interprocess/detail/shared_dir_helpers.hpp:30,
from C:/Users/biocbuild/bbs-3.14-bioc/R/library/BH/include/boost/interprocess/shared_memory_object.hpp:30,
from C:/Users/biocbuild/bbs-3.14-bioc/R/library/BH/include/boost/interprocess/sync/shm/named_semaphore.hpp:28,
from C:/Users/biocbuild/bbs-3.14-bioc/R/library/BH/include/boost/interprocess/sync/named_semaphore.hpp:36,
from sharedMemory.cpp:7:
C:/Users/biocbuild/bbs-3.14-bioc/R/library/BH/include/boost/container/string.hpp: In member function 'bool boost::interprocess::ipcdetail::intermodule_singleton_helpers::windows_semaphore_based_map::erase(const char*)':
C:/Users/biocbuild/bbs-3.14-bioc/R/library/BH/include/boost/container/string.hpp:406:43: warning: '<anonymous>.boost::container::dtl::basic_string_base<boost::container::new_allocator<char> >::long_t::start' may be used uninitialized in this function [-Wmaybe-uninitialized]
{ return this->members_.plong_repr()->start; }
^~~~~
"C:/rtools40/mingw32/bin/"g++ -std=gnu++11 -I"C:/Users/BIOCBU~1/BBS-3~1.14-/R/include" -DNDEBUG -I'C:/Users/biocbuild/bbs-3.14-bioc/R/library/BH/include' -I'C:/Users/biocbuild/bbs-3.14-bioc/R/library/Rcpp/include' -I"C:/extsoft/include" -O2 -Wall -mfpmath=sse -msse2 -mstackrealign -c sharedObjectClass.cpp -o sharedObjectClass.o
"C:/rtools40/mingw32/bin/"g++ -std=gnu++11 -I"C:/Users/BIOCBU~1/BBS-3~1.14-/R/include" -DNDEBUG -I'C:/Users/biocbuild/bbs-3.14-bioc/R/library/BH/include' -I'C:/Users/biocbuild/bbs-3.14-bioc/R/library/Rcpp/include' -I"C:/extsoft/include" -O2 -Wall -mfpmath=sse -msse2 -mstackrealign -c stringAltrepOperations.cpp -o stringAltrepOperations.o
"C:/rtools40/mingw32/bin/"g++ -std=gnu++11 -I"C:/Users/BIOCBU~1/BBS-3~1.14-/R/include" -DNDEBUG -I'C:/Users/biocbuild/bbs-3.14-bioc/R/library/BH/include' -I'C:/Users/biocbuild/bbs-3.14-bioc/R/library/Rcpp/include' -I"C:/extsoft/include" -O2 -Wall -mfpmath=sse -msse2 -mstackrealign -c utils.cpp -o utils.o
C:/rtools40/mingw32/bin/g++ -shared -s -static-libgcc -o SharedObject.dll tmp.def C_interface.o RcppExports.o altrep.o altrepRegistration.o numericAltrepOperations.o sharedMemory.o sharedObjectClass.o stringAltrepOperations.o utils.o -LC:/extsoft/lib/i386 -LC:/extsoft/lib -LC:/Users/BIOCBU~1/BBS-3~1.14-/R/bin/i386 -lR
"C:/rtools40/mingw32/bin/"ar -crv SharedObject.a *.o
a - C_interface.o
a - RcppExports.o
a - altrep.o
a - altrepRegistration.o
a - numericAltrepOperations.o
a - sharedMemory.o
a - sharedObjectClass.o
a - stringAltrepOperations.o
a - utils.o
cp "sharedMemory.h" "../inst/include/SharedObject/"&&\
cp "SharedObject.a" "../inst/usrlib/i386/"
installing to C:/Users/biocbuild/bbs-3.14-bioc/meat/SharedObject.buildbin-libdir/00LOCK-SharedObject/00new/SharedObject/libs/i386
** R
** inst
** byte-compile and prepare package for lazy loading
** help
*** installing help indices
converting help for package 'SharedObject'
finding HTML links ... done
SharedObject html
developer-API html
is.altrep html
is.shared html
listSharedObjects html
pkgconfig html
share html
sharedObjectPkgOptions html
sharedObjectProperties html
unshare html
** building package indices
** installing vignettes
** testing if installed package can be loaded from temporary location
** testing if installed package can be loaded from final location
** testing if installed package keeps a record of temporary installation path
install for x64
* installing *source* package 'SharedObject' ...
**********************************************
WARNING: this package has a configure script
It probably needs manual configuration
**********************************************
** libs
mkdir -p ../inst/include&&\
mkdir -p ../inst/include/SharedObject&&\
mkdir -p ../inst/usrlib/x64
"C:/rtools40/mingw64/bin/"g++ -std=gnu++11 -I"C:/Users/BIOCBU~1/BBS-3~1.14-/R/include" -DNDEBUG -I'C:/Users/biocbuild/bbs-3.14-bioc/R/library/BH/include' -I'C:/Users/biocbuild/bbs-3.14-bioc/R/library/Rcpp/include' -I"C:/extsoft/include" -O2 -Wall -mfpmath=sse -msse2 -mstackrealign -c C_interface.cpp -o C_interface.o
"C:/rtools40/mingw64/bin/"g++ -std=gnu++11 -I"C:/Users/BIOCBU~1/BBS-3~1.14-/R/include" -DNDEBUG -I'C:/Users/biocbuild/bbs-3.14-bioc/R/library/BH/include' -I'C:/Users/biocbuild/bbs-3.14-bioc/R/library/Rcpp/include' -I"C:/extsoft/include" -O2 -Wall -mfpmath=sse -msse2 -mstackrealign -c RcppExports.cpp -o RcppExports.o
"C:/rtools40/mingw64/bin/"g++ -std=gnu++11 -I"C:/Users/BIOCBU~1/BBS-3~1.14-/R/include" -DNDEBUG -I'C:/Users/biocbuild/bbs-3.14-bioc/R/library/BH/include' -I'C:/Users/biocbuild/bbs-3.14-bioc/R/library/Rcpp/include' -I"C:/extsoft/include" -O2 -Wall -mfpmath=sse -msse2 -mstackrealign -c altrep.cpp -o altrep.o
"C:/rtools40/mingw64/bin/"g++ -std=gnu++11 -I"C:/Users/BIOCBU~1/BBS-3~1.14-/R/include" -DNDEBUG -I'C:/Users/biocbuild/bbs-3.14-bioc/R/library/BH/include' -I'C:/Users/biocbuild/bbs-3.14-bioc/R/library/Rcpp/include' -I"C:/extsoft/include" -O2 -Wall -mfpmath=sse -msse2 -mstackrealign -c altrepRegistration.cpp -o altrepRegistration.o
"C:/rtools40/mingw64/bin/"g++ -std=gnu++11 -I"C:/Users/BIOCBU~1/BBS-3~1.14-/R/include" -DNDEBUG -I'C:/Users/biocbuild/bbs-3.14-bioc/R/library/BH/include' -I'C:/Users/biocbuild/bbs-3.14-bioc/R/library/Rcpp/include' -I"C:/extsoft/include" -O2 -Wall -mfpmath=sse -msse2 -mstackrealign -c numericAltrepOperations.cpp -o numericAltrepOperations.o
"C:/rtools40/mingw64/bin/"g++ -std=gnu++11 -I"C:/Users/BIOCBU~1/BBS-3~1.14-/R/include" -DNDEBUG -I'C:/Users/biocbuild/bbs-3.14-bioc/R/library/BH/include' -I'C:/Users/biocbuild/bbs-3.14-bioc/R/library/Rcpp/include' -I"C:/extsoft/include" -O2 -Wall -mfpmath=sse -msse2 -mstackrealign -c sharedMemory.cpp -o sharedMemory.o
In file included from C:/Users/biocbuild/bbs-3.14-bioc/R/library/BH/include/boost/interprocess/detail/windows_intermodule_singleton.hpp:24,
from C:/Users/biocbuild/bbs-3.14-bioc/R/library/BH/include/boost/interprocess/detail/shared_dir_helpers.hpp:30,
from C:/Users/biocbuild/bbs-3.14-bioc/R/library/BH/include/boost/interprocess/shared_memory_object.hpp:30,
from C:/Users/biocbuild/bbs-3.14-bioc/R/library/BH/include/boost/interprocess/sync/shm/named_semaphore.hpp:28,
from C:/Users/biocbuild/bbs-3.14-bioc/R/library/BH/include/boost/interprocess/sync/named_semaphore.hpp:36,
from sharedMemory.cpp:7:
C:/Users/biocbuild/bbs-3.14-bioc/R/library/BH/include/boost/container/string.hpp: In member function 'boost::interprocess::ipcdetail::ref_count_ptr* boost::interprocess::ipcdetail::intermodule_singleton_helpers::windows_semaphore_based_map::find(const char*)':
C:/Users/biocbuild/bbs-3.14-bioc/R/library/BH/include/boost/container/string.hpp:406:43: warning: '<anonymous>.boost::container::dtl::basic_string_base<boost::container::new_allocator<char> >::long_t::start' may be used uninitialized in this function [-Wmaybe-uninitialized]
{ return this->members_.plong_repr()->start; }
^~~~~
C:/Users/biocbuild/bbs-3.14-bioc/R/library/BH/include/boost/container/string.hpp: In member function 'bool boost::interprocess::ipcdetail::intermodule_singleton_helpers::windows_semaphore_based_map::erase(const char*)':
C:/Users/biocbuild/bbs-3.14-bioc/R/library/BH/include/boost/container/string.hpp:406:43: warning: '<anonymous>.boost::container::dtl::basic_string_base<boost::container::new_allocator<char> >::long_t::start' may be used uninitialized in this function [-Wmaybe-uninitialized]
{ return this->members_.plong_repr()->start; }
^~~~~
"C:/rtools40/mingw64/bin/"g++ -std=gnu++11 -I"C:/Users/BIOCBU~1/BBS-3~1.14-/R/include" -DNDEBUG -I'C:/Users/biocbuild/bbs-3.14-bioc/R/library/BH/include' -I'C:/Users/biocbuild/bbs-3.14-bioc/R/library/Rcpp/include' -I"C:/extsoft/include" -O2 -Wall -mfpmath=sse -msse2 -mstackrealign -c sharedObjectClass.cpp -o sharedObjectClass.o
"C:/rtools40/mingw64/bin/"g++ -std=gnu++11 -I"C:/Users/BIOCBU~1/BBS-3~1.14-/R/include" -DNDEBUG -I'C:/Users/biocbuild/bbs-3.14-bioc/R/library/BH/include' -I'C:/Users/biocbuild/bbs-3.14-bioc/R/library/Rcpp/include' -I"C:/extsoft/include" -O2 -Wall -mfpmath=sse -msse2 -mstackrealign -c stringAltrepOperations.cpp -o stringAltrepOperations.o
"C:/rtools40/mingw64/bin/"g++ -std=gnu++11 -I"C:/Users/BIOCBU~1/BBS-3~1.14-/R/include" -DNDEBUG -I'C:/Users/biocbuild/bbs-3.14-bioc/R/library/BH/include' -I'C:/Users/biocbuild/bbs-3.14-bioc/R/library/Rcpp/include' -I"C:/extsoft/include" -O2 -Wall -mfpmath=sse -msse2 -mstackrealign -c utils.cpp -o utils.o
C:/rtools40/mingw64/bin/g++ -shared -s -static-libgcc -o SharedObject.dll tmp.def C_interface.o RcppExports.o altrep.o altrepRegistration.o numericAltrepOperations.o sharedMemory.o sharedObjectClass.o stringAltrepOperations.o utils.o -LC:/extsoft/lib/x64 -LC:/extsoft/lib -LC:/Users/BIOCBU~1/BBS-3~1.14-/R/bin/x64 -lR
"C:/rtools40/mingw64/bin/"ar -crv SharedObject.a *.o
a - C_interface.o
a - RcppExports.o
a - altrep.o
a - altrepRegistration.o
a - numericAltrepOperations.o
a - sharedMemory.o
a - sharedObjectClass.o
a - stringAltrepOperations.o
a - utils.o
cp "sharedMemory.h" "../inst/include/SharedObject/"&&\
cp "SharedObject.a" "../inst/usrlib/x64/"
installing to C:/Users/biocbuild/bbs-3.14-bioc/meat/SharedObject.buildbin-libdir/SharedObject/libs/x64
** testing if installed package can be loaded
* MD5 sums
packaged installation of 'SharedObject' as SharedObject_1.8.0.zip
* DONE (SharedObject)