| Back to Multiple platform build/check report for BioC 3.14 |
|
This page was generated on 2022-04-13 12:07:26 -0400 (Wed, 13 Apr 2022).
| Hostname | OS | Arch (*) | R version | Installed pkgs |
|---|---|---|---|---|
| nebbiolo2 | Linux (Ubuntu 20.04.4 LTS) | x86_64 | 4.1.3 (2022-03-10) -- "One Push-Up" | 4324 |
| tokay2 | Windows Server 2012 R2 Standard | x64 | 4.1.3 (2022-03-10) -- "One Push-Up" | 4077 |
| machv2 | macOS 10.14.6 Mojave | x86_64 | 4.1.3 (2022-03-10) -- "One Push-Up" | 4137 |
| Click on any hostname to see more info about the system (e.g. compilers) (*) as reported by 'uname -p', except on Windows and Mac OS X | ||||
|
To the developers/maintainers of the STRINGdb package: - Please allow up to 24 hours (and sometimes 48 hours) for your latest push to git@git.bioconductor.org:packages/STRINGdb.git to reflect on this report. See How and When does the builder pull? When will my changes propagate? for more information. - Make sure to use the following settings in order to reproduce any error or warning you see on this page. |
| Package 1892/2083 | Hostname | OS / Arch | INSTALL | BUILD | CHECK | BUILD BIN | ||||||||
| STRINGdb 2.6.5 (landing page) Damian Szklarczyk
| nebbiolo2 | Linux (Ubuntu 20.04.4 LTS) / x86_64 | OK | OK | OK | |||||||||
| tokay2 | Windows Server 2012 R2 Standard / x64 | OK | OK | OK | OK | |||||||||
| machv2 | macOS 10.14.6 Mojave / x86_64 | OK | OK | OK | OK | |||||||||
| Package: STRINGdb |
| Version: 2.6.5 |
| Command: rm -rf STRINGdb.buildbin-libdir && mkdir STRINGdb.buildbin-libdir && C:\Users\biocbuild\bbs-3.14-bioc\R\bin\R.exe CMD INSTALL --merge-multiarch --build --library=STRINGdb.buildbin-libdir STRINGdb_2.6.5.tar.gz |
| StartedAt: 2022-04-13 07:12:48 -0400 (Wed, 13 Apr 2022) |
| EndedAt: 2022-04-13 07:13:09 -0400 (Wed, 13 Apr 2022) |
| EllapsedTime: 20.9 seconds |
| RetCode: 0 |
| Status: OK |
| PackageFile: STRINGdb_2.6.5.zip |
| PackageFileSize: 8.848 MiB |
##############################################################################
##############################################################################
###
### Running command:
###
### rm -rf STRINGdb.buildbin-libdir && mkdir STRINGdb.buildbin-libdir && C:\Users\biocbuild\bbs-3.14-bioc\R\bin\R.exe CMD INSTALL --merge-multiarch --build --library=STRINGdb.buildbin-libdir STRINGdb_2.6.5.tar.gz
###
##############################################################################
##############################################################################
install for i386
* installing *source* package 'STRINGdb' ...
** using staged installation
** R
** data
** inst
** byte-compile and prepare package for lazy loading
** help
*** installing help indices
converting help for package 'STRINGdb'
finding HTML links ... done
STRINGdb-class html
add_diff_exp_color html
add_proteins_description html
coeffOfvar html
delColDf html
diff_exp_example1 html
downloadAbsentFile html
downloadAbsentFileSTRING html
get_aliases html
get_annotations html
get_annotations_desc html
get_bioc_graph html
get_clusters html
get_enrichment html
get_graph html
get_homologs_besthits html
get_interactions html
get_link html
get_neighbors html
get_paralogs html
get_png html
get_ppi_enrichment html
get_proteins html
get_subnetwork html
get_summary html
get_term_proteins html
interactions html
load html
load_all html
map html
mp html
multi_map_df html
plot_network html
post_payload html
remove_homologous_interactions html
renameColDf html
set_background html
** building package indices
** installing vignettes
** testing if installed package can be loaded from temporary location
** testing if installed package can be loaded from final location
** testing if installed package keeps a record of temporary installation path
install for x64
* installing *source* package 'STRINGdb' ...
** testing if installed package can be loaded
* MD5 sums
packaged installation of 'STRINGdb' as STRINGdb_2.6.5.zip
* DONE (STRINGdb)