| Back to Multiple platform build/check report for BioC 3.14 |
|
This page was generated on 2022-04-13 12:07:23 -0400 (Wed, 13 Apr 2022).
| Hostname | OS | Arch (*) | R version | Installed pkgs |
|---|---|---|---|---|
| nebbiolo2 | Linux (Ubuntu 20.04.4 LTS) | x86_64 | 4.1.3 (2022-03-10) -- "One Push-Up" | 4324 |
| tokay2 | Windows Server 2012 R2 Standard | x64 | 4.1.3 (2022-03-10) -- "One Push-Up" | 4077 |
| machv2 | macOS 10.14.6 Mojave | x86_64 | 4.1.3 (2022-03-10) -- "One Push-Up" | 4137 |
| Click on any hostname to see more info about the system (e.g. compilers) (*) as reported by 'uname -p', except on Windows and Mac OS X | ||||
|
To the developers/maintainers of the SNPhood package: - Please allow up to 24 hours (and sometimes 48 hours) for your latest push to git@git.bioconductor.org:packages/SNPhood.git to reflect on this report. See How and When does the builder pull? When will my changes propagate? for more information. - Make sure to use the following settings in order to reproduce any error or warning you see on this page. |
| Package 1830/2083 | Hostname | OS / Arch | INSTALL | BUILD | CHECK | BUILD BIN | ||||||||
| SNPhood 1.24.0 (landing page) Christian Arnold
| nebbiolo2 | Linux (Ubuntu 20.04.4 LTS) / x86_64 | OK | OK | OK | |||||||||
| tokay2 | Windows Server 2012 R2 Standard / x64 | OK | OK | OK | OK | |||||||||
| machv2 | macOS 10.14.6 Mojave / x86_64 | OK | OK | OK | OK | |||||||||
| Package: SNPhood |
| Version: 1.24.0 |
| Command: rm -rf SNPhood.buildbin-libdir && mkdir SNPhood.buildbin-libdir && C:\Users\biocbuild\bbs-3.14-bioc\R\bin\R.exe CMD INSTALL --merge-multiarch --build --library=SNPhood.buildbin-libdir SNPhood_1.24.0.tar.gz |
| StartedAt: 2022-04-13 07:10:23 -0400 (Wed, 13 Apr 2022) |
| EndedAt: 2022-04-13 07:12:00 -0400 (Wed, 13 Apr 2022) |
| EllapsedTime: 97.7 seconds |
| RetCode: 0 |
| Status: OK |
| PackageFile: SNPhood_1.24.0.zip |
| PackageFileSize: 6.982 MiB |
##############################################################################
##############################################################################
###
### Running command:
###
### rm -rf SNPhood.buildbin-libdir && mkdir SNPhood.buildbin-libdir && C:\Users\biocbuild\bbs-3.14-bioc\R\bin\R.exe CMD INSTALL --merge-multiarch --build --library=SNPhood.buildbin-libdir SNPhood_1.24.0.tar.gz
###
##############################################################################
##############################################################################
install for i386
* installing *source* package 'SNPhood' ...
** using staged installation
** R
** data
*** moving datasets to lazyload DB
** inst
** byte-compile and prepare package for lazy loading
** help
*** installing help indices
converting help for package 'SNPhood'
finding HTML links ... done
SNPhood-class html
SNPhood html
SNPhood.o html
analyzeSNPhood html
finding level-2 HTML links ... done
annotation-methods html
annotationBins html
annotationBins2 html
annotationDatasets html
annotationReadGroups html
annotationRegions html
associateGenotypes html
bins-methods html
changeObjectIntegrityChecking html
collectFiles html
convertToAllelicFractions html
counts-method html
datasets-methods html
deleteDatasets html
deleteReadGroups html
deleteRegions html
enrichment-methods html
getDefaultParameterList html
mergeReadGroups html
parameters-methods html
plotAllelicBiasResults html
plotAllelicBiasResultsOverview html
plotAndCalculateCorrelationDatasets html
plotAndCalculateWeakAndStrongGenotype html
plotAndClusterMatrix html
plotAndSummarizeAllelicBiasTest html
plotBinCounts html
plotClusterAverage html
plotFDRResults html
plotGenotypesPerCluster html
plotGenotypesPerSNP html
plotRegionCounts html
readGroups-methods html
regions-methods html
renameBins html
renameDatasets html
renameReadGroups html
renameRegions html
results html
testForAllelicBiases html
** building package indices
** installing vignettes
** testing if installed package can be loaded from temporary location
** testing if installed package can be loaded from final location
** testing if installed package keeps a record of temporary installation path
install for x64
* installing *source* package 'SNPhood' ...
** testing if installed package can be loaded
* MD5 sums
packaged installation of 'SNPhood' as SNPhood_1.24.0.zip
* DONE (SNPhood)