| Back to Multiple platform build/check report for BioC 3.14 |
|
This page was generated on 2022-04-13 12:07:23 -0400 (Wed, 13 Apr 2022).
| Hostname | OS | Arch (*) | R version | Installed pkgs |
|---|---|---|---|---|
| nebbiolo2 | Linux (Ubuntu 20.04.4 LTS) | x86_64 | 4.1.3 (2022-03-10) -- "One Push-Up" | 4324 |
| tokay2 | Windows Server 2012 R2 Standard | x64 | 4.1.3 (2022-03-10) -- "One Push-Up" | 4077 |
| machv2 | macOS 10.14.6 Mojave | x86_64 | 4.1.3 (2022-03-10) -- "One Push-Up" | 4137 |
| Click on any hostname to see more info about the system (e.g. compilers) (*) as reported by 'uname -p', except on Windows and Mac OS X | ||||
|
To the developers/maintainers of the SMITE package: - Please allow up to 24 hours (and sometimes 48 hours) for your latest push to git@git.bioconductor.org:packages/SMITE.git to reflect on this report. See How and When does the builder pull? When will my changes propagate? for more information. - Make sure to use the following settings in order to reproduce any error or warning you see on this page. |
| Package 1823/2083 | Hostname | OS / Arch | INSTALL | BUILD | CHECK | BUILD BIN | ||||||||
| SMITE 1.22.0 (landing page) Neil Ari Wijetunga
| nebbiolo2 | Linux (Ubuntu 20.04.4 LTS) / x86_64 | OK | OK | OK | |||||||||
| tokay2 | Windows Server 2012 R2 Standard / x64 | OK | OK | OK | OK | |||||||||
| machv2 | macOS 10.14.6 Mojave / x86_64 | OK | OK | OK | OK | |||||||||
| Package: SMITE |
| Version: 1.22.0 |
| Command: rm -rf SMITE.buildbin-libdir && mkdir SMITE.buildbin-libdir && C:\Users\biocbuild\bbs-3.14-bioc\R\bin\R.exe CMD INSTALL --merge-multiarch --build --library=SMITE.buildbin-libdir SMITE_1.22.0.tar.gz |
| StartedAt: 2022-04-13 07:10:11 -0400 (Wed, 13 Apr 2022) |
| EndedAt: 2022-04-13 07:11:17 -0400 (Wed, 13 Apr 2022) |
| EllapsedTime: 66.4 seconds |
| RetCode: 0 |
| Status: OK |
| PackageFile: SMITE_1.22.0.zip |
| PackageFileSize: 3.785 MiB |
##############################################################################
##############################################################################
###
### Running command:
###
### rm -rf SMITE.buildbin-libdir && mkdir SMITE.buildbin-libdir && C:\Users\biocbuild\bbs-3.14-bioc\R\bin\R.exe CMD INSTALL --merge-multiarch --build --library=SMITE.buildbin-libdir SMITE_1.22.0.tar.gz
###
##############################################################################
##############################################################################
install for i386
* installing *source* package 'SMITE' ...
** using staged installation
** R
** data
** inst
** byte-compile and prepare package for lazy loading
** help
*** installing help indices
converting help for package 'SMITE'
finding HTML links ... done
Reactome.Symbol.Igraph html
SMITE-package html
addShadowText html
annotateExpression html
annotateModification html
convertGeneIds html
curated_expression html
extractExpression html
extractGOseq html
extractModification html
extractModules html
extractScores html
genes_for_conversiontest html
hg19_gene_bed html
highScores html
histone_h3k4me1 html
makePvalueAnnotation html
makePvalueObject html
methylationdata html
normalizePval html
plotCompareScores html
plotDensityPval html
plotModule html
removeModification html
runBioNet html
runGOseq html
runSpinglass html
scorePval html
stoufferTest html
test_annotation_score_data html
** building package indices
** installing vignettes
** testing if installed package can be loaded from temporary location
** testing if installed package can be loaded from final location
** testing if installed package keeps a record of temporary installation path
install for x64
* installing *source* package 'SMITE' ...
** testing if installed package can be loaded
* MD5 sums
packaged installation of 'SMITE' as SMITE_1.22.0.zip
* DONE (SMITE)