| Back to Multiple platform build/check report for BioC 3.14 |
|
This page was generated on 2022-04-13 12:05:58 -0400 (Wed, 13 Apr 2022).
| Hostname | OS | Arch (*) | R version | Installed pkgs |
|---|---|---|---|---|
| nebbiolo2 | Linux (Ubuntu 20.04.4 LTS) | x86_64 | 4.1.3 (2022-03-10) -- "One Push-Up" | 4324 |
| tokay2 | Windows Server 2012 R2 Standard | x64 | 4.1.3 (2022-03-10) -- "One Push-Up" | 4077 |
| machv2 | macOS 10.14.6 Mojave | x86_64 | 4.1.3 (2022-03-10) -- "One Push-Up" | 4137 |
| Click on any hostname to see more info about the system (e.g. compilers) (*) as reported by 'uname -p', except on Windows and Mac OS X | ||||
|
To the developers/maintainers of the SLGI package: - Please allow up to 24 hours (and sometimes 48 hours) for your latest push to git@git.bioconductor.org:packages/SLGI.git to reflect on this report. See How and When does the builder pull? When will my changes propagate? for more information. - Make sure to use the following settings in order to reproduce any error or warning you see on this page. |
| Package 1817/2083 | Hostname | OS / Arch | INSTALL | BUILD | CHECK | BUILD BIN | ||||||||
| SLGI 1.54.0 (landing page) Nolwenn Le Meur
| nebbiolo2 | Linux (Ubuntu 20.04.4 LTS) / x86_64 | OK | OK | OK | |||||||||
| tokay2 | Windows Server 2012 R2 Standard / x64 | OK | OK | OK | OK | |||||||||
| machv2 | macOS 10.14.6 Mojave / x86_64 | OK | OK | OK | OK | |||||||||
| Package: SLGI |
| Version: 1.54.0 |
| Command: /home/biocbuild/bbs-3.14-bioc/R/bin/R CMD check --install=check:SLGI.install-out.txt --library=/home/biocbuild/bbs-3.14-bioc/R/library --no-vignettes --timings SLGI_1.54.0.tar.gz |
| StartedAt: 2022-04-12 09:25:21 -0400 (Tue, 12 Apr 2022) |
| EndedAt: 2022-04-12 09:28:22 -0400 (Tue, 12 Apr 2022) |
| EllapsedTime: 181.7 seconds |
| RetCode: 0 |
| Status: OK |
| CheckDir: SLGI.Rcheck |
| Warnings: 0 |
##############################################################################
##############################################################################
###
### Running command:
###
### /home/biocbuild/bbs-3.14-bioc/R/bin/R CMD check --install=check:SLGI.install-out.txt --library=/home/biocbuild/bbs-3.14-bioc/R/library --no-vignettes --timings SLGI_1.54.0.tar.gz
###
##############################################################################
##############################################################################
* using log directory ‘/home/biocbuild/bbs-3.14-bioc/meat/SLGI.Rcheck’
* using R version 4.1.3 (2022-03-10)
* using platform: x86_64-pc-linux-gnu (64-bit)
* using session charset: UTF-8
* using option ‘--no-vignettes’
* checking for file ‘SLGI/DESCRIPTION’ ... OK
* this is package ‘SLGI’ version ‘1.54.0’
* checking package namespace information ... OK
* checking package dependencies ... OK
* checking if this is a source package ... OK
* checking if there is a namespace ... OK
* checking for hidden files and directories ... OK
* checking for portable file names ... OK
* checking for sufficient/correct file permissions ... OK
* checking whether package ‘SLGI’ can be installed ... OK
* checking installed package size ... NOTE
installed size is 16.0Mb
sub-directories of 1Mb or more:
data 4.2Mb
extdata 11.3Mb
* checking package directory ... OK
* checking ‘build’ directory ... OK
* checking DESCRIPTION meta-information ... NOTE
Malformed Description field: should contain one or more complete sentences.
Packages listed in more than one of Depends, Imports, Suggests, Enhances:
‘ScISI’ ‘lattice’ ‘GO.db’
A package should be listed in only one of these fields.
* checking top-level files ... OK
* checking for left-over files ... OK
* checking index information ... OK
* checking package subdirectories ... OK
* checking R files for non-ASCII characters ... OK
* checking R files for syntax errors ... OK
* checking whether the package can be loaded ... OK
* checking whether the package can be loaded with stated dependencies ... OK
* checking whether the package can be unloaded cleanly ... OK
* checking whether the namespace can be loaded with stated dependencies ... OK
* checking whether the namespace can be unloaded cleanly ... OK
* checking dependencies in R code ... NOTE
'library' or 'require' call to ‘GO.db’ in package code.
Please use :: or requireNamespace() instead.
See section 'Suggested packages' in the 'Writing R Extensions' manual.
* checking S3 generic/method consistency ... OK
* checking replacement functions ... OK
* checking foreign function calls ... OK
* checking R code for possible problems ... OK
* checking Rd files ... OK
* checking Rd metadata ... OK
* checking Rd cross-references ... OK
* checking for missing documentation entries ... OK
* checking for code/documentation mismatches ... OK
* checking Rd \usage sections ... OK
* checking Rd contents ... OK
* checking for unstated dependencies in examples ... OK
* checking contents of ‘data’ directory ... OK
* checking data for non-ASCII characters ... OK
* checking data for ASCII and uncompressed saves ... OK
* checking files in ‘vignettes’ ... OK
* checking examples ... OK
Examples with CPU (user + system) or elapsed time > 5s
user system elapsed
iSummary 11.397 0.260 11.658
siResult-class 6.992 0.096 7.089
modelSLGI 6.375 0.148 6.523
plot 6.014 0.104 6.118
compare 5.825 0.132 5.956
* checking for unstated dependencies in vignettes ... OK
* checking package vignettes in ‘inst/doc’ ... OK
* checking running R code from vignettes ... SKIPPED
* checking re-building of vignette outputs ... SKIPPED
* checking PDF version of manual ... OK
* DONE
Status: 3 NOTEs
See
‘/home/biocbuild/bbs-3.14-bioc/meat/SLGI.Rcheck/00check.log’
for details.
SLGI.Rcheck/00install.out
############################################################################## ############################################################################## ### ### Running command: ### ### /home/biocbuild/bbs-3.14-bioc/R/bin/R CMD INSTALL SLGI ### ############################################################################## ############################################################################## * installing to library ‘/home/biocbuild/bbs-3.14-bioc/R/library’ * installing *source* package ‘SLGI’ ... ** using staged installation ** R ** data ** inst ** byte-compile and prepare package for lazy loading No methods found in package ‘BiocGenerics’ for request: ‘plot’ when loading ‘SLGI’ ** help *** installing help indices ** building package indices ** installing vignettes ** testing if installed package can be loaded from temporary location No methods found in package ‘BiocGenerics’ for request: ‘plot’ when loading ‘SLGI’ ** testing if installed package can be loaded from final location No methods found in package ‘BiocGenerics’ for request: ‘plot’ when loading ‘SLGI’ ** testing if installed package keeps a record of temporary installation path * DONE (SLGI)
SLGI.Rcheck/SLGI-Ex.timings
| name | user | system | elapsed | |
| Atong | 0.024 | 0.000 | 0.023 | |
| AtongFnDomain | 3.053 | 0.136 | 3.189 | |
| AtongPair | 0.037 | 0.020 | 0.057 | |
| SDL | 0.005 | 0.000 | 0.005 | |
| SGA | 0.005 | 0.000 | 0.005 | |
| SGD.SL | 0.116 | 0.008 | 0.124 | |
| TFmat | 0.064 | 0.000 | 0.065 | |
| byComplex | 0.855 | 0.092 | 0.947 | |
| comemberIn | 0.560 | 0.032 | 0.592 | |
| compare | 5.825 | 0.132 | 5.956 | |
| congruence | 0.002 | 0.000 | 0.002 | |
| createSquareMatrix | 0.02 | 0.02 | 0.04 | |
| domainDist | 1.778 | 0.044 | 1.822 | |
| essglist | 0.007 | 0.000 | 0.008 | |
| getInteraction | 0.002 | 0.000 | 0.002 | |
| getSharedDomains | 0.014 | 0.000 | 0.013 | |
| getSharedInteraction | 0.001 | 0.000 | 0.002 | |
| getTestedPairs | 0.008 | 0.000 | 0.008 | |
| getUniquePairs | 0.011 | 0.000 | 0.010 | |
| gi2005 | 0.033 | 0.006 | 0.039 | |
| gi2007 | 0.102 | 0.005 | 0.108 | |
| gi2Interactome | 0.001 | 0.000 | 0.000 | |
| hyperG | 0.006 | 0.000 | 0.005 | |
| iSummary | 11.397 | 0.260 | 11.658 | |
| modelSLGI | 6.375 | 0.148 | 6.523 | |
| normInteraction | 3.093 | 0.056 | 3.149 | |
| plot | 6.014 | 0.104 | 6.118 | |
| seqMatcherAlign | 0.000 | 0.000 | 0.001 | |
| sharedBy | 1.983 | 0.036 | 2.019 | |
| sharedInt | 0.003 | 0.000 | 0.002 | |
| siResult-class | 6.992 | 0.096 | 7.089 | |
| test2Interact | 0.000 | 0.002 | 0.002 | |
| topInteraction | 3.679 | 0.033 | 3.712 | |
| twoWayTable | 2.498 | 0.064 | 2.562 | |
| withinComplex | 0.473 | 0.012 | 0.485 | |